BEGIN:VCALENDAR
VERSION:2.0
PRODID:-//Twin Cities Pride - ECPv6.13.2.1//NONSGML v1.0//EN
CALSCALE:GREGORIAN
METHOD:PUBLISH
X-WR-CALNAME:Twin Cities Pride
X-ORIGINAL-URL:https://tcpride.org
X-WR-CALDESC:Events for Twin Cities Pride
REFRESH-INTERVAL;VALUE=DURATION:PT1H
X-Robots-Tag:noindex
X-PUBLISHED-TTL:PT1H
BEGIN:VTIMEZONE
TZID:America/Chicago
BEGIN:DAYLIGHT
TZOFFSETFROM:-0600
TZOFFSETTO:-0500
TZNAME:CDT
DTSTART:20250309T080000
END:DAYLIGHT
BEGIN:STANDARD
TZOFFSETFROM:-0500
TZOFFSETTO:-0600
TZNAME:CST
DTSTART:20251102T070000
END:STANDARD
END:VTIMEZONE
BEGIN:VEVENT
DTSTART;TZID=America/Chicago:20251010T170000
DTEND;TZID=America/Chicago:20251010T200000
DTSTAMP:20260422T212045
CREATED:20250922T153941Z
LAST-MODIFIED:20250923T182456Z
UID:110392-1760115600-1760126400@tcpride.org
SUMMARY:"As Above\, So Below" Gallery Opening
DESCRIPTION:“As Above\, So Below” by Morgan LaCasse (@morguedesign) opens at the Pride Cultural Arts Center on October 10th\, 5-8pm. \n“As above\, so below” is a concept that drives many mystical traditions\, including tarot and astrology: the idea that there’s a connection between the higher universe and our small\, human lives below. Understanding one can lead to insights about the other. But engaging with divination doesn’t require spirituality or knowledge about traditions. The major themes and symbols in tarot\, standardized by the Rider-Waite-Smith Deck\, represent universal feelings\, experiences\, and relationships that have inspired thousands of tarot deck illustration projects\, including one by Morgue. This gallery marks the halfway point of their project\, with ~40 oversized prints that re-interpret the RWS cards through the lens of pop culture and video games to create a whimsical interpretation of the classic archetypes. \nThis Arts & Culture Vibrant Storefronts is funded\, in part\, by the City of Minneapolis Arts & Cultural Affairs Department.
URL:https://tcpride.org/event/as-above-so-below-gallery-opening/
LOCATION:Pride Cultural Arts Center\, 1201 Harmon Pl\, Minneapolis\, 55403\, United States
CATEGORIES:Artist in Residence
ATTACH;FMTTYPE=image/png:https://tcpride.org/wp-content/uploads/2025/09/morgue_promo_web-1.png
END:VEVENT
END:VCALENDAR