BEGIN:VCALENDAR
VERSION:2.0
PRODID:-//Twin Cities Pride - ECPv6.13.2.1//NONSGML v1.0//EN
CALSCALE:GREGORIAN
METHOD:PUBLISH
X-WR-CALNAME:Twin Cities Pride
X-ORIGINAL-URL:https://tcpride.org
X-WR-CALDESC:Events for Twin Cities Pride
REFRESH-INTERVAL;VALUE=DURATION:PT1H
X-Robots-Tag:noindex
X-PUBLISHED-TTL:PT1H
BEGIN:VTIMEZONE
TZID:America/Chicago
BEGIN:DAYLIGHT
TZOFFSETFROM:-0600
TZOFFSETTO:-0500
TZNAME:CDT
DTSTART:20250309T080000
END:DAYLIGHT
BEGIN:STANDARD
TZOFFSETFROM:-0500
TZOFFSETTO:-0600
TZNAME:CST
DTSTART:20251102T070000
END:STANDARD
END:VTIMEZONE
BEGIN:VEVENT
DTSTART;TZID=America/Chicago:20250407T190000
DTEND;TZID=America/Chicago:20250407T200000
DTSTAMP:20260422T170933
CREATED:20250404T011316Z
LAST-MODIFIED:20250404T011316Z
UID:72926-1744052400-1744056000@tcpride.org
SUMMARY:April Twin Cities Pride Board Meeting
DESCRIPTION:April Public Twin Cities Pride Board Meeting. \n\nJoin the meeting now \nMeeting ID: 224 079 030 804 \nPasscode: kY6Kj2Nu \nDial in by phone \n+1 872-242-7755\,\,576818081# United States\, Chicago \nFind a local number \nPhone conference ID: 576 818 081# \nFor organizers: Meeting options | Reset dial-in PIN
URL:https://tcpride.org/event/april-twin-cities-pride-board-meeting-2/
LOCATION:Twin Cities Pride Office\, 1618 Harmon Place\, Minneapolis\, MN\, 55403\, United States
CATEGORIES:Board Meetings
END:VEVENT
END:VCALENDAR