BEGIN:VCALENDAR
VERSION:2.0
PRODID:-//Twin Cities Pride - ECPv6.13.2.1//NONSGML v1.0//EN
CALSCALE:GREGORIAN
METHOD:PUBLISH
X-WR-CALNAME:Twin Cities Pride
X-ORIGINAL-URL:https://tcpride.org
X-WR-CALDESC:Events for Twin Cities Pride
REFRESH-INTERVAL;VALUE=DURATION:PT1H
X-Robots-Tag:noindex
X-PUBLISHED-TTL:PT1H
BEGIN:VTIMEZONE
TZID:America/Chicago
BEGIN:DAYLIGHT
TZOFFSETFROM:-0600
TZOFFSETTO:-0500
TZNAME:CDT
DTSTART:20230312T080000
END:DAYLIGHT
BEGIN:STANDARD
TZOFFSETFROM:-0500
TZOFFSETTO:-0600
TZNAME:CST
DTSTART:20231105T070000
END:STANDARD
END:VTIMEZONE
BEGIN:VEVENT
DTSTART;TZID=America/Chicago:20230202T190000
DTEND;TZID=America/Chicago:20230202T220000
DTSTAMP:20260422T042323
CREATED:20230112T211142Z
LAST-MODIFIED:20230130T202020Z
UID:35184-1675364400-1675375200@tcpride.org
SUMMARY:A Night at the Movies with QUEERSPACE collective and Flip the Script!
DESCRIPTION:Join QUEERSPACE collective and Flip the Script on Thursday\, February 2nd for a special screening of P.S. BURN THIS LETTER PLEASE\, featuring a post-show community conversation with Zaylore Stout\, Sasha Cassadine\, Lady C Cassadine\, and Loring Mitchell! \nAbout the film: A box of letters\, held in secret for nearly 60 years\, opens a window into a forgotten world where being yourself meant breaking the law and where the penalties for “masquerading” as a woman were swift and severe. Using original interviews\, never-before-seen archival footage and photographs and stylized recreations\, P.S. BURN THIS LETTER PLEASE reconstructs pre-Stonewall era New York City. The government sought to destroy them\, then history tried to erase them\, now they get to tell their story for the first time. \nClick here to purchase tickets! \n\nVIP ticket – $50 (includes a complimentary drink and early seating)\nGeneral admission – $20\nYouth (17 & under) – $12\n\nCan’t attend the physical event but you’d still love to see the film? No worries\, you can stream the film in our Virtual Theater! \n\nVirtual ticket – $10\n\n6:00PM – VIP Early Entry\n6:30PM – General Entry \n7PM – Show begins \nLUSH Lounge & Theater\, 990 NE Central Ave\, Minneapolis\, MN 55413 \nContent Advisory: Mention of marginalization\, mention of erasure\, mention + brief imagery of arrests\, imagery of smoking\, mention + imagery of intimacy (kissing\, hugging\, etc.)\, mention of undesirable military discharge\, mention of discrimination\, brief use of dated terminology\, mention of organized crime\, mention of sex work\, mention of gender transition
URL:https://tcpride.org/event/a-night-at-the-movies-with-queerspace-collective-and-flip-the-script/
LOCATION:Lush Lounge and Theater\, 990 NE Central Ave\, Minneapolis\, MN\, 55413\, United States
CATEGORIES:Community Events,Movies
ATTACH;FMTTYPE=image/png:https://tcpride.org/wp-content/uploads/2023/01/Copy-of-A-Night-at-the-Movies.png
ORGANIZER;CN="QUEERSPACE collective":MAILTO:info@queerspacecollective.org
END:VEVENT
END:VCALENDAR