BEGIN:VCALENDAR
VERSION:2.0
PRODID:-//Twin Cities Pride - ECPv6.13.2.1//NONSGML v1.0//EN
CALSCALE:GREGORIAN
METHOD:PUBLISH
X-ORIGINAL-URL:https://tcpride.org
X-WR-CALDESC:Events for Twin Cities Pride
REFRESH-INTERVAL;VALUE=DURATION:PT1H
X-Robots-Tag:noindex
X-PUBLISHED-TTL:PT1H
BEGIN:VTIMEZONE
TZID:America/Chicago
BEGIN:DAYLIGHT
TZOFFSETFROM:-0600
TZOFFSETTO:-0500
TZNAME:CDT
DTSTART:20230312T080000
END:DAYLIGHT
BEGIN:STANDARD
TZOFFSETFROM:-0500
TZOFFSETTO:-0600
TZNAME:CST
DTSTART:20231105T070000
END:STANDARD
END:VTIMEZONE
BEGIN:VEVENT
DTSTART;TZID=America/Chicago:20230624T170000
DTEND;TZID=America/Chicago:20230724T220000
DTSTAMP:20260421T210716
CREATED:20230608T201447Z
LAST-MODIFIED:20230608T201447Z
UID:37857-1687626000-1690236000@tcpride.org
SUMMARY:Palmer's Pride Party
DESCRIPTION:Minniaux presents our first pride event live from that patio of Palmer’s Bar in Minneapolis. Please join us for a party of love\, beautiful vibes and live music. DJ Nanobyte will provide the sounds and spins\, as we are joined by seven amazing artists of all different backgrounds. They will rock out live!
URL:https://tcpride.org/event/palmers-pride-party-2023/
LOCATION:Palmer’s Bar\, 500 Cedar Ave\, Minneapolis\, MN\, 55454\, United States
CATEGORIES:Community Events
ATTACH;FMTTYPE=image/jpeg:https://tcpride.org/wp-content/uploads/2023/06/palmers.jpeg
ORGANIZER;CN="Minniaux":MAILTO:minniaux@gmail.com
END:VEVENT
BEGIN:VEVENT
DTSTART;VALUE=DATE:20230625
DTEND;VALUE=DATE:20230709
DTSTAMP:20260421T210716
CREATED:20230428T195111Z
LAST-MODIFIED:20230502T133050Z
UID:36450-1687662000-1688785199@tcpride.org
SUMMARY:Camp True Colors - Transgender\, non-binary and gender expansive  youth - Ages 12-17
DESCRIPTION:Camp True Colors is a place designed just for LGBTQ+ youth\, where you can have fun and enjoy summer camp activities in a welcoming environment\, while building community with peers and adults with similar shared experiences. \nOne Heartland – oneheartland.org
URL:https://tcpride.org/event/camp-true-colors-transgender-non-binary-and-gender-expansive-youth-ages-12-17/
LOCATION:MN
CATEGORIES:Community Events
ATTACH;FMTTYPE=image/png:https://tcpride.org/wp-content/uploads/2023/04/CAMP-TRUE-COLORS-FINAL-FULL-COLOR-1.png
END:VEVENT
BEGIN:VEVENT
DTSTART;TZID=America/Chicago:20230708T100000
DTEND;TZID=America/Chicago:20230708T163000
DTSTAMP:20260421T210716
CREATED:20230327T143111Z
LAST-MODIFIED:20230327T143111Z
UID:36024-1688810400-1688833800@tcpride.org
SUMMARY:WSP Pride
DESCRIPTION:Celebrate your pride for the LGBTQIA+ community in West St. Paul!
URL:https://tcpride.org/event/wsp-pride-2023/
LOCATION:West Saint Paul Sports Complex\, 1650 Oakdale Ave\, West Saint Paul\, MN\, 55118\, United States
CATEGORIES:Community Events,Pride Festivals
ATTACH;FMTTYPE=image/png:https://tcpride.org/wp-content/uploads/2023/03/WSP_Pride_final.png
END:VEVENT
BEGIN:VEVENT
DTSTART;VALUE=DATE:20230716
DTEND;VALUE=DATE:20230723
DTSTAMP:20260421T210716
CREATED:20230428T195642Z
LAST-MODIFIED:20230502T133051Z
UID:36454-1689476400-1689994799@tcpride.org
SUMMARY:Camp True Colors - Transgender\, non-binary and gender expansive youth - Ages 7-15
DESCRIPTION:Camp True Colors is a place designed just for LGBTQ+ youth\, where you can have fun and enjoy summer camp activities in a welcoming environment\, while building community with peers and adults with similar shared experiences. \nOne Heartland – oneheartland.org
URL:https://tcpride.org/event/camp-true-colors-transgender-non-binary-and-gender-expansive-youth-ages-7-15/
LOCATION:MN
CATEGORIES:Community Events
ATTACH;FMTTYPE=image/png:https://tcpride.org/wp-content/uploads/2023/04/CAMP-TRUE-COLORS-FINAL-FULL-COLOR-2.png
END:VEVENT
BEGIN:VEVENT
DTSTART;TZID=America/Chicago:20230721T183000
DTEND;TZID=America/Chicago:20230721T213000
DTSTAMP:20260421T210716
CREATED:20230627T205421Z
LAST-MODIFIED:20230627T205421Z
UID:38524-1689964200-1689975000@tcpride.org
SUMMARY:SCMP LGBTQIA+ Pool Party
DESCRIPTION:Join South Central Minnesota Pride for the 2nd annual LGBTQIA+ Pool Party! Enjoy some time in the pool at the North Mankato Swim Facility. This is will be a private event where you can feel safe and comfortable to be you! LGBTQIA+ youth\, adults\, and allies are welcome. The pool is open 6:30-8:30pm and the party will continue to 9:30pm in the warming house. The concession stand and bar will be open all night. This event is free will donation at the door to help support the party and future events!
URL:https://tcpride.org/event/scmp-lgbtqia-pool-party-2023/
LOCATION:North Mankato Swim Facility\, 641 Webster Avenue\, North Mankato\, MN\, 56003\, United States
CATEGORIES:Community Events,Fundraisers
ATTACH;FMTTYPE=image/jpeg:https://tcpride.org/wp-content/uploads/2023/06/LGBTQIA-POOL-PARTY-Facebook-Event-Cover.jpg
ORGANIZER;CN="South Central MN Pride":MAILTO:festival@scmnpride.org
END:VEVENT
BEGIN:VEVENT
DTSTART;VALUE=DATE:20230723
DTEND;VALUE=DATE:20230806
DTSTAMP:20260421T210716
CREATED:20230428T195856Z
LAST-MODIFIED:20230502T133052Z
UID:36458-1690081200-1691204399@tcpride.org
SUMMARY:Camp True Colors - All LGBTQ+ youth - Ages 12-17
DESCRIPTION:Camp True Colors is a place designed just for LGBTQ+ youth\, where you can have fun and enjoy summer camp activities in a welcoming environment\, while building community with peers and adults with similar shared experiences. \noneheartland.org \n 
URL:https://tcpride.org/event/camp-true-colors-all-lgbtq-youth-ages-12-17/
LOCATION:MN
CATEGORIES:Community Events
ATTACH;FMTTYPE=image/png:https://tcpride.org/wp-content/uploads/2023/04/CAMP-TRUE-COLORS-FINAL-FULL-COLOR-3.png
END:VEVENT
BEGIN:VEVENT
DTSTART;TZID=America/Chicago:20230729T130000
DTEND;TZID=America/Chicago:20230729T143000
DTSTAMP:20260421T210716
CREATED:20230703T192022Z
LAST-MODIFIED:20230703T192022Z
UID:38564-1690635600-1690641000@tcpride.org
SUMMARY:POWER: All Ages Drag Show
DESCRIPTION:Luzious Entertainment is proud to present the POWER’s All Ages Show at Can Can Wonderland in St. Paul. This show will be fun for all ages and feature performances by local queer youth. Hosted by media personality Lala Luzious (Jay Leno’s You Bet Your Life)\, don’t miss fun performances by Kylieee with 3 E’s\, Kiki Galore\, Dick VonDyke\, Michelle Cassadine\, and Spectrum St. Variety. $12 cover per person which includes full entry to the arcade Can Can Wonderland!
URL:https://tcpride.org/event/power-all-ages-drag-show-2/
LOCATION:Can Can Wonderland\, 755 Prior Ave N\, St. Paul\, MN\, 55104\, United States
CATEGORIES:Community Events
ATTACH;FMTTYPE=image/jpeg:https://tcpride.org/wp-content/uploads/2023/06/Untitled-Facebook-Cover-1-scaled.jpg
ORGANIZER;CN="POWER%3A Drag Revue":MAILTO:info@luziousentertainment.com
END:VEVENT
END:VCALENDAR