BEGIN:VCALENDAR
VERSION:2.0
PRODID:-//Twin Cities Pride - ECPv6.13.2.1//NONSGML v1.0//EN
CALSCALE:GREGORIAN
METHOD:PUBLISH
X-ORIGINAL-URL:https://tcpride.org
X-WR-CALDESC:Events for Twin Cities Pride
REFRESH-INTERVAL;VALUE=DURATION:PT1H
X-Robots-Tag:noindex
X-PUBLISHED-TTL:PT1H
BEGIN:VTIMEZONE
TZID:America/Chicago
BEGIN:DAYLIGHT
TZOFFSETFROM:-0600
TZOFFSETTO:-0500
TZNAME:CDT
DTSTART:20230312T080000
END:DAYLIGHT
BEGIN:STANDARD
TZOFFSETFROM:-0500
TZOFFSETTO:-0600
TZNAME:CST
DTSTART:20231105T070000
END:STANDARD
END:VTIMEZONE
BEGIN:VEVENT
DTSTART;TZID=America/Chicago:20230905T190000
DTEND;TZID=America/Chicago:20230905T210000
DTSTAMP:20260421T182601
CREATED:20230823T184625Z
LAST-MODIFIED:20230823T184625Z
UID:39026-1693940400-1693947600@tcpride.org
SUMMARY:Roxy’s TCQHA Charity Bingo & Drag Show Fundraiser
DESCRIPTION:Register here to reserve your spot (space is limited). Registration is FREE\, with a $10 suggested donation that goes 100% to TCQHA. They need us to register so they plan for the correct amount of staff. A full meal and drink menu is available! \nhttps://www.exploretock.com/the-nicollet-diner-and-roxys-cabaret-minneapolis/event/373276/drag-queen-bingo-for-st-jude \nRoxy’s Cabaret \n1333 Nicollet Ave \nMinneapolis\, MN 55403 \nPlease join TCQHA at Roxy’s in the Cabaret for some Food\, Fun\, Fabulosity & FUNDRAISING for our scholarship fund that helps provide gear and ice time for Queer & Trans players who can’t afford to play without a scholarship.  \nRoxy’s features a different local non-profit each week to raise money for them by playing BINGO! There will be amazing prizes and performances by your hosts Nina DiAngelo and Monica West. There is a $10 suggested donation and we play about 10 games of Bingo\, on our HUGE LED wall! See you there! \nThe Bingo cards are $10 each.  You can play as many cards as you would like. 100% of the money goes to TCQHA that day.  \nWe will also be doing a 50/50 raffle for 5 each 3 for $10. The cost of the raffle tickets will be $1 each or 10 for $5. The winner get 50% of the pot and TCQHA gets the other 50%. \nAlong with the 50/50 raffle we will have a second raffle to give away MN Wild merch\, TCQHA merch\, a Team Trans merch bag and other fun prizes! 100% of the money goes to TCQHA that day.  \nIf you have any questions feel free to text Dani at 612-554-2365! \nThanks\, \nDani
URL:https://tcpride.org/event/roxys-tcqha-charity-bingo-drag-show-fundraiser/
LOCATION:Roxy’s Cabaret\, 1333 Nicollet Mall\, Minneapolis
CATEGORIES:Community Events,Fundraisers
ATTACH;FMTTYPE=image/jpeg:https://tcpride.org/wp-content/uploads/2023/08/06887B56-988A-46D4-B660-E1A37029154A.jpeg
ORGANIZER;CN="TCQHA Twin Cities Queer Hockey Association":MAILTO:TCQHA.info@gmail.com
END:VEVENT
BEGIN:VEVENT
DTSTART;TZID=America/Chicago:20230907T193000
DTEND;TZID=America/Chicago:20230910T160000
DTSTAMP:20260421T182601
CREATED:20230627T205508Z
LAST-MODIFIED:20230627T205508Z
UID:38521-1694115000-1694361600@tcpride.org
SUMMARY:Mankato Pride
DESCRIPTION:Look forward to this year’s Mankato Pridefest on September 7-10th\, 2023. There are events during the week – Drag Bingo\, Queeraoke\, Drag Brunch\, Youth Party and more – with the parade and festival on Saturday\, September 9th. This year\, we’re striving to Be Visible\, Be Heard\, and Be Proud! Learn more at scmnpride.org.
URL:https://tcpride.org/event/mankato-pride-2023/
LOCATION:Riverfront Park\, 309 W Rock St\, Mankato\,\, MN\, 56001\, United States
CATEGORIES:Community Events,Pride Festivals
ATTACH;FMTTYPE=image/png:https://tcpride.org/wp-content/uploads/2023/06/Pride-2023-civic-website.png
ORGANIZER;CN="South Central MN Pride":MAILTO:festival@scmnpride.org
END:VEVENT
BEGIN:VEVENT
DTSTART;TZID=America/Chicago:20230908T150000
DTEND;TZID=America/Chicago:20230910T120000
DTSTAMP:20260421T182601
CREATED:20230331T173106Z
LAST-MODIFIED:20230331T173106Z
UID:36085-1694185200-1694347200@tcpride.org
SUMMARY:Northern Minnesota CampOUT Weekend (September 8-10)
DESCRIPTION:We’ve designed two weekends this season dedicated to providing members of the LGBTQ community a safe space to gather and enjoy the great outdoors of Minnesota’s Iron Range!\n\nThe first weekend will be held in connection with Pride month on the weekend of June 2-4\, the weekend after Memorial Day. The second weekend will be held at the end of summer on September 8-10\, the weekend after Labor Day. Both weekends have their own dedicated Group Code to book your campsite included on our information page.\n\nTell your friends. Bring your best Judy. Come help us raise money to support our local\, Iron Ranger Pride events. Most of all\, enjoy the great outdoors in Northern Minnesota at the only gay-owned campground in the state!
URL:https://tcpride.org/event/northern-minnesota-campout-weekend-september-8-10/
LOCATION:West Forty RV Park & Campground\, 245 Highway 37\, Gilbert\, MN\, 55741\, United States
CATEGORIES:Community Events
ATTACH;FMTTYPE=image/jpeg:https://tcpride.org/wp-content/uploads/2023/03/CampOUT-June-2023-Ad-1.jpg
ORGANIZER;CN="West Forty RV Park  Campground":MAILTO:west40rv@gmail.com
END:VEVENT
BEGIN:VEVENT
DTSTART;TZID=America/Chicago:20230909T160000
DTEND;TZID=America/Chicago:20230909T180000
DTSTAMP:20260421T182601
CREATED:20230823T184556Z
LAST-MODIFIED:20230823T184556Z
UID:39012-1694275200-1694282400@tcpride.org
SUMMARY:Wild Pride: Camping 101
DESCRIPTION:Are you curious about camping but unsure where to start\, or an experienced outdoorsperson with skills to share? Join friends and folks at Wild Pride for a camping crash course to gain confidence before your next outdoor adventure! With naturalist Allie Steffen as your guide\, you’ll learn basic survival needs\, practice setting up different types of tents\, spark and stoke your own campfire\, use camp stoves to make delicious meals\, and filter water for drinking. Celebrate your new wilderness skills with social time over a special campfire treat! \nThis program welcomes the LGBTQIA+ community and allies\, ages 15+. \nRegister online here! 
URL:https://tcpride.org/event/wild-pride-camping-101/
LOCATION:Dodge Nature Center\, 365 Marie Avenue W\, West St. Paul\, MN\, 55118\, United States
CATEGORIES:Community Events
ATTACH;FMTTYPE=image/png:https://tcpride.org/wp-content/uploads/2023/08/Program-Certificate_Wild-Pride-Camping_Event.png
ORGANIZER;CN="Dodge Nature Center":MAILTO:info@dodgenaturecenter.org
END:VEVENT
BEGIN:VEVENT
DTSTART;TZID=America/Chicago:20230914T100000
DTEND;TZID=America/Chicago:20230914T113000
DTSTAMP:20260421T182601
CREATED:20230823T184525Z
LAST-MODIFIED:20230823T184525Z
UID:38996-1694685600-1694691000@tcpride.org
SUMMARY:Senior Pride Brunch & Bingo in St. Cloud
DESCRIPTION:Join us for a fabulous Senior Pride Brunch & Bingo in St. Cloud\, celebrating love\, diversity\, and the vibrant LGBTQ+ community in Central Minnesota! \nThis exciting event is all about celebrating and honoring our amazing Senior LGBT Community. We invite you to come and enjoy a delightful brunch with fellow seniors in a warm and welcoming atmosphere. After brunch\, play Bingo with some local “celebrities” and businesses in our area for a chance to win some exciting prizes. \nThe celebration will take place on Thursday\, September 14th\, 2023 from 10:00 AM to 11:30 AM at the United Methodist Church of the St. Cloud Region located at 1107 Pine Cone Road South\, Sartell\, MN 56377. \nThis is a free event\, but you must register to attend. \nIn Partnership: St. Cloud Pride\, Rainbow Health\, Central MN Council on Aging\, CentraCare\, Whitney Senior Center\, and The Arc Minnesota
URL:https://tcpride.org/event/senior-pride-brunch-bingo-in-st-cloud-2023/
LOCATION:First United Methodist Church\, 1107 Pine Cone Road South\, Sartell\, MN\, 56377\, United States
CATEGORIES:Community Events
ATTACH;FMTTYPE=image/png:https://tcpride.org/wp-content/uploads/2023/08/Senior-Pride-Brunch-Bingo_Banner.png
ORGANIZER;CN="Rainbow Health":MAILTO:communications@rainbowhealth.org
END:VEVENT
BEGIN:VEVENT
DTSTART;TZID=America/Chicago:20230924T140000
DTEND;TZID=America/Chicago:20230924T163000
DTSTAMP:20260421T182601
CREATED:20230929T194057Z
LAST-MODIFIED:20230929T194057Z
UID:39069-1695564000-1695573000@tcpride.org
SUMMARY:AKS- Acceptance\, Kindness\, Support
DESCRIPTION:AKS\, meaning ‘reflection’\, is a show about self-discovery and resilience. This year SAATH presents a compelling story with diverse characters and powerful dance performances to celebrate trans joy- the delight of living authentically. \nVenue: The Cowles Center 528 Hennepin Ave Minneapolis\, MN 55403 \nShows: September 20\, 22\, 23 at 7:00pm and September 24 at 2:00p \nTicket Link: https: https://www.saathmn.org/aks
URL:https://tcpride.org/event/aks-acceptance-kindness-support/
LOCATION:The Cowles Center\, 528 Hennepin Ave\, Minneapolis\, MN\, 55403\, United States
CATEGORIES:Community Events
ATTACH;FMTTYPE=image/png:https://tcpride.org/wp-content/uploads/2023/08/Aks-Flyer-Front.png
ORGANIZER;CN="South Asian Arts &amp%3B Theater House":MAILTO:info@saathmn.org
END:VEVENT
BEGIN:VEVENT
DTSTART;VALUE=DATE:20230930
DTEND;VALUE=DATE:20231004
DTSTAMP:20260421T182601
CREATED:20230214T174515Z
LAST-MODIFIED:20230214T174525Z
UID:35592-1696042800-1696301999@tcpride.org
SUMMARY:BECAUSE
DESCRIPTION:BECAUSE (“Bi+ Empowerment Conference: A Uniting\, Supportive Experience”) is the annual conference of the Bisexual Organizing Project (BOP)\, dedicated to building empowered bi\, pan\, fluid\, queer\, unlabeled (bi+)\, and allied communities. The conference was founded in 1992 by a handful of bi+ activists and has grown into the largest conference centered around non-monosexual identities in the United States. BECAUSE strives to be welcoming and inclusive – embracing the many intersectionalities of the bi+ communities and encouraging people of all backgrounds and experiences to join us for this weekend full of networking\, community building\, education\, and organizing to create a more welcoming\, inclusive\, and equitable LGBTQIA community.
URL:https://tcpride.org/event/because-2023/
LOCATION:Wellstone Center\, St Paul\, MN\, United States
CATEGORIES:Community Events
ATTACH;FMTTYPE=image/jpeg:https://tcpride.org/wp-content/uploads/2023/02/Copy-of-BECAUSEHeaders_640x360.jpg
ORGANIZER;CN="Bisexual Organizing Project":MAILTO:because@bisexualorganizingconference.org
END:VEVENT
END:VCALENDAR