BEGIN:VCALENDAR
VERSION:2.0
PRODID:-//Twin Cities Pride - ECPv6.13.2.1//NONSGML v1.0//EN
CALSCALE:GREGORIAN
METHOD:PUBLISH
X-ORIGINAL-URL:https://tcpride.org
X-WR-CALDESC:Events for Twin Cities Pride
REFRESH-INTERVAL;VALUE=DURATION:PT1H
X-Robots-Tag:noindex
X-PUBLISHED-TTL:PT1H
BEGIN:VTIMEZONE
TZID:America/Chicago
BEGIN:DAYLIGHT
TZOFFSETFROM:-0600
TZOFFSETTO:-0500
TZNAME:CDT
DTSTART:20230312T080000
END:DAYLIGHT
BEGIN:STANDARD
TZOFFSETFROM:-0500
TZOFFSETTO:-0600
TZNAME:CST
DTSTART:20231105T070000
END:STANDARD
END:VTIMEZONE
BEGIN:VEVENT
DTSTART;TZID=America/Chicago:20231110T180000
DTEND;TZID=America/Chicago:20231112T180000
DTSTAMP:20260421T152613
CREATED:20231002T032253Z
LAST-MODIFIED:20231002T032253Z
UID:39305-1699639200-1699812000@tcpride.org
SUMMARY:PRIDE Spiel- Minnesota's First Pride Curling Bonspiel
DESCRIPTION:Let’s get ready to celebrate! Frogtown Curling Club is hosting Minnesota’s first PRIDE Spiel on November 10th-12th\, 2023. This 32-team event will celebrate LGBTQIA+ people and their allies in the sport of curling. ALL CURLERS WELCOME! We need our curling allies’ support by registering and participating in this exceptional event!\nPrepare yourselves for a colorful weekend of Pride and Positivity\, that includes: \n\n\n\n\n\n\nAmazing Raffles\nGames and Contests\nBloody Mary and Mimosa Bar\nDrag Entertainment\nWhat We Do Best… BRUNCH!\n…And So Much More!\n\n\n\n\n\nTeam registration fee is $100/person or $400/team (plus tax) and includes a 3-game guarantee. Don’t have a full team? You may register as free agents and we will match you up with a team. \nAll meals and beverages are included throughout the weekend.
URL:https://tcpride.org/event/pride-spiel-minnesotas-first-pride-curling-bonspiel/
LOCATION:Frogtown Curling Club\, 743 Western Avenue North\, St. Paul\, 55103\, United States
CATEGORIES:Community Events
ATTACH;FMTTYPE=image/png:https://tcpride.org/wp-content/uploads/2023/10/Artboard-1_Large.png
ORGANIZER;CN="Robb Flaherty-Wilcox":MAILTO:robbflahertywilcox@yahoo.com
END:VEVENT
END:VCALENDAR