BEGIN:VCALENDAR
VERSION:2.0
PRODID:-//Twin Cities Pride - ECPv6.13.2.1//NONSGML v1.0//EN
CALSCALE:GREGORIAN
METHOD:PUBLISH
X-ORIGINAL-URL:https://tcpride.org
X-WR-CALDESC:Events for Twin Cities Pride
REFRESH-INTERVAL;VALUE=DURATION:PT1H
X-Robots-Tag:noindex
X-PUBLISHED-TTL:PT1H
BEGIN:VTIMEZONE
TZID:America/Chicago
BEGIN:DAYLIGHT
TZOFFSETFROM:-0600
TZOFFSETTO:-0500
TZNAME:CDT
DTSTART:20240310T080000
END:DAYLIGHT
BEGIN:STANDARD
TZOFFSETFROM:-0500
TZOFFSETTO:-0600
TZNAME:CST
DTSTART:20241103T070000
END:STANDARD
END:VTIMEZONE
BEGIN:VEVENT
DTSTART;TZID=America/Chicago:20240204T090000
DTEND;TZID=America/Chicago:20240204T150000
DTSTAMP:20260421T110601
CREATED:20240203T205518Z
LAST-MODIFIED:20240203T205518Z
UID:41513-1707037200-1707058800@tcpride.org
SUMMARY:Rainbow Wardrobe Open House
DESCRIPTION:Come hang out this weekend at Twin Cities Pride’s zero cost\, gender affirming\, wardrobe open house!\nWe’re opening the office Saturday the 3rd and Sunday the 4th from 9:00am-3:00pm for an Open House Rainbow Wardrobe Event to allow for a more accessible experience. Come check out our supply of size and gender inclusive clothing\, shoes\, accessories\, winter wear\, toiletries\, gender affirming undergarments\, and more. \nWardrobe Open House\nSaturday February 3rd 9:00am-3:00pm\nSunday February 4th 9:00am-3:00pm\nTwin Cities Pride Office:\n1618 Harmon Place\, Minneapolis MN \nThis event will be ADA accessible!
URL:https://tcpride.org/event/rainbow-wardrobe-open-house/
LOCATION:Twin Cities Pride Office\, 1618 Harmon Place\, Minneapolis\, MN\, 55403\, United States
CATEGORIES:Community Events
ATTACH;FMTTYPE=image/png:https://tcpride.org/wp-content/uploads/2024/02/Screen-Shot-2024-02-03-at-2.45.29-PM.png
END:VEVENT
BEGIN:VEVENT
DTSTART;TZID=America/Chicago:20240217T180000
DTEND;TZID=America/Chicago:20240217T220000
DTSTAMP:20260421T110601
CREATED:20240126T193245Z
LAST-MODIFIED:20240126T193245Z
UID:41187-1708192800-1708207200@tcpride.org
SUMMARY:LGBTQ Women’s Valentine’s Dance
DESCRIPTION:Bring your sweetie or find your sweetie\, or just be sweet\, but come celebrate LOVE with us at our next LGBTQ Women’s Valentine’s Dance! Saturday\, February 17! 6 p.m. dinner/social hour\, 7-10 p.m dancing! $10 cash cover at the Minneapolis Eagle’s Club\, 2507 25th St. East! \nWe will have our first LIVE WOMEN’s BAND since before covid! “Drinkwine with Friends” will play for us! Come to dance\, come to listen! Either way\, be moved by the band’s fabulous energy and lovely music. Come hear what women can create together! \nJody will have her massage chair and her talented hands available for $1 a minute. \nBring items you would like to share for the “Give-n-Take” table. Clothing\, books\, jewelry\, household items\, etc. Be part of the sharing economy! \nIf you are self employed\, bring business cards for the community resources table. Flyers for events of interest to the LGBTQ community are also welcome. \nMost of all\, just come and have a good time! \nYou can also join the Facebook group Twin Cities Women’s Dances for more information. \nSee you on the dance floor! \nPlease note: “Women” is inclusive of cisgender and transgender women\, and folks who are non-binary who were once considered women. Lesbian\, bi/pansexual and heterosexual women friends and family are welcome\, if they are cool. Love wins! Haters can stay home!
URL:https://tcpride.org/event/lgbtq-womens-valentines-dance/
LOCATION:Eagles Club #34\, 2507 E. 25th St\, Minneapolis\, MN\, 55406\, United States
CATEGORIES:Community Events
ATTACH;FMTTYPE=image/jpeg:https://tcpride.org/wp-content/uploads/2024/01/Womens-dance-2024-Drinkwine-with-Friends-photo-flyer.jpg
ORGANIZER;CN="Twin Cities Women's Dances":MAILTO:katie.cashel.law@comcast.net
END:VEVENT
BEGIN:VEVENT
DTSTART;TZID=America/Chicago:20240218T130000
DTEND;TZID=America/Chicago:20240218T160000
DTSTAMP:20260421T110601
CREATED:20240126T193118Z
LAST-MODIFIED:20240126T193118Z
UID:41118-1708261200-1708272000@tcpride.org
SUMMARY:East Central Minnesota Pride’s Silver Social
DESCRIPTION:Inaugural elder LGBTQ+ event serving Pine\, Isanti\, Chisago\, Kanabec and Mille Lacs counties. \nPie Walk – Music – Drag BINGO \nAt the Braham Event Center\, 655 8th St. SW\, Braham\, MN 55006 \n**First 30 to arrive receive handcrafted Pride mug**
URL:https://tcpride.org/event/east-central-minnesota-prides-silver-social/
LOCATION:MN
CATEGORIES:Community Events
ATTACH;FMTTYPE=image/jpeg:https://tcpride.org/wp-content/uploads/2024/01/Pride-Logo-1.jpeg
ORGANIZER;CN="East Central MN Pride":MAILTO:eastcentralminnesotapride@gmail.com
END:VEVENT
BEGIN:VEVENT
DTSTART;TZID=America/Chicago:20240221T190000
DTEND;TZID=America/Chicago:20240221T210000
DTSTAMP:20260421T110601
CREATED:20240214T203456Z
LAST-MODIFIED:20240214T203456Z
UID:41988-1708542000-1708549200@tcpride.org
SUMMARY:RUSTIN - Celebrate Black History Month with OutFront Minnesota
DESCRIPTION:BLACK HISTORY MONTH SCREENING • WEDNESDAY\, FEBRUARY 21 AT 7:00PM\nUse code RUSTIN24 for a discount on tickets! \nJoin MSP Film Society and OutFront Minnesota for a special Black History Month screening of Rustin\, followed by a community conversation.\nThe architect of 1963’s momentous March on Washington\, Bayard Rustin was one of the greatest activists the world has ever known. He challenged authority\, never apologized for who he was\, what he believed\, or who he desired. He made history\, and in turn\, he was forgotten. \nStarring Oscar-Nominated actor Colman Domingo\, RUSTIN shines a long overdue spotlight on the extraordinary man who\, alongside giants like the Reverend Martin Luther King Jr.\, and Ella Baker\, dared to imagine a different world\, and inspired a movement in a march toward freedom.
URL:https://tcpride.org/event/rustin-celebrate-black-history-month-with-outfront-minnesota/
LOCATION:The Main Cinema\, 115 SE Main St\, Minneapolis\, MN\, 55414\, United States
CATEGORIES:Community Events,Movies
ATTACH;FMTTYPE=image/jpeg:https://tcpride.org/wp-content/uploads/2024/02/RUSTIN-1.jpg
ORGANIZER;CN="MSP Film Society":MAILTO:kendall@mspfilm.org
END:VEVENT
BEGIN:VEVENT
DTSTART;TZID=America/Chicago:20240223T190000
DTEND;TZID=America/Chicago:20240223T200000
DTSTAMP:20260421T110601
CREATED:20240126T193147Z
LAST-MODIFIED:20240126T193147Z
UID:41167-1708714800-1708718400@tcpride.org
SUMMARY:Twin Cities Queer Transplants
DESCRIPTION:Relocated to the Twin Cities? Drop by Quatrefoil Library on February 23rd from 7-8pm to meet other new people\, learn about local LGBTQIA+ resources\, share your favorite Twin Cities discoveries\, or just chat! Transplants\, family\, partners\, and locals all welcome.
URL:https://tcpride.org/event/twin-cities-queer-transplants/
LOCATION:Quatrefoil Library\, 1220 E Lake St\, Minneapolis\, MN\, 55407\, United States
CATEGORIES:Community Events
ATTACH;FMTTYPE=image/png:https://tcpride.org/wp-content/uploads/2024/01/TCQTP_Logo.png
END:VEVENT
BEGIN:VEVENT
DTSTART;TZID=America/Chicago:20240223T200000
DTEND;TZID=America/Chicago:20240223T213000
DTSTAMP:20260421T110601
CREATED:20240207T024152Z
LAST-MODIFIED:20240207T024152Z
UID:41726-1708718400-1708723800@tcpride.org
SUMMARY:Cara Connors: Live at the Comedy Corner Underground Minneapolis!
DESCRIPTION:Comedian Cara Connors (Just for Laughs\, Dating #NoFilter on Hulu\, Apple TV) returns to the Comedy Corner Underground after back-to-back sold-out shows last winter. With support by the incredible Sam Schedler \nIn 2023\, Cara filmed her first one-hour comedy special at the El Portal Theater in Los Angeles with Comedy Dynamics\, made her Edinburgh Festival Fringe debut at the Pleasance Courtyard\, and released her stand-up album\, Straight for Pay\, which was named one of Paste Magazine’s best comedy albums of 2023. \n“Hilariously acerbic. Connors’ vocal elasticity is truly a wonder\, immediately bringing to mind Adam Sandler’s goofy impressions. At other moments\, hearing Connors deliver a line in a strange\, high-pitched manner makes you feel like you’ve been dropped into a Broad City episode and Ilana’s doing a bit.“ Paste Magazine \n“Part Sandra Bernhard\, Part Kristen Wiig\, Part intangible\, undeniable charm… she’s a blast and a half who deserves to rock it into stardom.“ The Comics Comic \nA headliner at comedy shows across Los Angeles\, Cara also hosts a popular weekly queer showcase and has developed a cult following with her unique brand of high energy\, self-effacing\, and unapologetically fearless comedy. For more info\, check out caraconnors.com or IG/TikTok @caraconnscomedy
URL:https://tcpride.org/event/cara-connors-live-at-the-comedy-corner-underground-minneapolis/
LOCATION:Comedy Corner Underground\, 1501 Wa S Washington Ave\, Minneapolis\, MN\, 55454\, United States
CATEGORIES:Community Events,zzTCPride 2024 Events
ATTACH;FMTTYPE=image/jpeg:https://tcpride.org/wp-content/uploads/2024/02/cara-connors_11x17-scaled.jpg
END:VEVENT
BEGIN:VEVENT
DTSTART;TZID=America/Chicago:20240224T110000
DTEND;TZID=America/Chicago:20240224T160000
DTSTAMP:20260421T110601
CREATED:20240223T011457Z
LAST-MODIFIED:20240223T011457Z
UID:42281-1708772400-1708790400@tcpride.org
SUMMARY:WILD VNTG MRKT
DESCRIPTION:Join us Saturday\, February 24th from 11AM-4PM for the WILD VNTG MRKT \n– Handcrafted treasures from local LGBTQIA markers and tasty treats from bakers \nSales throughout Wild Things and the Wild Vintage Collective a proudly gay owned business \n– Several fabulous surprises throughout the day \nLocated at 7270 Commerce Circle East\, just off University\, about 15 minutes from downtown Minneapolis. \n 
URL:https://tcpride.org/event/wild-vntg-mrkt/
LOCATION:wild things antiques\, 7270 Commerce Circle East\, Fridley\, MN\, 55432\, United States
CATEGORIES:Community Events
ATTACH;FMTTYPE=image/jpeg:https://tcpride.org/wp-content/uploads/2024/02/IMG_5552.jpeg
ORGANIZER;CN="Wild Things":MAILTO:Contact@wildthingsantiques.com
END:VEVENT
END:VCALENDAR