BEGIN:VCALENDAR
VERSION:2.0
PRODID:-//Twin Cities Pride - ECPv6.13.2.1//NONSGML v1.0//EN
CALSCALE:GREGORIAN
METHOD:PUBLISH
X-ORIGINAL-URL:https://tcpride.org
X-WR-CALDESC:Events for Twin Cities Pride
REFRESH-INTERVAL;VALUE=DURATION:PT1H
X-Robots-Tag:noindex
X-PUBLISHED-TTL:PT1H
BEGIN:VTIMEZONE
TZID:America/Chicago
BEGIN:DAYLIGHT
TZOFFSETFROM:-0600
TZOFFSETTO:-0500
TZNAME:CDT
DTSTART:20240310T080000
END:DAYLIGHT
BEGIN:STANDARD
TZOFFSETFROM:-0500
TZOFFSETTO:-0600
TZNAME:CST
DTSTART:20241103T070000
END:STANDARD
END:VTIMEZONE
BEGIN:VEVENT
DTSTART;VALUE=DATE:20240328
DTEND;VALUE=DATE:20241015
DTSTAMP:20260421T065240
CREATED:20240328T212546Z
LAST-MODIFIED:20240328T212546Z
UID:43317-1711594800-1728874799@tcpride.org
SUMMARY:TOGETHER
DESCRIPTION:Together is a mixed media art exhibition featuring artwork from ten Minnesota artist families of diverse ages and family structures who have created individual and communal work for the exhibition. Artists Emmett and Kit Ramstad conceived this project to elevate children’s artwork and provide a space for parent artists to support each other as they fulfill the roles of parents and artists while raising a new generation of makers. Together uplifts mixed generational creativity by showcasing artists who have contributed hugely to Minnesota’s artistic community and their children who are integral influences to their practice. \n\n\n\n\nPARTICIPATING ARTISTS: \nSayge Carroll\, Morgan Laramy; Preston Drum\, Elvis and Leroy Drum; Isa Gagarin\, Rae Gordon; Pao Her\, Vince and Kailee Yang; Amanda Lovelee\, Walden Waites; Avigail Manneberg\, Kaiah and Micah Manneberg-Tompkins; Emmett Ramstad\, Kit Aizura Ramstad; Anna Marie Shogren\, Wally Glenn-Shogren; Aki Shibata\, Atom Shibata Pliner and Yukiko Shibata Colburn; Jonathan Thunder\,  Mino Hart Thunder
URL:https://tcpride.org/event/together/
LOCATION:the M (Minnesota Museum of American Art)\, 350 Robert Street North\, St Paul\, MN\, 55101\, United States
CATEGORIES:Community Events
ATTACH;FMTTYPE=image/png:https://tcpride.org/wp-content/uploads/2024/03/Asset-2.png
ORGANIZER;CN="the M (Minneosta Museum of American Art)":MAILTO:info@mmaa.org
END:VEVENT
BEGIN:VEVENT
DTSTART;TZID=America/Chicago:20240502T190000
DTEND;TZID=America/Chicago:20240502T200000
DTSTAMP:20260421T065240
CREATED:20240416T162333Z
LAST-MODIFIED:20240416T162333Z
UID:44051-1714676400-1714680000@tcpride.org
SUMMARY:Drag Bingo at The Clapping Monkey House of Coffee
DESCRIPTION:Drag Bingo at The Clapping Monkey House of Coffee hosted by Betty Bang and Tomi Saint James – Win gift cards and vintage prizes. Located at 7270 Commerce Circle East in Fridley\, MN. This is a sober\, all ages event.
URL:https://tcpride.org/event/drag-bingo-at-the-clapping-monkey-house-of-coffee/
LOCATION:The Clapping Monkey House of Coffee\, 7270 Commerce Circle East\, Fridley\, MN\, 55432\, United States
CATEGORIES:Community Events
ATTACH;FMTTYPE=image/png:https://tcpride.org/wp-content/uploads/2024/04/Betty-Bang@4x.png
ORGANIZER;CN="The Clapping Monkey House of Coffee":MAILTO:contact@wildthingsantiques.com
END:VEVENT
BEGIN:VEVENT
DTSTART;TZID=America/Chicago:20240504T130000
DTEND;TZID=America/Chicago:20240519T223000
DTSTAMP:20260421T065240
CREATED:20240327T210800Z
LAST-MODIFIED:20240327T210800Z
UID:43286-1714827600-1716157800@tcpride.org
SUMMARY:Harvey Fierstein’s “TORCH SONG”
DESCRIPTION:​Arnold Beckoff is a drag queen in New York City. What does he want in life? Happiness! A husband\, a child\, and respect from his Jewish mother! Taking place in the 1970/80s\, the award-winning comedy Torch Song Trilogy helped set the stage for the emergence of LGBTQIA+ rights and the fight for human dignity. Updated by the playwright in 2017\, with tenderness and great humor\, Torch Song reminds us how fragile those rights remain.\n\n\n       May 4 – 19\, 2024 \n\nTuesday\, 1 p.m.\, $26\nWednesdays\, 7:30 p.m.\, $27\nThursdays\, 7:30 p.m.\, $27\nSaturdays\, 8 p.m.\, $40\nSundays\, 1 p.m.\, $33\nSundays\, 7 p.m.\, $26\nStudent and Artist Rush: all performances $15
URL:https://tcpride.org/event/harvey-fiersteins-torch-song/
LOCATION:Highland Park Community Center Theater\, 1978 Ford Parkway\, St. Paul\, MN\, 55116\, United States
CATEGORIES:Community Events
ATTACH;FMTTYPE=image/png:https://tcpride.org/wp-content/uploads/2024/03/banner.png
ORGANIZER;CN="SixPointsTheater":MAILTO:communications@sixpointstheater.org
END:VEVENT
BEGIN:VEVENT
DTSTART;TZID=America/Chicago:20240505T100000
DTEND;TZID=America/Chicago:20240505T140000
DTSTAMP:20260421T065240
CREATED:20240422T023128Z
LAST-MODIFIED:20240422T023128Z
UID:44393-1714903200-1714917600@tcpride.org
SUMMARY:Vintage Car Show & WILD VNTG MRKT
DESCRIPTION:✨Cinco De Carro✨ – A vintage queer car show hosted by Wild Things and The Great Northern Region LGBTQIA car club on Sunday\, May 5th from 10AM-2PM on our parking lot! \n💥Amazing vintage and antique cars \n💥Space for you to swing your own vintage car by \n💥An additional WILD VNTG MRKT pop-up with vintage dealers in our parking lot \n💥Pin up photo contest hosted by Betty Bang \n💥Tasty treats by The Nerdy Baker \n💥 Tacos los 4 Carnales food truck \n💥 DJ Tony D spinning jams! \nWe are located at 7270 Commerce Circle E. in Fridley\, Minnesota. Just off University\, about 15 minutes from downtown Minneapolis.
URL:https://tcpride.org/event/vintage-car-show-wild-vntg-mrkt/
LOCATION:wild things antiques\, 7270 Commerce Circle East\, Fridley\, MN\, 55432\, United States
CATEGORIES:Community Events
ATTACH;FMTTYPE=image/jpeg:https://tcpride.org/wp-content/uploads/2024/04/IMG_7559.jpeg
ORGANIZER;CN="Wild Things Antiques":MAILTO:Contact@wildthingsantiques.com
END:VEVENT
BEGIN:VEVENT
DTSTART;TZID=America/Chicago:20240512T190000
DTEND;TZID=America/Chicago:20240512T210000
DTSTAMP:20260421T065240
CREATED:20240502T021758Z
LAST-MODIFIED:20240502T021758Z
UID:45132-1715540400-1715547600@tcpride.org
SUMMARY:TaikoTHRIVE
DESCRIPTION:TaikoArts Midwest presents TaikoTHRIVE\, Ensō Daiko’s annual concert\, this year on Mother’s Day\, May 12\, 2024\, at The Ordway Center for Performing Arts. The promise is high energy\, heart pounding rhythms and soaring melodies from the heart of Japan. International guest artists include Yuichi Kimura and his six drummers\, Daichi no Kai of Kobe\, Japan\, and Aki of TenTen (Toronto\, Canada).
URL:https://tcpride.org/event/taikothrive/
LOCATION:Ordway Concert Hall\, 345 Washington Street\, Saint Paul\, MN\, 55102\, United States
CATEGORIES:Community Events
ATTACH;FMTTYPE=image/jpeg:https://tcpride.org/wp-content/uploads/2024/05/Copy-of-Taiko-Thrive-1280x720-1.jpg
ORGANIZER;CN="TaikoArts Midwest":MAILTO:suyoonko@taikoartsmidwest.org
END:VEVENT
BEGIN:VEVENT
DTSTART;TZID=America/Chicago:20240518T183000
DTEND;TZID=America/Chicago:20240518T200000
DTSTAMP:20260421T065240
CREATED:20240229T015141Z
LAST-MODIFIED:20240229T015141Z
UID:42542-1716057000-1716062400@tcpride.org
SUMMARY:Letamren
DESCRIPTION:This is the screening of the long anticipated Letamren.  It was produced\, directed\, and written by David Anderson\, a local indie LGBT filmmaker. \nIncluded: Shorts from Anderson’s catalog\, prizes\, Q&A from cast & crew\, popcorn & drinks\, and trailers for Letamren 2 and Letamren 3 \nCast: Aaron Joshua Perra\, Jahkeith Roberts\, William J Kittelson\, Israel Payne \nGenre: LGBT\, Avant-garde\, Thriller \nRun time: 20 min. \nPlot: Told metaphorically\, four LGBT people enter conversion therapy. Secretly\, one of those four (played by Perra) works endlessly to assure the others that there’s nothing wrong with them.  Despite his efforts\, the spiritual abuse the four endure proves to have devastating and deadly outcomes.
URL:https://tcpride.org/event/letamren/
LOCATION:THE SALOON MN\, 830 Hennepin Ave\, Minneapolis\, MN\, 55403\, United States
CATEGORIES:Artist in Residence,Community Events,Movies
ATTACH;FMTTYPE=image/jpeg:https://tcpride.org/wp-content/uploads/2024/02/IMG_0878.jpeg
END:VEVENT
BEGIN:VEVENT
DTSTART;TZID=America/Chicago:20240528T173000
DTEND;TZID=America/Chicago:20240528T203000
DTSTAMP:20260421T065240
CREATED:20240529T192702Z
LAST-MODIFIED:20240529T192702Z
UID:46335-1716917400-1716928200@tcpride.org
SUMMARY:Queer Me Out
DESCRIPTION:Explore the vibrant history of Twin Cities Pride at W Minneapolis – The Foshay’s second annual Queer Me Out speaker panel event on June 4th. \nModerator \n\nNina DiAngelo of Roxy’s Cabaret\n\nPanelists \n\nZaylore Stout – LGBTQ+ Activist Author and Historian of “Our Gay History in Fifty States”\nDevon Monroe – Professional Wrestler and F1RST Wrestling WRESTLEPALOOZA Champion\nLisa Vecoli – Founder of the Minnesota Lesbian Community Organizing Oral History Project and Former Curator of the Tretter Collection\nBekah Bailey – Queer and Disabled Activist\n\nTickets include a welcome cocktail\, and attendees will discover queer-owned art\, vendors\, and more. DJ Shannon Blowtorch will be spinning beats while you enjoy beer samples provided by Urban Growler\, get a temporary tattoo from BlackEnd Tattoos\, or get your aura photographed. Ticket proceeds will be donated to support OutFront Minnesota. \nAfter the speaker panel event\, keep the party going down at the Living Room bar\, where a live DJ will be there until 11pm.
URL:https://tcpride.org/event/queer-me-out/
LOCATION:W Minneapolis – The Foshay\, 821 Marquette Avenue\, Minneapolis\, MN\, 55402\, United States
CATEGORIES:Community Events
ATTACH;FMTTYPE=image/png:https://tcpride.org/wp-content/uploads/2024/05/QMO-Banner-01.png
ORGANIZER;CN="W Minneapolis - The Foshay":MAILTO:grace.giblin@whotels.com
END:VEVENT
END:VCALENDAR