BEGIN:VCALENDAR
VERSION:2.0
PRODID:-//Twin Cities Pride - ECPv6.13.2.1//NONSGML v1.0//EN
CALSCALE:GREGORIAN
METHOD:PUBLISH
X-ORIGINAL-URL:https://tcpride.org
X-WR-CALDESC:Events for Twin Cities Pride
REFRESH-INTERVAL;VALUE=DURATION:PT1H
X-Robots-Tag:noindex
X-PUBLISHED-TTL:PT1H
BEGIN:VTIMEZONE
TZID:America/Chicago
BEGIN:DAYLIGHT
TZOFFSETFROM:-0600
TZOFFSETTO:-0500
TZNAME:CDT
DTSTART:20240310T080000
END:DAYLIGHT
BEGIN:STANDARD
TZOFFSETFROM:-0500
TZOFFSETTO:-0600
TZNAME:CST
DTSTART:20241103T070000
END:STANDARD
END:VTIMEZONE
BEGIN:VEVENT
DTSTART;VALUE=DATE:20240328
DTEND;VALUE=DATE:20241015
DTSTAMP:20260420T223047
CREATED:20240328T212546Z
LAST-MODIFIED:20240328T212546Z
UID:43317-1711594800-1728874799@tcpride.org
SUMMARY:TOGETHER
DESCRIPTION:Together is a mixed media art exhibition featuring artwork from ten Minnesota artist families of diverse ages and family structures who have created individual and communal work for the exhibition. Artists Emmett and Kit Ramstad conceived this project to elevate children’s artwork and provide a space for parent artists to support each other as they fulfill the roles of parents and artists while raising a new generation of makers. Together uplifts mixed generational creativity by showcasing artists who have contributed hugely to Minnesota’s artistic community and their children who are integral influences to their practice. \n\n\n\n\nPARTICIPATING ARTISTS: \nSayge Carroll\, Morgan Laramy; Preston Drum\, Elvis and Leroy Drum; Isa Gagarin\, Rae Gordon; Pao Her\, Vince and Kailee Yang; Amanda Lovelee\, Walden Waites; Avigail Manneberg\, Kaiah and Micah Manneberg-Tompkins; Emmett Ramstad\, Kit Aizura Ramstad; Anna Marie Shogren\, Wally Glenn-Shogren; Aki Shibata\, Atom Shibata Pliner and Yukiko Shibata Colburn; Jonathan Thunder\,  Mino Hart Thunder
URL:https://tcpride.org/event/together/
LOCATION:the M (Minnesota Museum of American Art)\, 350 Robert Street North\, St Paul\, MN\, 55101\, United States
CATEGORIES:Community Events
ATTACH;FMTTYPE=image/png:https://tcpride.org/wp-content/uploads/2024/03/Asset-2.png
ORGANIZER;CN="the M (Minneosta Museum of American Art)":MAILTO:info@mmaa.org
END:VEVENT
BEGIN:VEVENT
DTSTART;TZID=America/Chicago:20240622T193000
DTEND;TZID=America/Chicago:20240707T140000
DTSTAMP:20260420T223047
CREATED:20240607T015855Z
LAST-MODIFIED:20240607T015855Z
UID:46865-1719084600-1720360800@tcpride.org
SUMMARY:Buyer & Cellar
DESCRIPTION:Descend into “Buyer & Cellar\,” the deliciously outrageous comedy examining the price of fame\, and the cost of life and work relationships both on and off the red carpet. \nAs an out of work L.A. actor dives into a mysterious job at the home of legendary Barbra Streisand\, he falls deep into exploring how the other half lives\, and whether the life we aspire to might not be all it’s cracked up to be. According to the NY Times\, the show ‘is seriously funny’ as it examines ‘the love-hate attraction between gay men and divas\, and the melancholy that lurks beneath narcissism.’ Witty and dripping in comedy\, this one-man show is not to be missed!
URL:https://tcpride.org/event/buyer-cellar/
LOCATION:The Hive Collaborative\, 677 Hamline Avenue N\, St. Paul\, MN\, 55104\, United States
CATEGORIES:Community Events
ATTACH;FMTTYPE=image/png:https://tcpride.org/wp-content/uploads/2024/06/BC1.png
ORGANIZER;CN="The Hive Collaborative":MAILTO:thehivecollaborativemn@gmail.com
END:VEVENT
BEGIN:VEVENT
DTSTART;VALUE=DATE:20240701
DTEND;VALUE=DATE:20240708
DTSTAMP:20260420T223047
CREATED:20240213T050354Z
LAST-MODIFIED:20240213T050503Z
UID:41789-1719802800-1720321199@tcpride.org
SUMMARY:Camp True Colors: Session 3: Transgender\, non-binary and gender expansive youth (Ages 7-15)
DESCRIPTION:Camp True Colors is a place designed just for LGBTQ+ youth\, where you can have fun and enjoy summer camp activities in a welcoming environment\, while building community with peers and adults with similar shared experiences. \nAside from being a LOT of fun\, camp builds self-confidence\, life skills\, friendships\, and memories that last long after the last campfire of the summer. \nCamp True Colors has two main types of sessions: \n\nSessions open to all LGBTQ+ youth (including but not limited to those who are lesbian\, gay\, bisexual\, pansexual\, asexual\, transgender\, or queer)\nSessions specifically for youth who are transgender and/or nonbinary\, or otherwise gender expansive
URL:https://tcpride.org/event/camp-true-colors-session-3-transgender-non-binary-and-gender-expansive-youth-ages-7-15/
CATEGORIES:Community Events
ATTACH;FMTTYPE=image/jpeg:https://tcpride.org/wp-content/uploads/2024/02/CAMP-TRUE-COLORS-FINAL-FULL-COLOR-2.jpg
END:VEVENT
BEGIN:VEVENT
DTSTART;VALUE=DATE:20240708
DTEND;VALUE=DATE:20240715
DTSTAMP:20260420T223047
CREATED:20240213T050408Z
LAST-MODIFIED:20240213T050512Z
UID:41795-1720407600-1720925999@tcpride.org
SUMMARY:Camp True Colors: Session 4: All LGBTQ+ Youth (Ages 11-17)
DESCRIPTION:Camp True Colors is a place designed just for LGBTQ+ youth\, where you can have fun and enjoy summer camp activities in a welcoming environment\, while building community with peers and adults with similar shared experiences. \nAside from being a LOT of fun\, camp builds self-confidence\, life skills\, friendships\, and memories that last long after the last campfire of the summer. \nCamp True Colors has two main types of sessions: \n\nSessions open to all LGBTQ+ youth (including but not limited to those who are lesbian\, gay\, bisexual\, pansexual\, asexual\, transgender\, or queer)\nSessions specifically for youth who are transgender and/or nonbinary\, or otherwise gender expansive
URL:https://tcpride.org/event/camp-true-colors-session-4-all-lgbtq-youth-ages-11-17/
CATEGORIES:Community Events
ATTACH;FMTTYPE=image/jpeg:https://tcpride.org/wp-content/uploads/2024/02/CAMP-TRUE-COLORS-FINAL-FULL-COLOR-3.jpg
END:VEVENT
BEGIN:VEVENT
DTSTART;TZID=America/Chicago:20240711T180000
DTEND;TZID=America/Chicago:20240711T203000
DTSTAMP:20260420T223047
CREATED:20240708T221922Z
LAST-MODIFIED:20240708T221922Z
UID:48211-1720720800-1720729800@tcpride.org
SUMMARY:An Oral History of Minneapolis Queer Nightlife
DESCRIPTION:Join the Walker Art Center for a free talk as part of the Nightlife as Form series!\nAn Oral History of Minneapolis Queer Nightlife\nMuch of the history of queer nightlife remains unwritten. Historically\, this heritage has been passed on through stories\, memories\, and the experience of being there. Seeking to document a small portion of the Twin Cities’ vast queer history\, the second installment of the series Nightlife as Form\, An Oral History of Minneapolis Queer Nightlife\, gathers several generations of local queer nightlife practitioners to share their inspirations\, challenges\, and learnings. From the 1990s Homocore movement to trans and queer punk spaces\, as well as today’s nightlife practitioners\, this evening celebrates and makes visible some of these too-often unwritten histories. \nFollowing the panel\, join us for a drink in the Main Lobby to celebrate local queer nightlife artists. \nPanelists include Shannon Blowtorch\, Siren DeLuna (Sci-Fi)\, Venus de Mars\, All the Pretty Horses\, and Ed Varga (Homocore Minneapolis and Homo A Go Go). \n\nMore on the Walker’s website here:\nhttps://walkerart.org/calendar/2024/an-oral-history-of-minneapolis-queer-nightlife
URL:https://tcpride.org/event/an-oral-history-of-minneapolis-queer-nightlife/
LOCATION:Walker Art Center\, 725 Vineland Place\, Minneapolis\, MN\, 55403\, United States
CATEGORIES:Community Events,zzTCPride 2024 Events
ATTACH;FMTTYPE=image/jpeg:https://tcpride.org/wp-content/uploads/2024/07/mkt2024Nightlife_As_Form_social_assets_1080x1080_W_f-2.jpg
ORGANIZER;CN="Walker Art Center":MAILTO:maeri.hedstrom@walkerart.org
END:VEVENT
BEGIN:VEVENT
DTSTART;TZID=America/Chicago:20240726T183000
DTEND;TZID=America/Chicago:20240726T210000
DTSTAMP:20260420T223047
CREATED:20240714T175024Z
LAST-MODIFIED:20240714T175024Z
UID:48368-1722018600-1722027600@tcpride.org
SUMMARY:Mankato LGBTQIA+ Pool Party
DESCRIPTION:Join South Central Minnesota Pride for the 3rd annual LGBTQIA+ Pool Party! Enjoy some time in the pool at the North Mankato Swim Facility. This is will be a private event where you can feel safe and comfortable to be you! LGBTQIA+ youth\, adults\, and allies are welcome. The pool is open 6:30-9:00pm with food & beverages served. This event is free will donation at the door to help support the party and future events!
URL:https://tcpride.org/event/mankato-lgbtqia-pool-party/
LOCATION:North Mankato Swim Facility\, 641 Webster Avenue\, North Mankato\, MN\, 56003\, United States
CATEGORIES:Community Events,Fundraisers
ATTACH;FMTTYPE=image/jpeg:https://tcpride.org/wp-content/uploads/2024/07/LGBTQIA-POOL-PARTY-Facebook-Event-Cover.jpg
ORGANIZER;CN="South Central MN Pride":MAILTO:festival@scmnpride.org
END:VEVENT
BEGIN:VEVENT
DTSTART;TZID=America/Chicago:20240727T120000
DTEND;TZID=America/Chicago:20240727T140000
DTSTAMP:20260420T223047
CREATED:20240708T221705Z
LAST-MODIFIED:20240708T221705Z
UID:48301-1722081600-1722088800@tcpride.org
SUMMARY:Queer History Ride
DESCRIPTION:An exploration of Minneapolis through a few of the city’s most prominent LGBTQ+ sites and their history. \nJoin Perennial Cycle on Saturday\, July 27 from 12-2 pm for a 10 mile group ride with stops throughout the city to hear from a local LGBTQ+ Public Historian. \nWe’ll keep a social\, casual pace and will start and end at Powderhorn Park North Playground\, featuring all new stops for this year’s edition. \nNo registration required! This event is free and open to all.
URL:https://tcpride.org/event/queer-history-ride/
LOCATION:Powderhorn Park North Playground\, 3200 14th Ave S\, Minneapolis\, MN\, 55407\, United States
CATEGORIES:Community Events
ATTACH;FMTTYPE=image/jpeg:https://tcpride.org/wp-content/uploads/2024/07/INSTAGRAM_QHR2024-01.jpg
ORGANIZER;CN="Perennial Cycle":MAILTO:events@perennialcycle.com
END:VEVENT
BEGIN:VEVENT
DTSTART;TZID=America/Chicago:20240728T160000
DTEND;TZID=America/Chicago:20240728T200000
DTSTAMP:20260420T223047
CREATED:20240725T012204Z
LAST-MODIFIED:20240725T012256Z
UID:48815-1722182400-1722196800@tcpride.org
SUMMARY:Potluck & Picnic for the Transgender Community
DESCRIPTION:Join Trans Picnic Minneapolis for the July Transgender Potluck and Picnic at Powderhorn Park! This all ages event is open to the Twin Cities Transgender Community as well as their loved ones. Please bring food to share and come ready to mingle. We will be meeting at the South Picnic Area in Powderhorn Park.
URL:https://tcpride.org/event/potluck-picnic-for-the-transgender-community/
LOCATION:South Picnic Area\, Powderhorn Park\, 3400 15th Ave. S\, Minneapolis\, MN\, 55407\, United States
CATEGORIES:Community Events
ATTACH;FMTTYPE=image/jpeg:https://tcpride.org/wp-content/uploads/2024/07/unnamed.jpg
END:VEVENT
END:VCALENDAR