BEGIN:VCALENDAR
VERSION:2.0
PRODID:-//Twin Cities Pride - ECPv6.13.2.1//NONSGML v1.0//EN
CALSCALE:GREGORIAN
METHOD:PUBLISH
X-ORIGINAL-URL:https://tcpride.org
X-WR-CALDESC:Events for Twin Cities Pride
REFRESH-INTERVAL;VALUE=DURATION:PT1H
X-Robots-Tag:noindex
X-PUBLISHED-TTL:PT1H
BEGIN:VTIMEZONE
TZID:America/Chicago
BEGIN:DAYLIGHT
TZOFFSETFROM:-0600
TZOFFSETTO:-0500
TZNAME:CDT
DTSTART:20240310T080000
END:DAYLIGHT
BEGIN:STANDARD
TZOFFSETFROM:-0500
TZOFFSETTO:-0600
TZNAME:CST
DTSTART:20241103T070000
END:STANDARD
END:VTIMEZONE
BEGIN:VEVENT
DTSTART;VALUE=DATE:20240328
DTEND;VALUE=DATE:20241015
DTSTAMP:20260420T194551
CREATED:20240328T212546Z
LAST-MODIFIED:20240328T212546Z
UID:43317-1711594800-1728874799@tcpride.org
SUMMARY:TOGETHER
DESCRIPTION:Together is a mixed media art exhibition featuring artwork from ten Minnesota artist families of diverse ages and family structures who have created individual and communal work for the exhibition. Artists Emmett and Kit Ramstad conceived this project to elevate children’s artwork and provide a space for parent artists to support each other as they fulfill the roles of parents and artists while raising a new generation of makers. Together uplifts mixed generational creativity by showcasing artists who have contributed hugely to Minnesota’s artistic community and their children who are integral influences to their practice. \n\n\n\n\nPARTICIPATING ARTISTS: \nSayge Carroll\, Morgan Laramy; Preston Drum\, Elvis and Leroy Drum; Isa Gagarin\, Rae Gordon; Pao Her\, Vince and Kailee Yang; Amanda Lovelee\, Walden Waites; Avigail Manneberg\, Kaiah and Micah Manneberg-Tompkins; Emmett Ramstad\, Kit Aizura Ramstad; Anna Marie Shogren\, Wally Glenn-Shogren; Aki Shibata\, Atom Shibata Pliner and Yukiko Shibata Colburn; Jonathan Thunder\,  Mino Hart Thunder
URL:https://tcpride.org/event/together/
LOCATION:the M (Minnesota Museum of American Art)\, 350 Robert Street North\, St Paul\, MN\, 55101\, United States
CATEGORIES:Community Events
ATTACH;FMTTYPE=image/png:https://tcpride.org/wp-content/uploads/2024/03/Asset-2.png
ORGANIZER;CN="the M (Minneosta Museum of American Art)":MAILTO:info@mmaa.org
END:VEVENT
BEGIN:VEVENT
DTSTART;TZID=America/Chicago:20240905T190000
DTEND;TZID=America/Chicago:20240905T203000
DTSTAMP:20260420T194551
CREATED:20240902T215128Z
LAST-MODIFIED:20240902T215128Z
UID:49834-1725562800-1725568200@tcpride.org
SUMMARY:Drag Bingo at The Clapping Monkey House of Cube
DESCRIPTION:The next Drag Bingo in The Clapping Monkey House of Coffee is THIS THURSDAY September 5th starting at 7PM! $10 suggested donation for 9 rounds of bingo. Win fabulous prizes from Wild Things and giftcards! \nHosted by the fabulous and amazing Betty Bang and Tomi Saint James. This is a sober all ages event. \nWe’re located at 7270 Commerce Circle E. in Fridley\, Minnesota\, just off University\, about 15 minutes north of downtown Minneapolis. \n 
URL:https://tcpride.org/event/drag-bingo-at-the-clapping-monkey-house-of-cube/
LOCATION:The Clapping Monkey House of Coffee\, 7270 Commerce Circle East\, Fridley\, MN\, 55432\, United States
CATEGORIES:Community Events
ATTACH;FMTTYPE=image/png:https://tcpride.org/wp-content/uploads/2024/09/Betty-Bang@4x.png
ORGANIZER;CN="The Clapping Monkey House of Coffee":MAILTO:contact@wildthingsantiques.com
END:VEVENT
BEGIN:VEVENT
DTSTART;TZID=America/Chicago:20240905T190000
DTEND;TZID=America/Chicago:20240908T160000
DTSTAMP:20260420T194551
CREATED:20240714T175056Z
LAST-MODIFIED:20240714T175056Z
UID:48362-1725562800-1725811200@tcpride.org
SUMMARY:Mankato Pride
DESCRIPTION:Live in Peace\, Love\, & Pride at Mankato Pridefest 2024! Celebrate September 5th-8th. Events will include Pride Bingo on Thursday; Queeraoke on Friday night; Rainbow Run\, Parade\, Festival\, and Pride Party on Saturday; and a Youth Party on Sunday. Learn more at scmnpride.org.
URL:https://tcpride.org/event/mankato-pride/
LOCATION:Riverfront Park\, 309 W Rock St\, Mankato\,\, MN\, 56001\, United States
CATEGORIES:Community Events,Pride Festivals
ATTACH;FMTTYPE=image/jpeg:https://tcpride.org/wp-content/uploads/2024/07/Pride-2024-civic-website.jpg
ORGANIZER;CN="South Central MN Pride":MAILTO:festival@scmnpride.org
END:VEVENT
BEGIN:VEVENT
DTSTART;TZID=America/Chicago:20240907T190000
DTEND;TZID=America/Chicago:20240907T213000
DTSTAMP:20260420T194551
CREATED:20240807T231001Z
LAST-MODIFIED:20240807T231001Z
UID:49132-1725735600-1725744600@tcpride.org
SUMMARY:Welcome to the Hoedown
DESCRIPTION:You can always expect something new from Infusion Entertainment\, and this time you can giddy up for Welcome to the Hoedown\, a drag and burlesque show unlike any other! \nThis 18+ event will feature: \n\nSizzling performances by local drag and burlesque royalty (Will there be fringe? Will there be assless chaps?? WILL THERE BE A RHINESTONED LASSO??? There’s only one way to find out!)\nA serene and authentic environment (the neighs from the real live horses will add to the magic!)\nA charitable cause you can two-step for – proceeds benefit This Old Horse\nRefreshments for all – adult beverages\, plus pop and water\nAmple free parking on-site\nHay bale seating available\, but feel free to bring your own lawn chair for maximum comfort\n\nCome see Infusion Entertainment put a new meaning to “dragging the arena”. \nSee you there\, sugar!
URL:https://tcpride.org/event/welcome-to-the-hoedown/
CATEGORIES:Community Events
ATTACH;FMTTYPE=image/jpeg:https://tcpride.org/wp-content/uploads/2024/08/IMG_1414.jpeg
END:VEVENT
BEGIN:VEVENT
DTSTART;TZID=America/Chicago:20240907T210000
DTEND;TZID=America/Chicago:20240907T230000
DTSTAMP:20260420T194551
CREATED:20240714T174557Z
LAST-MODIFIED:20240714T174557Z
UID:48457-1725742800-1725750000@tcpride.org
SUMMARY:2024 Belle of the Black Hart Pageant
DESCRIPTION:Join us on Saturday\, September 7th for the 2024 Belle of the Black Hart Pageant: The Road to the Emerald City! \nWitness Lala Luzious\, the reigning 2023 Belle of the Black Hart\, as she steps down and crowns the next queen. \nSince 1999\, the Toast of the Townhouse/Belle of the Black Hart has been one of the longest-running pageants for local drag queens and female impersonators. The festivities begin at 9 PM\, showcasing a dazzling lineup of past Toasts of the Town House and Belles of the Black Hart\, featuring the fabulous Lala Luzious. \nThis event is 21+ with a $10 cover at the door. Don’t miss out on an unforgettable evening!
URL:https://tcpride.org/event/2024-belle-of-the-black-hart-pageant/
LOCATION:Black Hart of Saint Paul\, 1415 University Avenue West\, St Paul\, 55104\, United States
CATEGORIES:Community Events
ATTACH;FMTTYPE=image/jpeg:https://tcpride.org/wp-content/uploads/2024/07/belle-poster-social-1.jpg
ORGANIZER;CN="Black Hart of Saint Paul":MAILTO:info@blackhartstp.com
END:VEVENT
BEGIN:VEVENT
DTSTART;TZID=America/Chicago:20240917T190000
DTEND;TZID=America/Chicago:20240917T210000
DTSTAMP:20260420T194551
CREATED:20240919T002417Z
LAST-MODIFIED:20240919T002417Z
UID:49916-1726599600-1726606800@tcpride.org
SUMMARY:After Glow: After Hours Shopping Event for All
DESCRIPTION:All bodies & all genders welcome to browse\, try on\, & buy outfits in a safe\, supportive environment.\nShop new & thrifted tops\, dresses\, skirts\, & accessories to make your style uniquely YOU!\nGet ready for a party featuring beauty pop-ups & bring someone to share in the shopping joy!!
URL:https://tcpride.org/event/after-glow-after-hours-shopping-event-for-all/
LOCATION:Hello Again Eagan\, 3450 Denmark Ave\, Eagan\, MN\, 55123\, United States
CATEGORIES:Community Events
ATTACH;FMTTYPE=image/jpeg:https://tcpride.org/wp-content/uploads/2024/09/social-media-post-AFTERGLOW-updated-1.jpeg
ORGANIZER;CN="Hello Again":MAILTO:helloagaineagan@gmail.com
END:VEVENT
BEGIN:VEVENT
DTSTART;TZID=America/Chicago:20240920T180000
DTEND;TZID=America/Chicago:20240920T210000
DTSTAMP:20260420T194551
CREATED:20240807T225743Z
LAST-MODIFIED:20240807T225743Z
UID:49160-1726855200-1726866000@tcpride.org
SUMMARY:Drawing and Photography Art Exibition
DESCRIPTION:Join us for a curated exhibition showcasing the works of Blake Solberg Drawings and Jared Fessler Photography both LGBTQIA+ artist . This event is taking place on the exact same day and date as our last one five years ago!\nEvent Details:Date: September 20\, 2024Time: 6:00 PM – 9:00 PMLocation: Moth Oddities Art Gallery | 13 5th St NE\, Minneapolis\, MN 55413\nStop by anytime between 6:00 PM and 9:00 PM. This event is free and open to the public. Enjoy light appetizers and beverages while you explore our art. The space is air conditioned and accessible.\nParking Information:street parking\, parking lot\, pay metered parking\, and pay parking ramps nearby.\nFor any questions\, feel free to call or text (563) 260-5268 or e-mail jaredfesslerphotography@gmail.com.\nWe look forward sharing our art and seeing you there!\nBlake SolbergBlake Solberg DrawingsInstagram: @blakedrawsdrawsdraws\n\nJared Fessler [he/him]Jared Fessler PhotographyInstagram: @jaredfesslerphotographyFacebook: Jared Fessler Photographywww.jaredfesslerphotography.com
URL:https://tcpride.org/event/drawing-and-photography-art-exibition/
LOCATION:Moth Oddities Art Gallery\, 13 5th St NE\, Minneapolis\, MN\, 55413\, United States
CATEGORIES:Community Events
ATTACH;FMTTYPE=image/png:https://tcpride.org/wp-content/uploads/2024/08/The-Boho-Craftholic-3.png
END:VEVENT
BEGIN:VEVENT
DTSTART;TZID=America/Chicago:20240928T130000
DTEND;TZID=America/Chicago:20240928T160000
DTSTAMP:20260420T194551
CREATED:20240805T205007Z
LAST-MODIFIED:20240805T212635Z
UID:48968-1727528400-1727539200@tcpride.org
SUMMARY:Day of the Transgender Child
DESCRIPTION:Day of the Transgender Child is a day of celebrating trans youth joy. This is the 8th annual Day of the Transgender Child and it is going to be bigger and better than ever! \nAt Day of the Transgender Child you can expect:\n– A space for trans youth and their families to connect & play\n– Performances by trans artists\n– New 2024 Day of the Transgender Child design by local trans artist Sharkylemon!\n– An amazing resource fair with tables from local orgs\n-Fabulous guest speakers\n– Drag Story Hour\n-So much more!
URL:https://tcpride.org/event/day-of-the-transgender-child/
LOCATION:Newell Park\, 900 Fairview Ave N\, Saint Paul\, MN\, 55104\, United States
CATEGORIES:Community Events
END:VEVENT
END:VCALENDAR