BEGIN:VCALENDAR
VERSION:2.0
PRODID:-//Twin Cities Pride - ECPv6.13.2.1//NONSGML v1.0//EN
CALSCALE:GREGORIAN
METHOD:PUBLISH
X-ORIGINAL-URL:https://tcpride.org
X-WR-CALDESC:Events for Twin Cities Pride
REFRESH-INTERVAL;VALUE=DURATION:PT1H
X-Robots-Tag:noindex
X-PUBLISHED-TTL:PT1H
BEGIN:VTIMEZONE
TZID:America/Chicago
BEGIN:DAYLIGHT
TZOFFSETFROM:-0600
TZOFFSETTO:-0500
TZNAME:CDT
DTSTART:20250309T080000
END:DAYLIGHT
BEGIN:STANDARD
TZOFFSETFROM:-0500
TZOFFSETTO:-0600
TZNAME:CST
DTSTART:20251102T070000
END:STANDARD
END:VTIMEZONE
BEGIN:VEVENT
DTSTART;TZID=America/Chicago:20250105T133000
DTEND;TZID=America/Chicago:20250105T153000
DTSTAMP:20260420T140830
CREATED:20241114T004545Z
LAST-MODIFIED:20241114T004545Z
UID:59127-1736083800-1736091000@tcpride.org
SUMMARY:Twin Cities Aroace Solidarity Group
DESCRIPTION:Twin Cities Aroace Solidarity group is a joyful\, embracing 21+ creative community for progressive aroace-spec (aromantic and/or asexual spectrum) and queer allies to share mutual aid and friendship; creative/artistic exchange; and learning\, peer education & guidance across gender\, age\, income level\, ethnicity & other lines of social difference. We gather at Quatrefoil monthly to socialize and discuss queer media.\n\n\nPlease email or text group organizer Amy Brooks at abbrooks77@icloud.com | (937) 901-9205
URL:https://tcpride.org/event/twin-cities-aroace-solidarity-group-4/
LOCATION:Quatrefoil Library\, 1220 E Lake St\, Minneapolis\, MN\, 55407\, United States
CATEGORIES:Community Events
ORGANIZER;CN="Quatrefoil Library":MAILTO:president@quatrefoil.org
END:VEVENT
BEGIN:VEVENT
DTSTART;TZID=America/Chicago:20250126T120000
DTEND;TZID=America/Chicago:20250126T160000
DTSTAMP:20260420T140830
CREATED:20250125T205103Z
LAST-MODIFIED:20250125T205103Z
UID:60723-1737892800-1737907200@tcpride.org
SUMMARY:Speed dating
DESCRIPTION:💥Men Seeking Men Speed Dating 💥 \nThis Sunday!!!  If you or any of your friends are single\, we have an event for you! \nLooking for love\, connection\, or just a fun afternoon? Join us at Forgotten Star Brewing Co. for a relaxed and exciting speed dating event tailored just for you! \nLand of 10\,000 Dates \n📅 Date: Sunday\, January 26th \n📍 Location: \nForgotten Star Brewing Co. \n38 Northern Stacks Drive \nFridley\, MN 55421 \n🕛 Time: 12 PM – 4 PM \n💙 Who’s Invited: \nAges 21-40 \nAges 40-65 \nEnjoy great conversations\, meet new people\, and who knows—you might just find your perfect match over a cold brew. 🍻 \nLimited spots available—don’t miss out! \n👉 Reserve your spot now! www.StassiDates.com
URL:https://tcpride.org/event/speed-dating/
LOCATION:forgotten star brewing co\, Fridley\, Mn
CATEGORIES:Community Events
ATTACH;FMTTYPE=image/jpeg:https://tcpride.org/wp-content/uploads/2025/01/IMG_7877.jpeg
END:VEVENT
BEGIN:VEVENT
DTSTART;TZID=America/Chicago:20250130T190000
DTEND;TZID=America/Chicago:20250130T210000
DTSTAMP:20260420T140830
CREATED:20241213T213219Z
LAST-MODIFIED:20241213T213219Z
UID:59809-1738263600-1738270800@tcpride.org
SUMMARY:The Great Northern Sauna Village: Twin Cities Pride Steam
DESCRIPTION:Date & Time:\nThurs\, Jan 30\, 2025\, 7:00–9:00 pm \nVenue: The Market at Malcolm Yards\nCost: Pay what you want\, $25 suggested donation \nThe Great Northern invites members of the queer community to a steam session focused on wellbeing\, togetherness\, and an embrace of the winter season. \nThe Great Northern Sauna Village is a trans-inclusive\, safe space to celebrate queer joy during the coldest days of winter. \nThis steam session is pay-what-you-want\, with a suggested donation of $25 per person that helps us keep our programming accessible to our community. \nPlan Your Experience \nPlease note: Sauna participants must be 13+ years of age at the time of their sauna experience. Attendees under age 18 must be accompanied by an adult. Parents are welcome to bring children ages 5-13 during our Family Day Steam Sessions. \nHow to prepare: Bring easy-to-slip-on/off sandals or flip-flops\, a towel\, a robe to wear to and from the saunas\, and a water bottle to stay hydrated. Bathing suits are required\, and we recommend coming already dressed to maximize sauna time. Please note that Malcolm Yards requires shoes and either a robe or clothes to be worn indoors. \nPlease note that photographs and video footage may be taken throughout this event. These will be used by The Great Northern and its partners for marketing and publicity\, our archives\, on our website and in social media. \n*Snow angels and cold exposure methods will be weather dependent. If above freezing temperatures\, cold water buckets and rinsing stations will be available.
URL:https://tcpride.org/event/the-great-northern-sauna-village-twin-cities-pride-steam/
LOCATION:The Market at Malcolm Yards\, 501 30th Ave E\, Minneapolis\, MN\, 55414\, United States
CATEGORIES:Community Events
ATTACH;FMTTYPE=image/png:https://tcpride.org/wp-content/uploads/2024/12/The-Great-Northern-Sauna-Village-Twin-Cities-Pride-Steam.png
END:VEVENT
END:VCALENDAR