BEGIN:VCALENDAR
VERSION:2.0
PRODID:-//Twin Cities Pride - ECPv6.13.2.1//NONSGML v1.0//EN
CALSCALE:GREGORIAN
METHOD:PUBLISH
X-WR-CALNAME:Twin Cities Pride
X-ORIGINAL-URL:https://tcpride.org
X-WR-CALDESC:Events for Twin Cities Pride
REFRESH-INTERVAL;VALUE=DURATION:PT1H
X-Robots-Tag:noindex
X-PUBLISHED-TTL:PT1H
BEGIN:VTIMEZONE
TZID:America/Chicago
BEGIN:DAYLIGHT
TZOFFSETFROM:-0600
TZOFFSETTO:-0500
TZNAME:CDT
DTSTART:20250309T080000
END:DAYLIGHT
BEGIN:STANDARD
TZOFFSETFROM:-0500
TZOFFSETTO:-0600
TZNAME:CST
DTSTART:20251102T070000
END:STANDARD
END:VTIMEZONE
BEGIN:VEVENT
DTSTART;TZID=America/Chicago:20250201T180000
DTEND;TZID=America/Chicago:20250201T220000
DTSTAMP:20260420T124021
CREATED:20250122T031545Z
LAST-MODIFIED:20250122T031545Z
UID:60548-1738432800-1738447200@tcpride.org
SUMMARY:Minnesota Philharmonic Orchestra Salon Fundraiser
DESCRIPTION:The event features bright\, lively background music from MPO members in an intimate gallery setting as you peruse silent auction items and sample sweet treats. Plus we’ll feature a few MPO small ensembles on the main stage and offer some unique experiential opportunities at our live auction. You don’t want to miss this unique opportunity to interact with the orchestra while lending us your support! \nTickets include complimentary beverages and the tasty treats you’ve come to expect from this event. Ticket availability is limited\, so be sure to buy yours early. \n\n6:00pm Doors and Silent Auction Open\n8:15pm Live Auction and Short Program\n9:15pm Silent Auction Concludes
URL:https://tcpride.org/event/minnesota-philharmonic-orchestra-salon-fundraiser/
LOCATION:Center for Performing Arts (CFPA)\, 3754 Pleasant Ave\, Minneapolis\, MN\, 55409\, United States
CATEGORIES:Community Events,Fundraisers
ATTACH;FMTTYPE=image/jpeg:https://tcpride.org/wp-content/uploads/2025/01/472384679_1148210630639607_4768952260752017514_n.jpg
ORGANIZER;CN="Minnesota Philharmonic Orchestra":MAILTO:operations@mnphil.org
END:VEVENT
BEGIN:VEVENT
DTSTART;TZID=America/Chicago:20250202T133000
DTEND;TZID=America/Chicago:20250202T153000
DTSTAMP:20260420T124021
CREATED:20241114T004513Z
LAST-MODIFIED:20241114T004513Z
UID:59131-1738503000-1738510200@tcpride.org
SUMMARY:Twin Cities Aroace Solidarity Group
DESCRIPTION:Twin Cities Aroace Solidarity group is a joyful\, embracing 21+ creative community for progressive aroace-spec (aromantic and/or asexual spectrum) and queer allies to share mutual aid and friendship; creative/artistic exchange; and learning\, peer education & guidance across gender\, age\, income level\, ethnicity & other lines of social difference. We gather at Quatrefoil monthly to socialize and discuss queer media.\n\n\nPlease email or text group organizer Amy Brooks at abbrooks77@icloud.com | (937) 901-9205
URL:https://tcpride.org/event/twin-cities-aroace-solidarity-group-3/
LOCATION:Quatrefoil Library\, 1220 E Lake St\, Minneapolis\, MN\, 55407\, United States
CATEGORIES:Community Events
ORGANIZER;CN="Quatrefoil Library":MAILTO:president@quatrefoil.org
END:VEVENT
BEGIN:VEVENT
DTSTART;TZID=America/Chicago:20250202T183000
DTEND;TZID=America/Chicago:20250202T203000
DTSTAMP:20260420T124021
CREATED:20250117T211012Z
LAST-MODIFIED:20250117T211012Z
UID:60475-1738521000-1738528200@tcpride.org
SUMMARY:LGBTQIA+ Singles & Paws Mixer
DESCRIPTION:👀 Looking for a fun and easy way to meet other LGBTQIA+ folks?  Join us for a mixer on February 2nd!\n\n\n  Whether you’re looking for love or hoping to make new friends\, this event offers a safe and inclusive environment to connect with others.\n\n\n  A ticket purchase gets you (and an optional pup) entry to Unleashed\, one drink ticket\, and an evening of fun\, informal activities with other LGBTQIA+ singles.\nℹ️ Find more info and grab a ticket using the QR code or on our website under the “Events” section!
URL:https://tcpride.org/event/lgbtqia-singles-paws-mixer/
LOCATION:Unleashed Hounds and Hops\, 200 East Lyndale Avenue North\, Minneapolis\, MN\, 55405\, United States
CATEGORIES:Community Events
ATTACH;FMTTYPE=image/png:https://tcpride.org/wp-content/uploads/2025/01/QUEER-Singles-Event-2160-x-1080-px-5.png
ORGANIZER;CN="Unleashed Hounds and Hops":MAILTO:events@unleashedhoundsandhops.com
END:VEVENT
BEGIN:VEVENT
DTSTART;TZID=America/Chicago:20250206T173000
DTEND;TZID=America/Chicago:20250206T200000
DTSTAMP:20260420T124021
CREATED:20250201T193851Z
LAST-MODIFIED:20250201T193851Z
UID:61015-1738863000-1738872000@tcpride.org
SUMMARY:LGBTQ+ Futures: Understanding your legal and financial options
DESCRIPTION:Welcome to LGBTQ+ Futures: Understanding your legal and financial options! Join us for an informative in-person event at the W Minneapolis – The Foshay. Learn about important legal and financial considerations for the LGBTQ+ community. Our expert speakers will cover topics like estate planning\, healthcare directives\, and more. Don’t miss this opportunity to empower yourself with knowledge and make informed decisions about your future. See you there!
URL:https://tcpride.org/event/lgbtq-futures-understanding-your-legal-and-financial-options/
LOCATION:W Minneapolis – The Foshay\, 821 Marquette Avenue\, Minneapolis\, MN\, 55402\, United States
CATEGORIES:Community Events
ATTACH;FMTTYPE=image/jpeg:https://tcpride.org/wp-content/uploads/2025/02/2025-02-01_13-36-11.jpg
END:VEVENT
BEGIN:VEVENT
DTSTART;TZID=America/Chicago:20250212T190000
DTEND;TZID=America/Chicago:20250212T210000
DTSTAMP:20260420T124021
CREATED:20250219T042947Z
LAST-MODIFIED:20250219T042947Z
UID:61142-1739386800-1739394000@tcpride.org
SUMMARY:Ira Madison III presents Pure Innocent Fun: Essays
DESCRIPTION:Join Magers & Quinn at Queermunity for an evening with Ira Madison III and Chris Stedman. \nQueermunity’s front entrance is right next door to Magers & Quinn. \nCheck in begins at 6pm. Come early\, settle in\, and shop the Queermunity cafe for refreshments! \nGood to know: \n\nEach ticket comes with a signed copy of Pure Innocent Fun.\nAdditional copies of Pure Innocent Fun\, as well as books by Chris Stedman\, will be available for purchase at the event.\nThere will be an opportunity for Ira to sign/personalize books after the show.\n\nAbout the book: Alongside hosting Crooked Media’s pop culture podcast Keep It\, Ira has written for GQ\, New York Magazine\, Interview\, MTV News\, and Cosmopolitan\, among other publications. Nylon named him one of the “most reliably hilarious and incisive cultural critics writing now.” \nYou can recall the first TV show\, movie\, book\, or song that made you feel understood—that shaped how you live\, what you love\, and whom you would become. It gave you an entire worldview. For Ira Madison\, that book was Chuck Klosterman’s Sex\, Drugs\, and Cocoa Puffs\, which cemented the idea that pop culture could be a rigorous subject—and that\, for better or worse\, it shapes all of us. \nIn Pure Innocent Fun\, Madison explores the key cultural moments that inspired his career as a critic and guided his coming of age as a Black gay man in Milwaukee. In this hilarious\, full-throttle trip through the ’90s and 2000s\, he recounts learning about sex from Buffy the Vampire Slayer; facing the most heartbreaking election of his youth (not George W. Bush’s win\, but Jennifer Hudson losing American Idol); and how never getting his driver’s license in high school made him just like Cher Horowitz in Clueless: “a virgin who can’t drive.”Brimming with a profound love for a bygone culture and alternating between irreverence and heartfelt insight\, Pure Innocent Fun\, like all the best products of pop culture\, will leave you entertained and surprisingly enlightened. \nIra Madison III is the host of Crooked Media’s pop culture podcast Keep It. His television writing credits include Uncoupled\, Q-Force\, Nikki Fre$h\, and So Help Me Todd. He has written for GQ\, New York Magazine\, Interview\, MTV News\, and Cosmopolitan\, among other publications. Nylon named him one of the “most reliably hilarious and incisive cultural critics writing now.” He has appeared on The Late Show with Stephen Colbert\, Watch What Happens Live\, The Wendy Williams Show\, and the second season of the Netflix drama You. Ira Madison III lives in New York City. \nChris Stedman is a writer\, podcaster\, and professor who teaches in the Department of Religion and Philosophy at Augsburg University in Minneapolis\, MN. He is the author of the books IRL\, Faitheist\, and the forthcoming Nothing in Particular\, as well as the writer and host of Unread. Chris is the founder of Good Judy Productions\, a new podcast studio based in Minneapolis committed to telling stories that\, in the words of Dietrich Bonhoeffer\, take the “view from below\,” or “the perspective of the outcasts\, the suspects\, the maltreated\, the powerless\, the oppressed and reviled\, in short from the perspective of the suffering.” The studio’s first series is currently in production and will be distributed by iHeartPodcasts. In addition to his podcast work\, Chris has written popular essays for outlets including the Atlantic\, Pitchfork\, BuzzFeed\, VICE\, the Washington Post\, and others.
URL:https://tcpride.org/event/ira-madison-iii-presents-pure-innocent-fun-essays/
LOCATION:Queermunity\, 3036 Hennepin Ave\, Minneapolis\, MN\, 55408\, United States
CATEGORIES:Community Events
ATTACH;FMTTYPE=image/jpeg:https://tcpride.org/wp-content/uploads/2025/02/https___cdn.evbuc_.com_images_927030833_58675786377_1_original.jpg
ORGANIZER;CN="Magers &amp%3B Quinn Booksellers":MAILTO:info@magersandquinn.com
END:VEVENT
BEGIN:VEVENT
DTSTART;TZID=America/Chicago:20250213T170000
DTEND;TZID=America/Chicago:20250213T180000
DTSTAMP:20260420T124021
CREATED:20250128T184428Z
LAST-MODIFIED:20250128T184428Z
UID:60860-1739466000-1739469600@tcpride.org
SUMMARY:Outspoken Voices: LGBTQ+ Storytelling Circle
DESCRIPTION:Celebrate Valentine’s Day early with Family Equality and LGBTQ+ families across the country as we enjoy a casual hour of connection\, reflection\, and storytelling centering around the theme of LOVE. \nLove is all around us — romantic\, platonic\, familial\, professional\, and everything in between! Bring a five-minute story about a brave\, joyful\, unexpected\, complicated or life-affirming love in your life. How did it blossom? What did it teach you? \nStories are powerful ways to build bridges and find community. If you’re searching for a chance to connect\, reflect\, and bring visibility to families like yours\, register for log-in information today!
URL:https://tcpride.org/event/outspoken-voices-lgbtq-storytelling-circle/
LOCATION:Virtual
CATEGORIES:Community Events
ATTACH;FMTTYPE=image/png:https://tcpride.org/wp-content/uploads/2025/01/Outspoken-Voices-2025-Program-Graphics1.png
ORGANIZER;CN="Family Equality":MAILTO:info@familyequality.org
END:VEVENT
BEGIN:VEVENT
DTSTART;TZID=America/Chicago:20250215T170000
DTEND;TZID=America/Chicago:20250215T220000
DTSTAMP:20260420T124021
CREATED:20250219T042727Z
LAST-MODIFIED:20250219T042727Z
UID:61090-1739638800-1739656800@tcpride.org
SUMMARY:LGBTQI WOMEN'S VALENTINE'S DANCE!
DESCRIPTION:On Saturday\, February 15th\, our Valentine’s LGBTQI Women’s Dance just got even more fun—We’ve added SPEED DATING from 5-6 pm!   Please register with your name and age decade (20s\, 30s\, 40s\, 50s\, 60s\, 70s\, 80s\, 90s!) by sending an e-mail to Katie.Cashel.Law@comcast.net.  There is no additional charge for the speed dating\, it is included in the $10 cover charge for the dance!  You can also wear a heart sticker at the dance to let women know you’re available for dating!\n\nDJ K. Shay will be spinning some love tracks and great dance beats from 7-10pm!  6-7 is the social hour\, where you can order dinner (credit cards accepted) or a drink and get to know women before the music starts.\n\nShow yourself some love with a mini-massage by Jody! She’s a licensed massage therapist. ($1-$2 per minute fee)\n\nAt each dance we have a Give-n-Take Sharing Table\, so bring clothes\, books\, jewelry\, yarn\, household items\, etc. to give away and see what you would like to take home!\n\nSince our December dance was canceled due to weather\, we would like to still have charitable contributions brought for this dance. Gently used warm clothes & winter gear will be donated to Rainbow Wardrobe at TC Pride. New packages of makeup\, press on nails or eyelashes\, underwear\, or cereal will be donated to QueerMunity for their free resource room.\n\nAre you new the to the community? We have Dance Ambassadors who will talk or dance with you and help get you connected through our Community Resources Table\, with flyers for other non-profits\, events\, or business cards for self employed women serving the LGBTQ community.\n\n$10 cash cover at the door gets you all this fun!\n\nJoin the FB Group Twin Cities Women’s Dances  or sign up for the e-mail list for more information.\n\n**All women are welcome: bisexual\, lesbian\, gay\, queer\, butch/femme/androgynous\, trans/cis gender. Non-binary folks who were assigned female at birth and who are not transitioning to male are welcome. Heterosexual women family and friends are welcome as allies. \n\nSee You on the Dance Floor!
URL:https://tcpride.org/event/lgbtqi-womens-valentines-dance/
LOCATION:Minneapolis Eagles Club #34\, 2507 E. 25th Street\, Minneapolis\, MN\, United States
CATEGORIES:Community Events
ORGANIZER;CN="Twin Cities Women's Dances":MAILTO:katie.cashel.law@comcast.net
END:VEVENT
BEGIN:VEVENT
DTSTART;TZID=America/Chicago:20250220T183000
DTEND;TZID=America/Chicago:20250220T220000
DTSTAMP:20260420T124021
CREATED:20250303T190808Z
LAST-MODIFIED:20250303T190808Z
UID:61506-1740076200-1740088800@tcpride.org
SUMMARY:LGBTQ+ Latin Dance!!!
DESCRIPTION:All levels of dancers welcome!\nNo partner needed.\n6:30 PM to 7:30 PM Dance Lesson – Rotation Every two Weeks (Salsa\, Bachata\, Cumbia)\n7:30 PM – 10:30 PM Open Dancing.\nWe will play a song rotation of Salsa\, Bachata\, Cumbia and Merengue\, we take requests.\nOnly $5 cover (cash or venmo only please). (Includes the lesson and the dance!)\nBring Dancing shoes\, or non rubbery shoes\, if you have them. We will have blue tape available that you can use on any shoe to make them like dancing shoes.\nFood and drinks available for purchase.No outside beverages allowed.\nEagles 342507 E 25th StMinneapolis\, MN 55406
URL:https://tcpride.org/event/lgbtq-latin-dance-4/
LOCATION:Minneapolis Eagles Club #34\, 2507 E. 25th Street\, Minneapolis\, MN\, United States
CATEGORIES:Community Events
ATTACH;FMTTYPE=image/jpeg:https://tcpride.org/wp-content/uploads/2025/02/flyer.jpeg
ORGANIZER;CN="LGBTQ+ Twin Cities Latin Dance":MAILTO:lgbtqtwincitieslatindance@fastmail.com
END:VEVENT
BEGIN:VEVENT
DTSTART;TZID=America/Chicago:20250227T183000
DTEND;TZID=America/Chicago:20250227T220000
DTSTAMP:20260420T124021
CREATED:20250228T162236Z
LAST-MODIFIED:20250228T162236Z
UID:61511-1740681000-1740693600@tcpride.org
SUMMARY:LGBTQ+ Latin Dance!!!
DESCRIPTION:Join us on Thursday February 13th for a lesson and open dancing!\n\n\nAll levels of dancers welcome!\n\n\nNo partner needed.\n\n\n6:30 PM to 7:30 PM Dance Lesson – Bachata\n7:30 PM – 10:30 PM Open Dancing.\n\n\nWe will play a song rotation of Salsa\, Bachata\, Cumbia and Merengue\, we take requests.\n\n\nOnly $5 cover (cash – no bills bigger than $20’s please – if needed there is an ATM onsite or Venmo)\n(Includes the lesson and the dance!)\n\n\nBring Dancing shoes\, or non rubbery shoes\, if you have them. We will have blue tape available that you can use on any shoe to make them like dancing shoes.\n\n\nFood and drinks available for purchase.\n\n\nNo outside beverages\, water bottles\, or food allowed.\n\n\nEagles 34\n2507 E 25th St\nMinneapolis\, MN 55406\nUnited States\n\nMore Information by Text Ivan (763) 357-5561
URL:https://tcpride.org/event/lgbtq-latin-dance-3/
LOCATION:Minneapolis Eagles Club #34\, 2507 E. 25th Street\, Minneapolis\, MN\, United States
CATEGORIES:Community Events
ATTACH;FMTTYPE=image/jpeg:https://tcpride.org/wp-content/uploads/2025/02/flyer-1.jpeg
ORGANIZER;CN="LGBTQ+ Twin Cities Latin Dance":MAILTO:lgbtqtwincitieslatindance@fastmail.com
END:VEVENT
END:VCALENDAR