BEGIN:VCALENDAR
VERSION:2.0
PRODID:-//Twin Cities Pride - ECPv6.13.2.1//NONSGML v1.0//EN
CALSCALE:GREGORIAN
METHOD:PUBLISH
X-WR-CALNAME:Twin Cities Pride
X-ORIGINAL-URL:https://tcpride.org
X-WR-CALDESC:Events for Twin Cities Pride
REFRESH-INTERVAL;VALUE=DURATION:PT1H
X-Robots-Tag:noindex
X-PUBLISHED-TTL:PT1H
BEGIN:VTIMEZONE
TZID:America/Chicago
BEGIN:DAYLIGHT
TZOFFSETFROM:-0600
TZOFFSETTO:-0500
TZNAME:CDT
DTSTART:20250309T080000
END:DAYLIGHT
BEGIN:STANDARD
TZOFFSETFROM:-0500
TZOFFSETTO:-0600
TZNAME:CST
DTSTART:20251102T070000
END:STANDARD
END:VTIMEZONE
BEGIN:VEVENT
DTSTART;TZID=America/Chicago:20250803T133000
DTEND;TZID=America/Chicago:20250803T153000
DTSTAMP:20260420T034203
CREATED:20250304T160535Z
LAST-MODIFIED:20250304T160535Z
UID:62073-1754227800-1754235000@tcpride.org
SUMMARY:Twin Cities Aroace Solidarity Group
DESCRIPTION:Twin Cities Aroace Solidarity group is a joyful\, embracing 21+ creative community for progressive aroace-spec (aromantic and/or asexual spectrum) and queer allies to share mutual aid and friendship; creative/artistic exchange; and learning\, peer education & guidance across gender\, age\, income level\, ethnicity & other lines of social difference. We gather at Quatrefoil monthly to socialize and discuss queer media.\n\n\nPlease email or text group organizer Amy Brooks at abbrooks77@icloud.com | (937) 901-9205
URL:https://tcpride.org/event/twin-cities-aroace-solidarity-group-9/
LOCATION:Quatrefoil Library\, 1220 E Lake St\, Minneapolis\, MN\, 55407\, United States
CATEGORIES:Community Events
ORGANIZER;CN="Quatrefoil Library":MAILTO:president@quatrefoil.org
END:VEVENT
BEGIN:VEVENT
DTSTART;TZID=America/Chicago:20250807T183000
DTEND;TZID=America/Chicago:20250807T223000
DTSTAMP:20260420T034203
CREATED:20250623T225409Z
LAST-MODIFIED:20250623T225409Z
UID:85523-1754591400-1754605800@tcpride.org
SUMMARY:Ceol on the River
DESCRIPTION:Introducing “Ceol on the River\,” an outdoor concert experience with a distinctive Irish accent. A production of the Irish Fair of Minnesota\, the inaugural Ceol on the River concert will be held Thursday\, Aug. 7 on Saint Paul’s scenic Harriet Island. Lineup includes Roisin O\, The Belfast Cowboys\, and headliner The Coronas direct from Dublin. \nGeneral Admission tickets are $50 and VIP $125. For more information https://ceolontheriver.com/
URL:https://tcpride.org/event/ceol-on-the-river/
LOCATION:Harriet Island St Paul\, MN
CATEGORIES:Community Events
ATTACH;FMTTYPE=image/png:https://tcpride.org/wp-content/uploads/2025/06/Ceol-on-the-river-logo.png
END:VEVENT
BEGIN:VEVENT
DTSTART;VALUE=DATE:20250808
DTEND;VALUE=DATE:20250812
DTSTAMP:20260420T034203
CREATED:20250623T225444Z
LAST-MODIFIED:20250623T225444Z
UID:85516-1754622000-1754881199@tcpride.org
SUMMARY:Irish Fair of Minnesota
DESCRIPTION:The Irish Fair of Minnesota is a three-day cultural festival filled with all things Irish! This year\, the event is August 8-10\, 2025. We build a small city on Harriet Island in St. Paul to house six stages for Irish music and dance\, pub tents for refreshments\, a sports field for soccer\, hurling\, and camogie demonstrations\, marketplace tents\, and various other areas for kids activities and cultural programming. \n12 and under FREE; prices vary from $15-$60. For more information visit: https://www.irishfair.com/tickets
URL:https://tcpride.org/event/irish-fair-of-minnesota/
LOCATION:MN
CATEGORIES:Community Events
ATTACH;FMTTYPE=image/png:https://tcpride.org/wp-content/uploads/2025/06/Irish-Fair-Logo.png
END:VEVENT
BEGIN:VEVENT
DTSTART;TZID=America/Chicago:20250812T170000
DTEND;TZID=America/Chicago:20250812T190000
DTSTAMP:20260420T034203
CREATED:20250806T183249Z
LAST-MODIFIED:20250806T183249Z
UID:98801-1755018000-1755025200@tcpride.org
SUMMARY:Tuesday Toasts: Funding the Fight for Equality
DESCRIPTION:HRC Minnesota welcomes all Minnesotans to toast LGBTQ+ equality! Every member of our family and our friends can contribute financially in ways and amounts that are personally appropriate. Together\, we can fund the fight for LGBTQ equality in the North Star state and beyond. Free appetizers and a cash bar. \nTuesday Toasts is HRC Minnesota’s opportunity to make new friends and reconnect with fellow LGBTQ+ family and friends through a casual social and informative toast.
URL:https://tcpride.org/event/tuesday-toasts-funding-the-fight-for-equality/
LOCATION:Westin Edina\, 3201 Galleria\, Edina\, MN\, 55435\, United States
CATEGORIES:Community Events
ATTACH;FMTTYPE=image/png:https://tcpride.org/wp-content/uploads/2025/07/HRCMN_Logo_Square_Block_MobileHeader_600x400_YellowPadding.png
ORGANIZER;CN="Human Rights Campaign Minnesota":MAILTO:hrcminnesota@gmail.com
END:VEVENT
BEGIN:VEVENT
DTSTART;TZID=America/Chicago:20250812T190000
DTEND;TZID=America/Chicago:20250812T203000
DTSTAMP:20260420T034204
CREATED:20250304T152325Z
LAST-MODIFIED:20250304T152325Z
UID:61982-1755025200-1755030600@tcpride.org
SUMMARY:North Country Gaylaxians Book Club (Online)
DESCRIPTION:The meeting of the Twin Cities chapter of the Gaylactic Network\, an organization for the GLBT fan community\, whether it be science fiction\, fantasy\, horror\, comics\, or gaming. We read and discuss books of speculative fiction with GLBT or similar content or by GLBT authors. We meet the second Tuesday of the month at 7:00 pm on Zoom. Also\, monthly gaming get-togethers in a private home. \nInfo on events can be found on their Facebook page:    https://www.facebook.com/groups/NorthCountryGaylaxians/
URL:https://tcpride.org/event/north-country-gaylaxians-book-club-online-6/
LOCATION:MN
CATEGORIES:Community Events
END:VEVENT
BEGIN:VEVENT
DTSTART;TZID=America/Chicago:20250814T173000
DTEND;TZID=America/Chicago:20250814T190000
DTSTAMP:20260420T034204
CREATED:20250304T183535Z
LAST-MODIFIED:20250304T183535Z
UID:62188-1755192600-1755198000@tcpride.org
SUMMARY:Tea Time for Transwomen
DESCRIPTION:Tea Time is a peer support network for trans femme identifying individuals living in the Twin Cities and Greater Minnesota. The mission of Tea Time is to offer safer spaces for trans femme folks\, a highly vulnerable and stigmatized population. Tea Time offers various resources such as access to HRT injection supplies\, a free PrEP clinic\, safer spaces to discuss issues related to stigma and shame\, issues around medical transition\, sexual health\, peer support\, family issues\, etc. We offer safer spaces for trans femme folks to learn how to live and thrive through a network of peer support and care. \nTea Time meets every 2nd and 4th Thursday of the month from 5:30pm -7:00pm at The Aliveness Project located at 3808 Nicollet Ave\, Minneapolis\, MN 55409. \nContact Information: \nMain Office: 612-822-9668. \nLuna Maldonado: luna@aliveness.org \nTea Time Disscusion Topics\n\nName Change Clinic\nHormone Therapy\nSafe Spaces\nComing Out\nCommunity Connection\nDating / Love / Sex
URL:https://tcpride.org/event/tea-time-for-transwomen-11/
LOCATION:Aliveness Project\, 3808 Nicollet Ave\, Minneapolis\, MN\, 55409\, United States
CATEGORIES:Community Events
END:VEVENT
BEGIN:VEVENT
DTSTART;TZID=America/Chicago:20250816T131500
DTEND;TZID=America/Chicago:20250816T151500
DTSTAMP:20260420T034204
CREATED:20250304T155700Z
LAST-MODIFIED:20250304T155700Z
UID:62057-1755350100-1755357300@tcpride.org
SUMMARY:Prime Timers Bookclub
DESCRIPTION:This monthly book club is a subgroup of the Twin Cities Prime Timers Club\, which is affiliated with the state and national organizations. It meets each third Saturday of the month at Quatrefoil from 1:15pm – 3:15pm.
URL:https://tcpride.org/event/prime-timers-bookclub-7/
LOCATION:Quatrefoil Library\, 1220 E Lake St\, Minneapolis\, MN\, 55407\, United States
CATEGORIES:Community Events
ORGANIZER;CN="Quatrefoil Library":MAILTO:president@quatrefoil.org
END:VEVENT
BEGIN:VEVENT
DTSTART;VALUE=DATE:20250820
DTEND;VALUE=DATE:20250826
DTSTAMP:20260420T034204
CREATED:20250531T203359Z
LAST-MODIFIED:20250531T203359Z
UID:83672-1755658800-1756090799@tcpride.org
SUMMARY:LGBTQ+ Boundary Waters Guided Canoe Trip
DESCRIPTION:A queer-led guided and outfitted BWCAW Canoe Camping adventure for those who identify as LGBTQ+.  Sign up solo or with a freind. No experience necessary.
URL:https://tcpride.org/event/lgbtq-boundary-waters-guided-canoe-trip/
LOCATION:Ely Outfitting Company\, 529 E Sheridan St\, Ely\, 55731\, United States
CATEGORIES:Community Events
ATTACH;FMTTYPE=image/png:https://tcpride.org/wp-content/uploads/2025/05/LGBTQ-BWCA-Trip.png
ORGANIZER;CN="Ely Outfitting Company":MAILTO:info@elyoutfittingcompany.com
END:VEVENT
BEGIN:VEVENT
DTSTART;TZID=America/Chicago:20250824T130000
DTEND;TZID=America/Chicago:20250824T140000
DTSTAMP:20260420T034204
CREATED:20250304T175247Z
LAST-MODIFIED:20250304T175247Z
UID:62115-1756040400-1756044000@tcpride.org
SUMMARY:Transgender Book Club
DESCRIPTION:The Transgender Book Club meets the fourth Sunday of the month from 1-2pm to discuss books by and about trans people. We welcome people of all genders\, orientations\, and backgrounds! \n2025 Meeting Calendar: \n1/26 Bitter by Akwaeke Emezi\n2/23 Lunar Boy by Jes and Cin Wibowo\n3/23 Bluff by Danez Smith\n4/27 Pageboy by Elliot Page\n5/25 Girlmode by Magdalene Visaggio\n6/22 We Won’t Be Here Tomorrow by Margaret Killjoy\n7/27 A Shore Thing by Joanna Lowell\n8/24 The Dawnhounds by Sascha Stronach\n9/28 Just Happy to Be Here by Naomi Kanakia\n10/26 Dead Collections by Isaac Fellman\n11/23 Marley’s Pride by Joelle Retener
URL:https://tcpride.org/event/transgender-book-club-6/
LOCATION:Quatrefoil Library\, 1220 E Lake St\, Minneapolis\, MN\, 55407\, United States
CATEGORIES:Community Events
ORGANIZER;CN="Quatrefoil Library":MAILTO:president@quatrefoil.org
END:VEVENT
BEGIN:VEVENT
DTSTART;TZID=America/Chicago:20250827T190000
DTEND;TZID=America/Chicago:20250827T210000
DTSTAMP:20260420T034204
CREATED:20250304T162438Z
LAST-MODIFIED:20250918T172555Z
UID:62098-1756321200-1756328400@tcpride.org
SUMMARY:Twin Cities Queer Transplant Group
DESCRIPTION:The Twin Cities Queer Transplant Group is a new community meetup for folks who have recently relocated to the Twin Cities. Drop by to meet new people\, learn about local LGBTQIA+ resources\, chat\, and share your favorite Twin Cities discoveries! Locals\, partners\, and family welcome. Meetings hosted every 4th Wednesday at Quatrefoil Library. \nQuestions and information requests can be sent to TCTransplants@gmail.com
URL:https://tcpride.org/event/twin-cities-queer-transplant-group-7/
LOCATION:Quatrefoil Library\, 1220 E Lake St\, Minneapolis\, MN\, 55407\, United States
CATEGORIES:Community Events
ORGANIZER;CN="Twin Cities Queer Transplants":MAILTO:tctransplants@gmail.com
END:VEVENT
BEGIN:VEVENT
DTSTART;TZID=America/Chicago:20250828T173000
DTEND;TZID=America/Chicago:20250828T190000
DTSTAMP:20260420T034204
CREATED:20250304T183614Z
LAST-MODIFIED:20250304T183614Z
UID:62190-1756402200-1756407600@tcpride.org
SUMMARY:Tea Time for Transwomen
DESCRIPTION:Tea Time is a peer support network for trans femme identifying individuals living in the Twin Cities and Greater Minnesota. The mission of Tea Time is to offer safer spaces for trans femme folks\, a highly vulnerable and stigmatized population. Tea Time offers various resources such as access to HRT injection supplies\, a free PrEP clinic\, safer spaces to discuss issues related to stigma and shame\, issues around medical transition\, sexual health\, peer support\, family issues\, etc. We offer safer spaces for trans femme folks to learn how to live and thrive through a network of peer support and care. \nTea Time meets every 2nd and 4th Thursday of the month from 5:30pm -7:00pm at The Aliveness Project located at 3808 Nicollet Ave\, Minneapolis\, MN 55409. \nContact Information: \nMain Office: 612-822-9668. \nLuna Maldonado: luna@aliveness.org \nTea Time Disscusion Topics\n\nName Change Clinic\nHormone Therapy\nSafe Spaces\nComing Out\nCommunity Connection\nDating / Love / Sex
URL:https://tcpride.org/event/tea-time-for-transwomen-12/
LOCATION:Aliveness Project\, 3808 Nicollet Ave\, Minneapolis\, MN\, 55409\, United States
CATEGORIES:Community Events
END:VEVENT
BEGIN:VEVENT
DTSTART;TZID=America/Chicago:20250830T100000
DTEND;TZID=America/Chicago:20250830T110000
DTSTAMP:20260420T034204
CREATED:20250819T162238Z
LAST-MODIFIED:20250819T162238Z
UID:99784-1756548000-1756551600@tcpride.org
SUMMARY:LGBTQIA+ Community Restorative Yoga Class
DESCRIPTION:The mission at Srim Yoga is to create an inclusive\, healing space where all communities including LGBTQIA+ and BIPOC can access the transformative power of yoga. We are committed to equity\, representation\, and cultural respect\, offering accessible wellness practices that empower individuals\, nurture resilience\, and foster community connection. \nThe Somatic Restore class is gentle and relaxing for all ages and body types. No prior experience is necessary. Join now; space is limited!
URL:https://tcpride.org/event/lgbtqia-community-restorative-yoga-class-2/
LOCATION:Srim Yoga\, 1845 Stinson Blvd NE ste 103\, Minneapolis\, MN\, 55418\, United States
CATEGORIES:Community Events
ORGANIZER;CN="Srim Yoga":MAILTO:srimyogamsp@gmail.com
END:VEVENT
BEGIN:VEVENT
DTSTART;TZID=America/Chicago:20250830T100000
DTEND;TZID=America/Chicago:20250830T110000
DTSTAMP:20260420T034204
CREATED:20250819T162239Z
LAST-MODIFIED:20250819T162239Z
UID:99787-1756548000-1756551600@tcpride.org
SUMMARY:LGBTQIA+ Community Restorative Yoga Class
DESCRIPTION:The mission at Srim Yoga is to create an inclusive\, healing space where all communities including LGBTQIA+ and BIPOC can access the transformative power of yoga. We are committed to equity\, representation\, and cultural respect\, offering accessible wellness practices that empower individuals\, nurture resilience\, and foster community connection. \nThe Somatic Restore class is gentle and relaxing for all ages and body types. No prior experience is necessary. Join now; space is limited!
URL:https://tcpride.org/event/lgbtqia-community-restorative-yoga-class-3/
LOCATION:Srim Yoga\, 1845 Stinson Blvd NE ste 103\, Minneapolis\, MN\, 55418\, United States
CATEGORIES:Community Events
ATTACH;FMTTYPE=image/png:https://tcpride.org/wp-content/uploads/2025/08/LGBTQIACommunityClass.png
ORGANIZER;CN="Srim Yoga":MAILTO:srimyogamsp@gmail.com
END:VEVENT
END:VCALENDAR