BEGIN:VCALENDAR
VERSION:2.0
PRODID:-//Twin Cities Pride - ECPv6.13.2.1//NONSGML v1.0//EN
CALSCALE:GREGORIAN
METHOD:PUBLISH
X-ORIGINAL-URL:https://tcpride.org
X-WR-CALDESC:Events for Twin Cities Pride
REFRESH-INTERVAL;VALUE=DURATION:PT1H
X-Robots-Tag:noindex
X-PUBLISHED-TTL:PT1H
BEGIN:VTIMEZONE
TZID:America/Chicago
BEGIN:DAYLIGHT
TZOFFSETFROM:-0600
TZOFFSETTO:-0500
TZNAME:CDT
DTSTART:20250309T080000
END:DAYLIGHT
BEGIN:STANDARD
TZOFFSETFROM:-0500
TZOFFSETTO:-0600
TZNAME:CST
DTSTART:20251102T070000
END:STANDARD
END:VTIMEZONE
BEGIN:VEVENT
DTSTART;TZID=America/Chicago:20251030T190000
DTEND;TZID=America/Chicago:20251102T200000
DTSTAMP:20260419T232326
CREATED:20251023T161654Z
LAST-MODIFIED:20251023T161654Z
UID:118503-1761850800-1762113600@tcpride.org
SUMMARY:BareBones Puppet Theatre's 32nd Annual Halloween Extravaganza
DESCRIPTION:Since 1994\, BareBones Productions has proudly presented the Annual Halloween Extravaganza. This outdoor\, community-driven spectacle showcases larger-than-life puppetry\, stilt performances\, dance\, music\, and FIRE. Together\, we honor the circle of life by celebrating the seasonal journey of death in the fall. \nThis year\, we will present Up in Smoke\, a call to collective resistance and healing in the face of adversity\, urging solidarity\, hope\, and renewal through shared grief.
URL:https://tcpride.org/event/barebones-puppet-theatres-32nd-annual-halloween-extravaganza/
LOCATION:Powderhorn Park
CATEGORIES:Community Events
ATTACH;FMTTYPE=image/jpeg:https://tcpride.org/wp-content/uploads/2025/10/2025-BB-Poster-Photo-scaled.jpg
ORGANIZER;CN="BareBones Puppet Theatre":MAILTO:communications@barebonespuppets.org
END:VEVENT
BEGIN:VEVENT
DTSTART;TZID=America/Chicago:20251101T090000
DTEND;TZID=America/Chicago:20251101T100000
DTSTAMP:20260419T232326
CREATED:20251030T003744Z
LAST-MODIFIED:20251030T003744Z
UID:118649-1761987600-1761991200@tcpride.org
SUMMARY:Srim Yoga ACLU Donation Event
DESCRIPTION:The mission at Srim Yoga is to create an inclusive\, healing space where all communities including LGBTQIA+ and BIPOC can access the transformative power of yoga. We are committed to equity\, representation\, and cultural respect\, offering accessible wellness practices that empower individuals\, nurture resilience\, and foster community connection. \nThe Somatic Restore class is gentle and relaxing for all ages and body types. No prior experience is necessary. \nThis is a donation based class. Contribute within your means. All proceeds will be donated to the ACLU. The ACLU initiatives support many facets of Human Rights includings LGBTQ rights\, Women and reproductive rights\, and racial justice.
URL:https://tcpride.org/event/srim-yoga-aclu-donation-event/
LOCATION:Srim Yoga\, 1845 Stinson Blvd NE ste 103\, Minneapolis\, MN\, 55418\, United States
CATEGORIES:Community Events
ATTACH;FMTTYPE=image/png:https://tcpride.org/wp-content/uploads/2025/10/Purple-White-Colorful-Monthly-Meeting-Flyer.png
ORGANIZER;CN="Srim Yoga":MAILTO:srimyogamsp@gmail.com
END:VEVENT
BEGIN:VEVENT
DTSTART;TZID=America/Chicago:20251102T133000
DTEND;TZID=America/Chicago:20251102T153000
DTSTAMP:20260419T232326
CREATED:20250304T160738Z
LAST-MODIFIED:20250304T160738Z
UID:62079-1762090200-1762097400@tcpride.org
SUMMARY:Twin Cities Aroace Solidarity Group
DESCRIPTION:Twin Cities Aroace Solidarity group is a joyful\, embracing 21+ creative community for progressive aroace-spec (aromantic and/or asexual spectrum) and queer allies to share mutual aid and friendship; creative/artistic exchange; and learning\, peer education & guidance across gender\, age\, income level\, ethnicity & other lines of social difference. We gather at Quatrefoil monthly to socialize and discuss queer media.\n\n\nPlease email or text group organizer Amy Brooks at abbrooks77@icloud.com | (937) 901-9205
URL:https://tcpride.org/event/twin-cities-aroace-solidarity-group-12/
LOCATION:Quatrefoil Library\, 1220 E Lake St\, Minneapolis\, MN\, 55407\, United States
CATEGORIES:Community Events
ORGANIZER;CN="Quatrefoil Library":MAILTO:president@quatrefoil.org
END:VEVENT
BEGIN:VEVENT
DTSTART;TZID=America/Chicago:20251106T180000
DTEND;TZID=America/Chicago:20251106T193000
DTSTAMP:20260419T232326
CREATED:20250408T001931Z
LAST-MODIFIED:20250408T001931Z
UID:73097-1762452000-1762457400@tcpride.org
SUMMARY:Minnesota Lesbians of Color Support Forum
DESCRIPTION:🌈✨ This forum is all about uplifting lesbians\, sapphics\, and queers of color! 💖✊It’s open to trans and nonbinary folks too! 🏳️‍⚧️💫 \n🎤💬 Got something on your mind?Please submit your topics before the meeting—this space is for YOU\, and you get to help shape the convo! 🧠💥 \nSome topics we’re hoping to explore:💞 Interracial dating dynamics🌹 Sapphic dating experiences🚫 Society’s stigmas around women \nLet’s talk\, share\, and grow together! 🤝🔥
URL:https://tcpride.org/event/minnesota-lesbians-of-color-support-forum-6/
LOCATION:Queermunity\, 3036 Hennepin Ave\, Minneapolis\, MN\, 55408\, United States
CATEGORIES:Community Events
ATTACH;FMTTYPE=image/png:https://tcpride.org/wp-content/uploads/2025/04/Minnesota-Lesbians-of-Color-2-5.png
ORGANIZER;CN="Minnesota Lesbians%2C Sapphics &amp%3B Queers of Color (MNLOC)":MAILTO:minnesotalesbiansofcolor@gmail.com
END:VEVENT
BEGIN:VEVENT
DTSTART;TZID=America/Chicago:20251106T190000
DTEND;TZID=America/Chicago:20251207T160000
DTSTAMP:20260419T232326
CREATED:20251110T214716Z
LAST-MODIFIED:20251110T214716Z
UID:118779-1762455600-1765123200@tcpride.org
SUMMARY:The Happiness Gym at Mixed Blood Theatre
DESCRIPTION:A National New Play Network Rolling Premiere based on an original concept by Ken Weitzman. \nCo-directed by Alejandro Tey and Mark Valdez. This production uses the tenets of positive psychology to craft exercises that engage the Twin Cities community in uses of good news\, gratitude\, and connection. \n\n\nLink to register: https://mixedblood.com/the-happiness-gym/\n\nCome to the Happiness Gym if:\n\n\nYou believe there is revolution in meaningful connection.\nNeed a break from the 24 hour news cycle.\nBurnout threatens to pull you from the people and causes you care about.\nYou want to cultivate happiness using science!\n\n\n\nPRICING\nFree. Our work is guided by deep community engagement and rooted in Radical Hospitality. We eliminate barriers that prevent people from participating due to lack of resources\, racism\, physical accessibility\, gender discrimination\, or other barriers. Tickets are available at no cost to attendees.\n\nWe hope to see you and your students there!
URL:https://tcpride.org/event/the-happiness-gym-at-mixed-blood-theatre/
LOCATION:Mixed Blood Theatre\, 1501 S 4th St.\, Minneapolis\, MN\, 55454\, United States
CATEGORIES:Community Events
ATTACH;FMTTYPE=image/png:https://tcpride.org/wp-content/uploads/2025/10/Copy-of-FIN-Happiness-Gym-Postcard-5x7-1.png
ORGANIZER;CN="Mixed Blood Theatre":MAILTO:tolu@mixedblood.com
END:VEVENT
BEGIN:VEVENT
DTSTART;TZID=America/Chicago:20251107T173000
DTEND;TZID=America/Chicago:20251107T203000
DTSTAMP:20260419T232326
CREATED:20251023T161656Z
LAST-MODIFIED:20251023T161656Z
UID:118513-1762536600-1762547400@tcpride.org
SUMMARY:Queer\, Trans\, & Talented: A Youth Art Showcase
DESCRIPTION:🌈 Queer\, Trans\, & Talented: A Youth Art Showcase 🌈\n🎨 Presented by 825 Arts & RECLAIM\n📅 Friday\, November 7\n🕠 5:30–8:30 PM\n📍 825 Arts – 825 University Ave W\, Saint Paul\, MN\n\n✨ Celebrate the creativity and brilliance of queer and trans youth at Queer\, Trans\, & Talented! This one-night showcase will feature artwork\, live performances\, and interactive activities that bring our community together in color\, joy\, and pride.\n\nWhat to expect:\n• Over 20 youth artists exhibiting their work\n• Art for sale – take home something special\n• Zine-making station\n• Performances including singing\, monologues\, and lip sync\n• Prizes for the most colorful outfit & the wildest hair\n• Concessions & refreshments (non-alcoholic)\n\n💵💵💵 Bring cash to tip performers and purchase art directly from youth artists!\n\nGet tickets at: www.reclaim.care/QTT
URL:https://tcpride.org/event/queer-trans-talented-a-youth-art-showcase/
LOCATION:825 Arts\, 825 University Avenue W\, Saint Paul\, MN\, 55104\, United States
CATEGORIES:Community Events
ATTACH;FMTTYPE=image/jpeg:https://tcpride.org/wp-content/uploads/2025/10/Media.jpg
ORGANIZER;CN="Reclaim":MAILTO:frontdesk@reclaim.care
END:VEVENT
BEGIN:VEVENT
DTSTART;TZID=America/Chicago:20251108T123000
DTEND;TZID=America/Chicago:20251108T150000
DTSTAMP:20260419T232326
CREATED:20250408T001445Z
LAST-MODIFIED:20250408T001445Z
UID:73036-1762605000-1762614000@tcpride.org
SUMMARY:Puzzling and Beats
DESCRIPTION:🧩🎶 Come hang with us for a chill time putting together puzzles\, vibing to good music\, and connecting with new 🆕 and old 🧑‍🤝‍🧑 friends! ✨🛋️💬 Everyone’s invited! \nTo stay in the loop on upcoming events\, follow our two groups: \n👉 Elevate Twin Cities (E3)\n👉 Minnesota Lesbians\, Sapphics\, and Queers of Color 🏳️‍🌈💖 \nHere is our linktree:  https://linktr.ee/elevatetwincitites
URL:https://tcpride.org/event/puzzling-and-beats-6/
LOCATION:Queermunity\, 3036 Hennepin Ave\, Minneapolis\, MN\, 55408\, United States
CATEGORIES:Community Events
ATTACH;FMTTYPE=image/png:https://tcpride.org/wp-content/uploads/2025/04/Puzzling-and-Beats-with-MnLoc-and-Jenny-MN-3-5.png
ORGANIZER;CN="Elevate Twin Cities (E3)| Minnesota Lesbians%2C Sapphics &amp%3B Queers of Color (MNLOC)":MAILTO:e3.twincities@gmail.com
END:VEVENT
BEGIN:VEVENT
DTSTART;TZID=America/Chicago:20251110T080000
DTEND;TZID=America/Chicago:20251110T170000
DTSTAMP:20260419T232326
CREATED:20250304T152545Z
LAST-MODIFIED:20250304T152545Z
UID:61988-1762761600-1762794000@tcpride.org
SUMMARY:North Country Gaylaxians Book Club (Online)
DESCRIPTION:The meeting of the Twin Cities chapter of the Gaylactic Network\, an organization for the GLBT fan community\, whether it be science fiction\, fantasy\, horror\, comics\, or gaming. We read and discuss books of speculative fiction with GLBT or similar content or by GLBT authors. We meet the second Tuesday of the month at 7:00 pm on Zoom. Also\, monthly gaming get-togethers in a private home. \nInfo on events can be found on their Facebook page:    https://www.facebook.com/groups/NorthCountryGaylaxians/
URL:https://tcpride.org/event/north-country-gaylaxians-book-club-online-9/
LOCATION:MN
CATEGORIES:Community Events
END:VEVENT
BEGIN:VEVENT
DTSTART;TZID=America/Chicago:20251113T173000
DTEND;TZID=America/Chicago:20251113T190000
DTSTAMP:20260419T232326
CREATED:20250304T184016Z
LAST-MODIFIED:20250304T184016Z
UID:62200-1763055000-1763060400@tcpride.org
SUMMARY:Tea Time for Transwomen
DESCRIPTION:Tea Time is a peer support network for trans femme identifying individuals living in the Twin Cities and Greater Minnesota. The mission of Tea Time is to offer safer spaces for trans femme folks\, a highly vulnerable and stigmatized population. Tea Time offers various resources such as access to HRT injection supplies\, a free PrEP clinic\, safer spaces to discuss issues related to stigma and shame\, issues around medical transition\, sexual health\, peer support\, family issues\, etc. We offer safer spaces for trans femme folks to learn how to live and thrive through a network of peer support and care. \nTea Time meets every 2nd and 4th Thursday of the month from 5:30pm -7:00pm at The Aliveness Project located at 3808 Nicollet Ave\, Minneapolis\, MN 55409. \nContact Information: \nMain Office: 612-822-9668. \nLuna Maldonado: luna@aliveness.org \nTea Time Disscusion Topics\n\nName Change Clinic\nHormone Therapy\nSafe Spaces\nComing Out\nCommunity Connection\nDating / Love / Sex
URL:https://tcpride.org/event/tea-time-for-transwomen-17/
LOCATION:Aliveness Project\, 3808 Nicollet Ave\, Minneapolis\, MN\, 55409\, United States
CATEGORIES:Community Events
END:VEVENT
BEGIN:VEVENT
DTSTART;TZID=America/Chicago:20251115T131500
DTEND;TZID=America/Chicago:20251115T151500
DTSTAMP:20260419T232326
CREATED:20250304T155857Z
LAST-MODIFIED:20250304T155857Z
UID:62063-1763212500-1763219700@tcpride.org
SUMMARY:Prime Timers Bookclub
DESCRIPTION:This monthly book club is a subgroup of the Twin Cities Prime Timers Club\, which is affiliated with the state and national organizations. It meets each third Saturday of the month at Quatrefoil from 1:15pm – 3:15pm.
URL:https://tcpride.org/event/prime-timers-bookclub-10/
LOCATION:Quatrefoil Library\, 1220 E Lake St\, Minneapolis\, MN\, 55407\, United States
CATEGORIES:Community Events
ORGANIZER;CN="Quatrefoil Library":MAILTO:president@quatrefoil.org
END:VEVENT
BEGIN:VEVENT
DTSTART;TZID=America/Chicago:20251115T150000
DTEND;TZID=America/Chicago:20251115T163000
DTSTAMP:20260419T232326
CREATED:20251030T003746Z
LAST-MODIFIED:20251111T160616Z
UID:118731-1763218800-1763224200@tcpride.org
SUMMARY:Movement\, Breath\, & Meditation class for people who love and support their gender-expansive loved ones
DESCRIPTION:When someone we love shares more of who they truly are\, it changes the people around them too. Over the past four months\, Kesha (she/her/ella)\, a parent to a gender-expansive adult child\, has been holding an 8-week group for parents\, guardians\, chosen family\, and friends. \nIn this small\, relational space\, participants explore simple movement\, breath\, and rest practices while tending to their own shifting experiences. It’s not about performance\, expectation\, or “fixing” anything\, it’s about noticing\, connecting\, and being with others walking a similar path. \nThe next group begins November 15\, 2025. If you or someone you know might benefit\, Kesha welcomes questions and conversation. \nThis is a space built on care\, listening\, and shared humanity\, one that grows from the courage of gender-expansive folks and the communities that support them. \n8-week series \nDates: 11/15\, 11/22\, no class 11/29\, 12/6\, 12/13\, 12/20\, no class 12/27\, 1/3\, 1/10\, 1/17 \nSaturdays 3:00-4:40P Central \nAll sessions are virtual  \nCost: $80 for series\, no one will be turned away for financial reasons \nRequired before 11/14: Brief 15-20 minute intake to connect and go over any questions or physical considerations.
URL:https://tcpride.org/event/movement-breath-meditation-class-for-people-who-love-and-support-their-gender-expansive-loved-ones/
LOCATION:Virtual
CATEGORIES:Community Events
ORGANIZER;CN="Kesha Brennom%2C Weaver of Wisdom Yoga Therapy":MAILTO:kesha@weaversofwisdom.com
END:VEVENT
BEGIN:VEVENT
DTSTART;TZID=America/Chicago:20251120T180000
DTEND;TZID=America/Chicago:20251120T193000
DTSTAMP:20260419T232326
CREATED:20251110T214721Z
LAST-MODIFIED:20251110T214721Z
UID:119010-1763661600-1763667000@tcpride.org
SUMMARY:Trans Day of Remembrance Rally & Vigil
DESCRIPTION:This Trans Day of Remembrance\, join us in honoring and fighting for our murdered trans siblings with a rally and vigil in Loring Park. Now is the time to show up for trans lives. \nThursday November 20 \n6-7:30 pm \nLoring Park
URL:https://tcpride.org/event/trans-day-of-remembrance-rally-vigil/
LOCATION:Loring Park\, 1382 Willow St.\, Minneapolis\, MN\, 55403\, United States
CATEGORIES:Community Events
ATTACH;FMTTYPE=image/jpeg:https://tcpride.org/wp-content/uploads/2025/11/IMG_5765.jpeg
ORGANIZER;CN="MNAAC":MAILTO:Info@mnaac.org
END:VEVENT
BEGIN:VEVENT
DTSTART;VALUE=DATE:20251121
DTEND;VALUE=DATE:20251125
DTSTAMP:20260419T232326
CREATED:20250219T043131Z
LAST-MODIFIED:20250219T043131Z
UID:61252-1763694000-1763953199@tcpride.org
SUMMARY:Fables & Flames Romantasy Gala
DESCRIPTION:Fables & Flames is an enchanting blend of romance and fantasy\, celebrating the best of both genres through a magical weekend of literary immersion. Scheduled for November 21-23\, 2025 at the DoubleTree near the Mall of America in Bloomington\, Minnesota\, the event promises an unforgettable experience for authors\, readers\, and fans alike. \nThe convention features exclusive author signings\, a diverse array of vendors and crafters\, engaging panels\, and live readings. Highlights include a whimsical tea party with romance authors\, a dazzling ball with live music\, and unique room parties that capture the spirit of adventure. For those seeking quieter moments\, there will be a reading room and book exchange. \nWhether you’re a passionate reader\, an author\, or simply a lover of stories\, Fables & Flames invites you to step into a realm where books come alive\, connections are forged\, and magic is real.
URL:https://tcpride.org/event/fables-flames-romantasy-gala/
LOCATION:DoubleTree by Hilton Minneapolis Airport\, 2020 American Blvd E\, Bloomington\, MN\, 55425\, United States
CATEGORIES:Community Events
ATTACH;FMTTYPE=image/png:https://tcpride.org/wp-content/uploads/2025/02/FF_color-8.png
ORGANIZER;CN="Fables &amp%3B Flames":MAILTO:info@fablesandflames.com
END:VEVENT
BEGIN:VEVENT
DTSTART;TZID=America/Chicago:20251121T183000
DTEND;TZID=America/Chicago:20251122T000000
DTSTAMP:20260419T232326
CREATED:20251030T003745Z
LAST-MODIFIED:20251030T003745Z
UID:118688-1763749800-1763769600@tcpride.org
SUMMARY:Queer Movie Night Presents: Satranic Panic and The People’s Joker Double Feature
DESCRIPTION:November’s Queer Movie Night!!! \nCourtesy of Dark Star Pictures \nDOUBLE FEATURE \nShow up as early as 6:30pm \nFirst movie starts at 7pm \nLocated in Brooklyn Center \nFREE FREE FREE FREE \nFirst will be “Satranic Panic” \nWhen Max\, trans queen Aria’s found brother and the love of artist Jay’s life\, is ruthlessly slaughtered by a shadowy cult in a ritual to summon a cadre of demons\, two friends will follow a mysterious note promising answers and hit the road. \n  \nAfter that “The People’s Joker” \nThe People’s Joker is an anarchic and autofictional parody film that uses characters and themes from the Batman mythos to tell a trans coming-of-age story. The film was directed by and stars Vera Drew as Joker the Harlequin\, an aspiring transgender comedian. \n  \nMessage us on Instagram for the address and questions!! \n  \nAccesability: \nThe movie night will be held in a house. There are short steps into the house. Narrow doorways and hallways as it is a 1950s house. There is an upstairs bathroom and downstairs bathroom. Patio out back to get some fresh air. \n  \nThe movie will be shown downstairs on a projector. Floor seats and bean bag space is available. \nChairs on request. \n  \nWe have a ramp for getting into the house\, but not to get into the basement. If you would like us to set up the ramp to get in please ask!!
URL:https://tcpride.org/event/queer-movie-night-presents-satranic-panic-and-the-peoples-joker-double-feature/
LOCATION:Time Travelers Public House\, Brooklyn center\, MN\, 55429\, United States
CATEGORIES:Community Events
ATTACH;FMTTYPE=image/jpeg:https://tcpride.org/wp-content/uploads/2025/10/NovPoster.jpg
ORGANIZER;CN="Time Traveler's Public House":MAILTO:bexlynn@myyahoo.com
END:VEVENT
BEGIN:VEVENT
DTSTART;TZID=America/Chicago:20251123T130000
DTEND;TZID=America/Chicago:20251123T140000
DTSTAMP:20260419T232326
CREATED:20250304T175426Z
LAST-MODIFIED:20250304T175426Z
UID:62122-1763902800-1763906400@tcpride.org
SUMMARY:Transgender Book Club
DESCRIPTION:The Transgender Book Club meets the fourth Sunday of the month from 1-2pm to discuss books by and about trans people. We welcome people of all genders\, orientations\, and backgrounds! \n2025 Meeting Calendar: \n1/26 Bitter by Akwaeke Emezi\n2/23 Lunar Boy by Jes and Cin Wibowo\n3/23 Bluff by Danez Smith\n4/27 Pageboy by Elliot Page\n5/25 Girlmode by Magdalene Visaggio\n6/22 We Won’t Be Here Tomorrow by Margaret Killjoy\n7/27 A Shore Thing by Joanna Lowell\n8/24 The Dawnhounds by Sascha Stronach\n9/28 Just Happy to Be Here by Naomi Kanakia\n10/26 Dead Collections by Isaac Fellman\n11/23 Marley’s Pride by Joelle Retener
URL:https://tcpride.org/event/transgender-book-club-9/
LOCATION:Quatrefoil Library\, 1220 E Lake St\, Minneapolis\, MN\, 55407\, United States
CATEGORIES:Community Events
ORGANIZER;CN="Quatrefoil Library":MAILTO:president@quatrefoil.org
END:VEVENT
END:VCALENDAR