BEGIN:VCALENDAR
VERSION:2.0
PRODID:-//Twin Cities Pride - ECPv6.13.2.1//NONSGML v1.0//EN
CALSCALE:GREGORIAN
METHOD:PUBLISH
X-ORIGINAL-URL:https://tcpride.org
X-WR-CALDESC:Events for Twin Cities Pride
REFRESH-INTERVAL;VALUE=DURATION:PT1H
X-Robots-Tag:noindex
X-PUBLISHED-TTL:PT1H
BEGIN:VTIMEZONE
TZID:America/Chicago
BEGIN:DAYLIGHT
TZOFFSETFROM:-0600
TZOFFSETTO:-0500
TZNAME:CDT
DTSTART:20260308T080000
END:DAYLIGHT
BEGIN:STANDARD
TZOFFSETFROM:-0500
TZOFFSETTO:-0600
TZNAME:CST
DTSTART:20261101T070000
END:STANDARD
END:VTIMEZONE
BEGIN:VEVENT
DTSTART;TZID=America/Chicago:20260109T183000
DTEND;TZID=America/Chicago:20260109T190000
DTSTAMP:20260419T203053
CREATED:20260105T150530Z
LAST-MODIFIED:20260105T165333Z
UID:122373-1767983400-1767985200@tcpride.org
SUMMARY:Queer Movie Night Shiva Baby
DESCRIPTION:New Queer Movie Night! \n  \nJanuary 3rd Friday \nShow up 6:30pm \nMovie starts 7pm \n  \nShiva Baby \n  \n!!FREE!! \n  \n“Synopsis \nCollege student Danielle is faced with a series of awkward encounters at a day-long shiva\, a Jewish gathering during a time of mourning. Amongst overbearing relatives\, she is rattled by the appearance of an ex-girlfriend and of her secret sugar daddy\, who unexpectedly arrives with his wife and baby.” \n  \nThemes: Realistic Bi-sexual representation\, sex worker representation\, Jewish culture\, awkward family encounters\, post grad student experiences \n  \nLocated in Brooklyn Center \nMessage us on Instagram @timetravelerspublichouse for details and the location
URL:https://tcpride.org/event/queer-movie-night-shiva-baby/
LOCATION:Time Travelers Public House\, Brooklyn center\, MN\, 55429\, United States
CATEGORIES:Community Events
ATTACH;FMTTYPE=image/png:https://tcpride.org/wp-content/uploads/2026/01/Time-Travelers-Public-House-Presents.png
END:VEVENT
BEGIN:VEVENT
DTSTART;TZID=America/Chicago:20260112T180000
DTEND;TZID=America/Chicago:20260112T193000
DTSTAMP:20260419T203053
CREATED:20260105T150108Z
LAST-MODIFIED:20260105T150108Z
UID:122227-1768240800-1768246200@tcpride.org
SUMMARY:Queer and Disabled: An LGBTQIA+ Online Community Conversation
DESCRIPTION:Queerness and Disability carry a lot of overlap — both invite us into the work of owning our unique identity\, fighting normative assumptions\, and advocating for true inclusivity in both personal and public spaces. \nAt this online community listening session we’ll explore the joys and challenges of being both disabled and queer. We’ll discuss our hopes and dreams for the queer disability community\, and even talk about accessibility and barriers in LGBTQIA+ organizing — and how we’d like to see things change. \nCome to feel heard and seen\, to connect with others\, and to envision a better future for queer disabled Minnesotans! \nThis event is for anyone who self identifies as both LGBTQIA+ and also as disabled (i.e. anyone with physical\, sensory\, intellectual\, or mental/psychological disabilities — including folks with chronic health issues and those who are neurodivergent!).
URL:https://tcpride.org/event/queer-and-disabled-an-lgbtqia-online-community-conversation/
LOCATION:zoom\, NA\, NA\, MN\, 55422\, United States
CATEGORIES:Community Events
ATTACH;FMTTYPE=image/png:https://tcpride.org/wp-content/uploads/2025/12/Cover-Photo-Queer-Disabled.png
END:VEVENT
BEGIN:VEVENT
DTSTART;TZID=America/Chicago:20260116T160000
DTEND;TZID=America/Chicago:20260116T210000
DTSTAMP:20260419T203053
CREATED:20260113T181556Z
LAST-MODIFIED:20260113T181556Z
UID:122678-1768579200-1768597200@tcpride.org
SUMMARY:Ball Pit & Sensory Hangout!
DESCRIPTION:Ball Pit & Sensory Hangout!\nDate: January 16th\nTime: 4 PM – 9 PM\n$10-15 NOTAFLOF \nOur temporary spare bedroom has been transformed into a ball pit & sensory room\, and we’re celebrating! Come hang out and explore. \nSpaces to enjoy: \nBall Pit/Sensory Room: Slide in at your own risk \nLED cloud ceiling above \nBig comfy blacklight closet to relax in (door slightly ajar for safety) \nCorn sensory bin\, fidgets\, possible blanket fort \nLiving Room: Chill on the mattress full of squishmallows while watching low-energy shows \nGalaxy sky ceiling lights \nMaybe play some Puppycat \nMain hangout areas: Upstairs living room & ball pit room \nCome play\, relax\, and enjoy the cozy\, colorful vibes! \nContact us on instagram @timetravelerspublichouse to ask for the location and details
URL:https://tcpride.org/event/ball-pit-sensory-hangout/
LOCATION:Time Travelers Public House\, Brooklyn center\, MN\, 55429\, United States
CATEGORIES:Community Events
ATTACH;FMTTYPE=image/png:https://tcpride.org/wp-content/uploads/2026/01/Time-Travelers-Public-House-Presents-5.png
END:VEVENT
BEGIN:VEVENT
DTSTART;TZID=America/Chicago:20260131T100000
DTEND;TZID=America/Chicago:20260131T160000
DTSTAMP:20260419T203053
CREATED:20260302T155734Z
LAST-MODIFIED:20260302T155734Z
UID:123364-1769853600-1769875200@tcpride.org
SUMMARY:Community Maker Day and Donations Drive
DESCRIPTION:🧵 Community Maker Day & Donation Drive \nSupporting Twin Cities Pride Community Aid \nWith everything happening in our community right now\, I’m opening up the shop as a safe space to gather and do something tangible to help. We are hosting a day of making and a donation drive to get essential supplies to our neighbors. \nWhen & Where \n• Maker Day: Saturday\, Jan 31st | 10 AM – 4 PM \n• Donation Drop-offs: Wednesday\, Jan 28th (11 AM – 5 PM) or Saturday\, Jan 31st (10 AM – 4 PM) \n• Location: Fuzzbutt Boutique 303 21st St Suite 160\, Newport\, MN 55055 \nWhat We’re Doing \nWe are making blankets\, mittens\, and hats out of fleece\, flannel\, and yarn. I have the materials and the space. I just need your hands to help. \n• No experience needed: We’ll be doing both sewn and “no-sew” tie blankets. \n• Supplies: I have 4 sewing stations and plenty of fabric. You are welcome to bring your own sewing machine\, crochet hooks\, or knitting needles. \n• Seating: I have 16 chairs plus sewing stations. Please bring a lawn chair if you can\, just in case we have a big turnout! \nFood & Comfort \nI’ll be serving Pulled Pork and Mac & Cheese. If you’d like to bring a dish or snack to share\, feel free\, but please just come as you are. I have a fridge\, microwave\, and air fryer on-site. \nThe Donation Drive \nI’ll be using the shop van to drive all items to the Pride Cultural Arts Center on Monday. Per their current needs\, we are collecting: \n• Household Items: Dish soap\, sponges\, toilet paper\, paper towels. \n• Personal Care: Soap\, shampoo\, deodorant\, laundry soap. \n• Family & Pets: Diapers\, baby wipes\, pet food\, and treats. \n• Warmth: Blankets (we will also be making these!). \nWhy Newport? I want to provide a local\, comfortable spot for the South and East Metro to contribute. If you want to help but don’t want to drive into the city right now\, drop your donations here and I’ll handle the delivery to Harmon Pl for you. \nLet’s turn this heavy week into something warm. See you Saturday! 🩷 \n  \n  \n  \n  \n  \n  \n 
URL:https://tcpride.org/event/community-maker-day-and-donations-drive/
LOCATION:Fuzzbutt Boutique\, 303 21st St Suite 160\, Newport\, MN\, 55055\, United States
CATEGORIES:Community Events
ATTACH;FMTTYPE=image/jpeg:https://tcpride.org/wp-content/uploads/2026/01/inbound3497810889908588891.jpg
ORGANIZER;CN="Fuzzbutt Boutique":MAILTO:Info@fuzzbuttboutique.com
END:VEVENT
END:VCALENDAR