BEGIN:VCALENDAR
VERSION:2.0
PRODID:-//Twin Cities Pride - ECPv6.13.2.1//NONSGML v1.0//EN
CALSCALE:GREGORIAN
METHOD:PUBLISH
X-ORIGINAL-URL:https://tcpride.org
X-WR-CALDESC:Events for Twin Cities Pride
REFRESH-INTERVAL;VALUE=DURATION:PT1H
X-Robots-Tag:noindex
X-PUBLISHED-TTL:PT1H
BEGIN:VTIMEZONE
TZID:America/New_York
BEGIN:DAYLIGHT
TZOFFSETFROM:-0500
TZOFFSETTO:-0400
TZNAME:EDT
DTSTART:20220313T070000
END:DAYLIGHT
BEGIN:STANDARD
TZOFFSETFROM:-0400
TZOFFSETTO:-0500
TZNAME:EST
DTSTART:20221106T060000
END:STANDARD
END:VTIMEZONE
BEGIN:VEVENT
DTSTART;TZID=America/New_York:20220528T110000
DTEND;TZID=America/New_York:20220528T150000
DTSTAMP:20260422T173651
CREATED:20220512T225454Z
LAST-MODIFIED:20220515T155431Z
UID:32191-1653735600-1653750000@tcpride.org
SUMMARY:Festival of Youth
DESCRIPTION:We know it’s been a while since we’ve all been able to get together – so let’s kick off the summer with our friends and community. We’re bringing the food\, the resources\, and the entertainment- all you need to do is bring yourself! \nWe will be providing intakes and referrals to services on-site\, for a one-stop shop for your healthcare needs. \nPlease note: while we love the support of all of our community members- this event is designed for people age 13-30 years old.  \nHIV testing is incentivized with a $20 Target gift card\, and will use (nearly) instant testing technology- \nLocation: Centennial Park – 6301 Shingle Creek Parkway\, Brooklyn Center\, MN 55430 \nTime: Saturday\, May 28th from 11a-3p \n  \nHosted by: YAP & Hennepin County \nSponsored by: The Saloon
URL:https://tcpride.org/event/festival-of-youth/
LOCATION:Centennial Park\, 6301 Shingle Creek Parkway\, Brooklyn Center\, MN\, 55430\, United States
CATEGORIES:Community Events
ATTACH;FMTTYPE=image/png:https://tcpride.org/wp-content/uploads/2022/05/FOY-Flyer1.png
ORGANIZER;CN="YAP":MAILTO:yap@umn.edu
END:VEVENT
END:VCALENDAR