BEGIN:VCALENDAR
VERSION:2.0
PRODID:-//Twin Cities Pride - ECPv6.13.2.1//NONSGML v1.0//EN
CALSCALE:GREGORIAN
METHOD:PUBLISH
X-ORIGINAL-URL:https://tcpride.org
X-WR-CALDESC:Events for Twin Cities Pride
REFRESH-INTERVAL;VALUE=DURATION:PT1H
X-Robots-Tag:noindex
X-PUBLISHED-TTL:PT1H
BEGIN:VTIMEZONE
TZID:America/New_York
BEGIN:DAYLIGHT
TZOFFSETFROM:-0500
TZOFFSETTO:-0400
TZNAME:EDT
DTSTART:20220313T070000
END:DAYLIGHT
BEGIN:STANDARD
TZOFFSETFROM:-0400
TZOFFSETTO:-0500
TZNAME:EST
DTSTART:20221106T060000
END:STANDARD
END:VTIMEZONE
BEGIN:VEVENT
DTSTART;TZID=America/New_York:20220603T193000
DTEND;TZID=America/New_York:20220603T210000
DTSTAMP:20260422T161949
CREATED:20220503T125945Z
LAST-MODIFIED:20220503T125945Z
UID:31708-1654284600-1654290000@tcpride.org
SUMMARY:Perfect Arrangement at Theatre in the Round
DESCRIPTION:Perfect Arrangement\n\nby Topher Payne\ndirected by Alissa Blaeser\nJune 3 – June 26\, 2022\n\nIt’s 1950\, and new colors are being added to the Red Scare. Two U.S. State Department employees\, Bob and Norma\, have been tasked with identifying sexual deviants within their ranks. There’s just one problem: Both Bob and Norma are gay\, and have married each other’s partners as a carefully constructed cover. Inspired by the true story of the earliest stirrings of the American gay rights movement\, madcap classic sitcom-style laughs give way to provocative drama as two “All-American” couples are forced to stare down the closet door.
URL:https://tcpride.org/event/perfect-arrangement-at-theatre-in-the-round/
LOCATION:Theatre in the Round Players\, 245 Cedar Ave\, Minneapolis\, MN\, 55454
CATEGORIES:Community Events
ATTACH;FMTTYPE=image/png:https://tcpride.org/wp-content/uploads/2022/05/PERFECT-500-×-640-px-315-×-420-px.png
ORGANIZER;CN="Theatre in the Round Players":MAILTO:larisa@theatreintheround.org
END:VEVENT
END:VCALENDAR