BEGIN:VCALENDAR
VERSION:2.0
PRODID:-//Twin Cities Pride - ECPv6.13.2.1//NONSGML v1.0//EN
CALSCALE:GREGORIAN
METHOD:PUBLISH
X-WR-CALNAME:Twin Cities Pride
X-ORIGINAL-URL:https://tcpride.org
X-WR-CALDESC:Events for Twin Cities Pride
REFRESH-INTERVAL;VALUE=DURATION:PT1H
X-Robots-Tag:noindex
X-PUBLISHED-TTL:PT1H
BEGIN:VTIMEZONE
TZID:America/New_York
BEGIN:DAYLIGHT
TZOFFSETFROM:-0500
TZOFFSETTO:-0400
TZNAME:EDT
DTSTART:20220313T070000
END:DAYLIGHT
BEGIN:STANDARD
TZOFFSETFROM:-0400
TZOFFSETTO:-0500
TZNAME:EST
DTSTART:20221106T060000
END:STANDARD
END:VTIMEZONE
BEGIN:VEVENT
DTSTART;TZID=America/New_York:20220604T100000
DTEND;TZID=America/New_York:20220604T140000
DTSTAMP:20260422T161751
CREATED:20220531T210222Z
LAST-MODIFIED:20220531T210222Z
UID:32616-1654336800-1654351200@tcpride.org
SUMMARY:myHealth 50th Anniversary Celebration
DESCRIPTION:Please join us for an open house celebrating 50 years of myHealth! Since 1972\, myHealth has sought to bring easily accessible high-quality care to the young people of all races\, religions\, gender identities\, and sexual orientations in the west metro. For our 50th anniversary\, we want to celebrate our partnership with our wonderful community. \nTime: Saturday\, June 4\, 2022 from 10am to 2pm\nWhere: 8th Avenue S\, Hopkins\, MN 55343\nThere will be reduced rate food and free activities for all: \n\nFood Trucks\nIce Cream Sundaes\nLive Music\nGames and Crafts\nClinic Tours\nHenna Tattoos\nSpecial visit by U of M therapy animals from the PAWS Program (Pet Away Worry & Stress)\nAnd more!
URL:https://tcpride.org/event/myhealth-50th-anniversary-celebration/
LOCATION:myHealth for Teens & Young Adults\, 15 8th Ave S\, Hopkins\, 55343\, United States
CATEGORIES:Community Events
ATTACH;FMTTYPE=image/png:https://tcpride.org/wp-content/uploads/2022/05/MyHealth-50-transparent.png
ORGANIZER;CN="myHealth for Teens &amp%3B Young Adults":MAILTO:info@myhealthmn.org
END:VEVENT
BEGIN:VEVENT
DTSTART;TZID=America/New_York:20220604T193000
DTEND;TZID=America/New_York:20220604T220000
DTSTAMP:20260422T161751
CREATED:20220515T155653Z
LAST-MODIFIED:20220515T155653Z
UID:32240-1654371000-1654380000@tcpride.org
SUMMARY:Chosen LGBTQ+: A Mix of Chosen and Surprise Dates
DESCRIPTION:Chosen Minneapolis is kicking off Pride month with an LGBTQ+ date night! Join us on Saturday\, June 4th for an evening of fun and meeting new people. \nChosen is a unique experience that you won’t want to miss. \nWe’ve combined online and (traditional) speed dating for an enjoyable soirée at beautiful Hotel Emery. You’ll meet a mix of people; you may find love\, new friends\, and even make professional connections. \nYou’ll have the opportunity to choose a few of your dates beforehand\, based on dating question responses—the rest of the dates are left to chance. \nWe’ll be sure to keep the fun rotating! \nCome dressed to impress\, your dates await. \n*Ticket Sales End 6/1*
URL:https://tcpride.org/event/chosen-lgbtq-a-mix-of-chosen-and-surprise-dates/
LOCATION:Hotel Emery\, Downtown Minneapolis\, 215 S Fourth Street\, Minneapolis\, MN\, 55401\, United States
CATEGORIES:Community Events
ATTACH;FMTTYPE=image/jpeg:https://tcpride.org/wp-content/uploads/2022/05/41D07135-F70F-4C7B-BB26-114DF1D37A13.jpeg
ORGANIZER;CN="Chosen Minneapolis":MAILTO:chosenmpls@gmail.com
END:VEVENT
END:VCALENDAR