BEGIN:VCALENDAR
VERSION:2.0
PRODID:-//Twin Cities Pride - ECPv6.13.2.1//NONSGML v1.0//EN
CALSCALE:GREGORIAN
METHOD:PUBLISH
X-ORIGINAL-URL:https://tcpride.org
X-WR-CALDESC:Events for Twin Cities Pride
REFRESH-INTERVAL;VALUE=DURATION:PT1H
X-Robots-Tag:noindex
X-PUBLISHED-TTL:PT1H
BEGIN:VTIMEZONE
TZID:America/New_York
BEGIN:DAYLIGHT
TZOFFSETFROM:-0500
TZOFFSETTO:-0400
TZNAME:EDT
DTSTART:20220313T070000
END:DAYLIGHT
BEGIN:STANDARD
TZOFFSETFROM:-0400
TZOFFSETTO:-0500
TZNAME:EST
DTSTART:20221106T060000
END:STANDARD
END:VTIMEZONE
BEGIN:VEVENT
DTSTART;TZID=America/New_York:20220606T170000
DTEND;TZID=America/New_York:20220606T220000
DTSTAMP:20260422T161910
CREATED:20220603T204645Z
LAST-MODIFIED:20220603T204645Z
UID:32779-1654534800-1654552800@tcpride.org
SUMMARY:Board Games at Tower Games
DESCRIPTION:Bring your own game or try one from our demo library. \nMeet up with your friends or make some new ones during our open board game nights every Monday night. \nAll proceeds for the month of June go to the Aliveness Project just up the street from Tower Games.
URL:https://tcpride.org/event/board-games-at-tower-games/
LOCATION:Tower Games\, 3920 Nicollet Avenue South #150\, Minneapolis\, MN\, 55409\, United States
CATEGORIES:Community Events,Fundraisers
ATTACH;FMTTYPE=image/png:https://tcpride.org/wp-content/uploads/2022/06/Screenshot-2022-06-03-154621.png
ORGANIZER;CN="Tower Games":MAILTO:towergames@gmail.com
END:VEVENT
END:VCALENDAR