BEGIN:VCALENDAR
VERSION:2.0
PRODID:-//Twin Cities Pride - ECPv6.13.2.1//NONSGML v1.0//EN
CALSCALE:GREGORIAN
METHOD:PUBLISH
X-ORIGINAL-URL:https://tcpride.org
X-WR-CALDESC:Events for Twin Cities Pride
REFRESH-INTERVAL;VALUE=DURATION:PT1H
X-Robots-Tag:noindex
X-PUBLISHED-TTL:PT1H
BEGIN:VTIMEZONE
TZID:America/New_York
BEGIN:DAYLIGHT
TZOFFSETFROM:-0500
TZOFFSETTO:-0400
TZNAME:EDT
DTSTART:20220313T070000
END:DAYLIGHT
BEGIN:STANDARD
TZOFFSETFROM:-0400
TZOFFSETTO:-0500
TZNAME:EST
DTSTART:20221106T060000
END:STANDARD
END:VTIMEZONE
BEGIN:VEVENT
DTSTART;TZID=America/New_York:20220614T183000
DTEND;TZID=America/New_York:20220614T203000
DTSTAMP:20260422T161909
CREATED:20220531T210058Z
LAST-MODIFIED:20220531T210058Z
UID:32611-1655231400-1655238600@tcpride.org
SUMMARY:Bob’s Choice: An LGBTQ+ Advocate's Death with Dignity Journey
DESCRIPTION:Join us at the First Unitarian Society of Minneapolis for a screening of “Bob’s Choice\,” an independent documentary featuring Bob Fuller\, an LGBTQ activist and founding member of the Seattle Men’s Chorus living with terminal cancer. In 2017\, Bob opted to use Washington’s Death with Dignity law and invited filmmakers to document his final days as he celebrated a life well lived. \nA panel\, including Minnesota State Sen. Scott Dibble\, Rev. Dr. David Breeden\, senior minister at First Unitarian Society\, and advocate Carrie Framsted whose wife\, Monica\, died without the option of a peaceful death\, will discuss the End-of-Life Option Act and why this bill is important to Minnesotans. This event will be both in-person and live streamed.
URL:https://tcpride.org/event/bobs-choice-an-lgbtq-advocates-death-with-dignity-journey/
LOCATION:First Unitarian Society of Minneapolis\, 900 Mt Curve Ave\, Minneapolis\, MN\, 55403\, United States
CATEGORIES:Community Events,Movies
ATTACH;FMTTYPE=image/jpeg:https://tcpride.org/wp-content/uploads/2022/05/2022-June-Lavender-Pride-event.jpg
ORGANIZER;CN="Compassion &amp%3B Choices":MAILTO:mwilliams@compassionandchoices.org
END:VEVENT
END:VCALENDAR