BEGIN:VCALENDAR
VERSION:2.0
PRODID:-//Twin Cities Pride - ECPv6.13.2.1//NONSGML v1.0//EN
CALSCALE:GREGORIAN
METHOD:PUBLISH
X-ORIGINAL-URL:https://tcpride.org
X-WR-CALDESC:Events for Twin Cities Pride
REFRESH-INTERVAL;VALUE=DURATION:PT1H
X-Robots-Tag:noindex
X-PUBLISHED-TTL:PT1H
BEGIN:VTIMEZONE
TZID:America/New_York
BEGIN:DAYLIGHT
TZOFFSETFROM:-0500
TZOFFSETTO:-0400
TZNAME:EDT
DTSTART:20220313T070000
END:DAYLIGHT
BEGIN:STANDARD
TZOFFSETFROM:-0400
TZOFFSETTO:-0500
TZNAME:EST
DTSTART:20221106T060000
END:STANDARD
END:VTIMEZONE
BEGIN:VEVENT
DTSTART;TZID=America/New_York:20220615T190000
DTEND;TZID=America/New_York:20220615T210000
DTSTAMP:20260422T161948
CREATED:20220603T204247Z
LAST-MODIFIED:20220603T204247Z
UID:32776-1655319600-1655326800@tcpride.org
SUMMARY:Paint & Build with Travis
DESCRIPTION:Wondering where to start in the world of hobby painting? Questions on contrast paints\, glues\, brushes\, or anything miniature related?\nBring by any mini that you’d like to work on (or ask us for one to practice on) and Travis will be around to teach techniques\, answer questions\, and provide moral support!\nFunds for the evening go to The Aliveness Project just up the street from Tower Games.
URL:https://tcpride.org/event/paint-build-with-travis/
LOCATION:Tower Games\, 3920 Nicollet Avenue South #150\, Minneapolis\, MN\, 55409\, United States
CATEGORIES:Community Events,Fundraisers
ATTACH;FMTTYPE=image/jpeg:https://tcpride.org/wp-content/uploads/2022/06/280500847_7451588341549902_52059970480759280_n.jpg
ORGANIZER;CN="Tower Games":MAILTO:towergames@gmail.com
END:VEVENT
END:VCALENDAR