BEGIN:VCALENDAR
VERSION:2.0
PRODID:-//Twin Cities Pride - ECPv6.13.2.1//NONSGML v1.0//EN
CALSCALE:GREGORIAN
METHOD:PUBLISH
X-ORIGINAL-URL:https://tcpride.org
X-WR-CALDESC:Events for Twin Cities Pride
REFRESH-INTERVAL;VALUE=DURATION:PT1H
X-Robots-Tag:noindex
X-PUBLISHED-TTL:PT1H
BEGIN:VTIMEZONE
TZID:America/New_York
BEGIN:DAYLIGHT
TZOFFSETFROM:-0500
TZOFFSETTO:-0400
TZNAME:EDT
DTSTART:20220313T070000
END:DAYLIGHT
BEGIN:STANDARD
TZOFFSETFROM:-0400
TZOFFSETTO:-0500
TZNAME:EST
DTSTART:20221106T060000
END:STANDARD
END:VTIMEZONE
BEGIN:VEVENT
DTSTART;TZID=America/New_York:20220619T090000
DTEND;TZID=America/New_York:20220619T160000
DTSTAMP:20260422T161909
CREATED:20220402T203959Z
LAST-MODIFIED:20220402T220948Z
UID:12741-1655629200-1655654400@tcpride.org
SUMMARY:Pride Paddle #5
DESCRIPTION:PLEASE READ ALL THE WAY TO THE END… \nThis is an all inclusive\, family friendly event geared towards all ages. Everyone is responsible for their own safety & parents are solely responsible for the safety of their children. That being said I’ve had many people join me on the water over the yrs including younger children & even adults that can’t swim\, all have successfully survived the adventure & had a blast doing it. =) No kayaking experience necessary for this lil adventure\, you just need a desire to have fun on the water. \nWe will be launching from Interstate Park & paddling to Osceola Landing. This is typically a 3 – 4 hr paddle/float. \nFor those wanting to carpool we will meet behind Newman’s Bar in N St Paul at 9am & depart promptly at 9:30. \nhttp://www.neumannsbar.com/ \nStragglers are on your own so set your alarms & be on time. We will arrive at Interstate Park at 10:30 & paddles wet at 11am. Note… There is a fee if you do not have a state park permit. Motorcycles are also welcome to join\, Taylor’s Falls is a fun lil jaunt on 2 wheels. \nFor those needing to rent a kayak I highly recommend that you book in advance… \nCanoe & Kayak Rentals \n \nFor those bringing your own kayak please post a comment & we can coordinate transport with others who have room\, my trk is already fully loaded. I will have a vehicle at Osceola Landing to help transport people with their own boats back to Interstate Park. Masks are a necessity for sharing my shuttle! \nPlease bring a sandwich or snacks & plenty of water to stay hydrated. SMALL COOLERS ONLY. There are typically several awesome sand bars to stop & mingle\, this totally depends on the water level tho. I DO NOT encourage bringing alcoholic beverages on the water\, but I’m not your momma either. Please\, please be responsible with your drinking as I do not want to do any water rescues. \nInvite your friends\, family\, neighbors\, & bring your pup along if they kayak with you as well. Let’s make some awesome memories together. =) \nNOTE… I set the time as 9am – 4pm so you can plan from the time you leave the cities until you get back to the cities. We’re only on the water for about 4 hrs. 🌞 \n  \n  \nCOMMUNITY EVENT DISCLAIMER: The Twin Cities Pride Event Calendar is provided as a community service. Though the calendar is moderated for posting acceptable community events\, Twin Cities Pride does not endorse nor warranty the accuracy of the information included.
URL:https://tcpride.org/event/pride-paddle-5/
LOCATION:Interstate Park\, 307 Milltown Rd\, Taylor's Falls\, MN\, United States
CATEGORIES:Community Events
ATTACH;FMTTYPE=image/jpeg:https://tcpride.org/wp-content/uploads/2022/04/inbound1810880448672837045.jpg
END:VEVENT
BEGIN:VEVENT
DTSTART;TZID=America/New_York:20220619T180000
DTEND;TZID=America/New_York:20220619T223000
DTSTAMP:20260422T161909
CREATED:20220525T171302Z
LAST-MODIFIED:20220525T171302Z
UID:32484-1655661600-1655677800@tcpride.org
SUMMARY:WRESTLEPALOOZA - A PRIDE PRE-PARTY FEATURING: DRAG! BURLESQUE! PRO WRESTLING! LIVE MUSIC!
DESCRIPTION:WRESTLEPALOOZA\n– A PRIDE PRE-PARTY FEATURING: DRAG! BURLESQUE! PRO WRESTLING! LIVE MUSIC!\n\nSunday\, June 19th\nFirst Avenue\nMinneapolis\, MN\nDoors 6pm – Show 7pm\nADV $30 & $40 DOS\n18+\n\nSweetpea!  Sasha R. Cassadine!  RipTyde!  Emerald Eve!  Music By: Sean Anonymous & Friends!\nPlus\, all of your F1RST Wrestling favorites and so much more!\n\n\nFollow F1RST Wrestling on social media for updates\, and talent announcements: @f1rstwrestling\n\n\nOur 2022 PRIDE T’s will also be available!  All of the profits will be donated to our friends at OutFront MN.\n\n\nTICKETS: https://first-avenue.com/event/2022-06-wrestlepalooza/
URL:https://tcpride.org/event/wrestlepalooza-a-pride-pre-party/
LOCATION:First Avenue\, 701 N 1st Ave\, Minneapolis\, MN\, 55403\, United States
CATEGORIES:Community Events,Fundraisers
ATTACH;FMTTYPE=image/jpeg:https://tcpride.org/wp-content/uploads/2022/05/2022-06-19-F1RST-WP.jpg
END:VEVENT
END:VCALENDAR