BEGIN:VCALENDAR
VERSION:2.0
PRODID:-//Twin Cities Pride - ECPv6.13.2.1//NONSGML v1.0//EN
CALSCALE:GREGORIAN
METHOD:PUBLISH
X-ORIGINAL-URL:https://tcpride.org
X-WR-CALDESC:Events for Twin Cities Pride
REFRESH-INTERVAL;VALUE=DURATION:PT1H
X-Robots-Tag:noindex
X-PUBLISHED-TTL:PT1H
BEGIN:VTIMEZONE
TZID:America/New_York
BEGIN:DAYLIGHT
TZOFFSETFROM:-0500
TZOFFSETTO:-0400
TZNAME:EDT
DTSTART:20220313T070000
END:DAYLIGHT
BEGIN:STANDARD
TZOFFSETFROM:-0400
TZOFFSETTO:-0500
TZNAME:EST
DTSTART:20221106T060000
END:STANDARD
END:VTIMEZONE
BEGIN:VEVENT
DTSTART;TZID=America/New_York:20220620T190000
DTEND;TZID=America/New_York:20220620T210000
DTSTAMP:20260422T161910
CREATED:20220606T184409Z
LAST-MODIFIED:20220606T184409Z
UID:32932-1655751600-1655758800@tcpride.org
SUMMARY:Pride on TV Trivia at Black Sheep Pizza (North Loop)
DESCRIPTION:TRIVIA TOO GOOD NOT TO BE SEEN\nTrivia Mafia is celebrating Pride Month with a trivia night dedicated to LGBTQ television all throughout June! We’re witnessing a golden age of diverse queer representation today\, but it didn’t happen overnight. So in addition to highlighting today’s creators and characters\, we’ll pay tribute to the trailblazers that paved the way. \nSo break out your Pride flag\, pop up some popcorn\, and get ready to binge-answer this slate of questions! Whether you fell in love with Willow and Tara in the ‘90s\, were glued to the screen whenever someone shouted “Omar comin’!” in the 2000s\, or spent the last decade saving the day with the Crystal Gems\, we’ll have something for you to celebrate! \nWE’RE HERE! WE’RE QUEER! WE’D LIKE TO KNOW THE SPECIFICS!\n\n\nTrivia starts promptly on time\, so make sure to get to your location a bit early and discuss which of your favorite show’s characters absolutely should’ve been written as queer were it not for cowardly showrunners. \n\n\nTeams are limited to six — perfect for anyone who’s needed the assistance of a Fab Five! \n\n\nAll of our locations use the Trivia Mafia App for running theme nights\, so bring a fully-charged phone or risk having to sashay away mid-game. \n\n\nThe same questions will run at all locations\, so don’t be disappointed when you try to double dip and discover that we’re “Pose”-ing the same questions. \n\n\nUse your noodle\, not your Google. All cheaters will be asked to take Oscar’s seat next to Angela for the rest of the night.
URL:https://tcpride.org/event/pride-on-tv-trivia-at-black-sheep-pizza-north-loop/
LOCATION:Black Sheep Pizza\, 600 N Washington Ave\, Minneapolis\, MN\, 55401\, United States
CATEGORIES:Community Events
ATTACH;FMTTYPE=image/png:https://tcpride.org/wp-content/uploads/2022/06/pridelogo-3.png
ORGANIZER;CN="Trivia Mafia":MAILTO:info@triviamafia.com
END:VEVENT
BEGIN:VEVENT
DTSTART;TZID=America/New_York:20220620T193000
DTEND;TZID=America/New_York:20220620T210000
DTSTAMP:20260422T161910
CREATED:20220617T130635Z
LAST-MODIFIED:20220617T130635Z
UID:33520-1655753400-1655758800@tcpride.org
SUMMARY:Rainbows Under the Bandshell
DESCRIPTION:Come join the MN Freedom Band concert band and Freedom Jazz! in an evening full of music opening Twin Cities Pride Week.
URL:https://tcpride.org/event/rainbows-under-the-bandshell/
LOCATION:Lake Harriet Bandshell\, E Lake Harriet Parkway\, Minneapolis\, MN\, 55408\, United States
CATEGORIES:Community Events
ATTACH;FMTTYPE=image/jpeg:https://tcpride.org/wp-content/uploads/2022/06/CCA942E0-2FB6-4759-9071-470B4A4FB03F.jpeg
ORGANIZER;CN="Minnesota Freedom Band":MAILTO:mnfreedomband@gmail.com
END:VEVENT
END:VCALENDAR