BEGIN:VCALENDAR
VERSION:2.0
PRODID:-//Twin Cities Pride - ECPv6.13.2.1//NONSGML v1.0//EN
CALSCALE:GREGORIAN
METHOD:PUBLISH
X-ORIGINAL-URL:https://tcpride.org
X-WR-CALDESC:Events for Twin Cities Pride
REFRESH-INTERVAL;VALUE=DURATION:PT1H
X-Robots-Tag:noindex
X-PUBLISHED-TTL:PT1H
BEGIN:VTIMEZONE
TZID:America/New_York
BEGIN:DAYLIGHT
TZOFFSETFROM:-0500
TZOFFSETTO:-0400
TZNAME:EDT
DTSTART:20220313T070000
END:DAYLIGHT
BEGIN:STANDARD
TZOFFSETFROM:-0400
TZOFFSETTO:-0500
TZNAME:EST
DTSTART:20221106T060000
END:STANDARD
END:VTIMEZONE
BEGIN:VEVENT
DTSTART;TZID=America/New_York:20220622T190000
DTEND;TZID=America/New_York:20220622T210000
DTSTAMP:20260422T161949
CREATED:20220606T184526Z
LAST-MODIFIED:20220606T184526Z
UID:32940-1655924400-1655931600@tcpride.org
SUMMARY:Pride on TV Trivia at Black Sheep Pizza (Eat Street)
DESCRIPTION:TRIVIA TOO GOOD NOT TO BE SEEN\nTrivia Mafia is celebrating Pride Month with a trivia night dedicated to LGBTQ television all throughout June! We’re witnessing a golden age of diverse queer representation today\, but it didn’t happen overnight. So in addition to highlighting today’s creators and characters\, we’ll pay tribute to the trailblazers that paved the way. \nSo break out your Pride flag\, pop up some popcorn\, and get ready to binge-answer this slate of questions! Whether you fell in love with Willow and Tara in the ‘90s\, were glued to the screen whenever someone shouted “Omar comin’!” in the 2000s\, or spent the last decade saving the day with the Crystal Gems\, we’ll have something for you to celebrate! \nWE’RE HERE! WE’RE QUEER! WE’D LIKE TO KNOW THE SPECIFICS!\n\n\nTrivia starts promptly on time\, so make sure to get to your location a bit early and discuss which of your favorite show’s characters absolutely should’ve been written as queer were it not for cowardly showrunners. \n\n\nTeams are limited to six — perfect for anyone who’s needed the assistance of a Fab Five! \n\n\nAll of our locations use the Trivia Mafia App for running theme nights\, so bring a fully-charged phone or risk having to sashay away mid-game. \n\n\nThe same questions will run at all locations\, so don’t be disappointed when you try to double dip and discover that we’re “Pose”-ing the same questions. \n\n\nUse your noodle\, not your Google. All cheaters will be asked to take Oscar’s seat next to Angela for the rest of the night.
URL:https://tcpride.org/event/pride-on-tv-trivia-at-black-sheep-pizza-eat-street/
LOCATION:Black Sheep Pizza (Eat Street)\, 2550 Nicollet Ave\, Minneapolis\, MN\, 55404\, United States
CATEGORIES:Community Events
ATTACH;FMTTYPE=image/png:https://tcpride.org/wp-content/uploads/2022/06/pridelogo-5.png
ORGANIZER;CN="Trivia Mafia":MAILTO:info@triviamafia.com
END:VEVENT
BEGIN:VEVENT
DTSTART;TZID=America/New_York:20220622T190000
DTEND;TZID=America/New_York:20220622T230000
DTSTAMP:20260422T161949
CREATED:20220609T173103Z
LAST-MODIFIED:20220609T173320Z
UID:33160-1655924400-1655938800@tcpride.org
SUMMARY:Swipe Right: Queer Connections IRL
DESCRIPTION:PRIDE is the perfect place to meet new people\, make new friends or snag a new sweetie!! So ditch the apps and join us\, on the Hook & Ladder patio\, for some fresh air\, tasty drinks\, outdoor games and a whole bunch of queer cuties. Swipe Right is an event for folx wanting to build community\, connect with new queer friends and more! We can’t wait to kickoff PRIDE weekend with you! \nDate: 6/22/2022 (Wednesday)\nTime: 7:00 p.m. – 11:00 p.m.\nParking: Street parking \nTickets: 21+ Event/Limited Tickets Available\n$10 + Fees (Early Bird)\n$14 + Fees (Advance)\n$20 + Fees (Day of) \nEntrance: Patio Entrance (Minnehaha Ave)\nMusic:  Dj Boyfrrriend\n7:00 p.m. – 10:00 p.m. Dancing (Body Movin)\n10:00 p.m. – 11:00 p.m. Wine Down (Smooth Jams ) \nFeatures:\nOutdoor Bars\nMusic/Dancing\nPatio Vibes (Partial Covered)\nOutdoor Games\nTaco Truck \nGrrrl Scout events are created for queer folx (meaning\, but not limited to all people that identify within the LGBTQIA+ umbrella) and their allies. \nCONSENT IS MANDATORY! Please remember to be considerate and respect others’ personal boundaries. We will not tolerate any racist\, sexist\, ableist\, transphobic or homophobic language during any of our events and reserve the right to remove anyone that is causing harm. \nWe will do our best to create safe spaces for our attendees but ask our guests to practice adequate safety measures when attending any/all public events. Safety measures may include the use of adequate PPE (when needed) as well as regular testing before and/or after large-scale events. GRRRL SCOUT is committed to following the CDC’s recommendations as well as all state/city predetermined guidelines. \nIf you are having symptoms or have been exposed to someone with Covid-19\, please do not attend.
URL:https://tcpride.org/event/swipe-right-queer-connections-irl-pride-patio-party/
LOCATION:Hook and Ladder Theater & Lounge\, 3010 Minnehaha Ave\, Minneapolis\, MN\, 55406\, United States
CATEGORIES:Community Events
ATTACH;FMTTYPE=image/jpeg:https://tcpride.org/wp-content/uploads/2022/06/GS_SwipeRight-June_Assets_FBEventHeader.jpg
ORGANIZER;CN="GRRRL SCOUT":MAILTO:grrrlscoutmpls@gmail.com
END:VEVENT
END:VCALENDAR