BEGIN:VCALENDAR
VERSION:2.0
PRODID:-//Twin Cities Pride - ECPv6.13.2.1//NONSGML v1.0//EN
CALSCALE:GREGORIAN
METHOD:PUBLISH
X-ORIGINAL-URL:https://tcpride.org
X-WR-CALDESC:Events for Twin Cities Pride
REFRESH-INTERVAL;VALUE=DURATION:PT1H
X-Robots-Tag:noindex
X-PUBLISHED-TTL:PT1H
BEGIN:VTIMEZONE
TZID:America/New_York
BEGIN:DAYLIGHT
TZOFFSETFROM:-0500
TZOFFSETTO:-0400
TZNAME:EDT
DTSTART:20220313T070000
END:DAYLIGHT
BEGIN:STANDARD
TZOFFSETFROM:-0400
TZOFFSETTO:-0500
TZNAME:EST
DTSTART:20221106T060000
END:STANDARD
END:VTIMEZONE
BEGIN:VEVENT
DTSTART;TZID=America/New_York:20220623T150000
DTEND;TZID=America/New_York:20220623T220000
DTSTAMP:20260422T161909
CREATED:20220523T214239Z
LAST-MODIFIED:20220523T214239Z
UID:32423-1655996400-1656021600@tcpride.org
SUMMARY:MiX: Pride Weekend Kickoff
DESCRIPTION:It’s been a minute since we did this! Join DJs Lenka Paris and Shiek for an indoor/outdoor happy hour celebrating the start of Pride weekend.\n\nWe do it for the fun\, not the money… so there’s never a cover at MiX.\n\nMiX is a party by and for the LGBTQ+ community. All who share our spirit of fun are welcome. 21+
URL:https://tcpride.org/event/mix-pride-weekend-kickoff/
LOCATION:Graze Provisions & Libations\, 520 4th Street North\, Minneapolis\, MN\, 55401\, United States
CATEGORIES:Community Events
ATTACH;FMTTYPE=image/jpeg:https://tcpride.org/wp-content/uploads/2022/05/2022-06-23_MiX_Insta_Layers-1.jpg
END:VEVENT
BEGIN:VEVENT
DTSTART;TZID=America/New_York:20220623T170000
DTEND;TZID=America/New_York:20220623T210000
DTSTAMP:20260422T161909
CREATED:20220610T201552Z
LAST-MODIFIED:20220610T201552Z
UID:33199-1656003600-1656018000@tcpride.org
SUMMARY:2022 Minnesota Lavender Bar Association (MLBA) Pride Happy Hour
DESCRIPTION:The Minnesota Lavender Bar Association (MLBA) is an association of Lesbian\, Gay\, Bisexual\, Trans\, Queer\, plus (LGBTQ+) Law Students and Legal Professionals of Minnesota. \nJoin MLBA for our annual Pride Happy Hour. We will be celebrating outside on the terrace patio of The Hennepin. If the weather gets bad we will move the celebration inside at the same location. Two drinks and heavy appetizers will be hosted. Non-MLBA members are welcome to attend\, but please be sure to RSVP in advance! \nWe can’t wait to celebrate Pride with you! As with our other recent events\, we want everyone to enjoy themselves and feel safe. For that reason\, we ask that all attendees follow Minnesota Department of Health guidance about mask wearing. We cannot guarantee that social distancing will be possible depending on the amount of people who register and attend. Any public location where people are present provides an inherent risk of exposure to SARS-CoV-2\, the virus that causes COVID-19. We cannot guarantee that you will not be exposed to SARS-CoV-2 during the event. \nTo register\, visit https://mnlavbar.org/event-list/#!event/2022/6/23/2022-mlba-pride-happy-hour
URL:https://tcpride.org/event/2022-minnesota-lavender-bar-association-mlba-pride-happy-hour/
LOCATION:Hennepin Theatre Trust Building\, 900 Hennepin Ave\, Minneapolis\, MN\, 55403\, United States
CATEGORIES:Community Events
ATTACH;FMTTYPE=image/png:https://tcpride.org/wp-content/uploads/2022/06/My-project-7.png
ORGANIZER;CN="Minnesota Lavender Bar Association":MAILTO:info@mnlavbar.org
END:VEVENT
BEGIN:VEVENT
DTSTART;TZID=America/New_York:20220623T173000
DTEND;TZID=America/New_York:20220623T183000
DTSTAMP:20260422T161909
CREATED:20220614T205828Z
LAST-MODIFIED:20220614T205828Z
UID:33368-1656005400-1656009000@tcpride.org
SUMMARY:Play for PRIDE!
DESCRIPTION:Join the Wilderness Fitness & Coworking on Thursday\, June 23rd for an evening of HIIP for PRIDE (High Intensity Interval Play) in Uptown\, Minneapolis! HIIP Combines elements of cardio\, mobility\, strength\, gymnastics\, climbing\, and obstacle course training for a unique\, playful workout. Wear your craziest workout gear and get ready to play! \n  \nSPOILER ALERT: Most exciting workout outfit wins a free Wilderness Fitness & Coworking t-shirt of their choice. Can’t wait to see your threads!
URL:https://tcpride.org/event/play-for-pride/
LOCATION:The Wilderness Fitness & Coworking\, 1010 W Lake St\, Minneapolis\, MN\, 55408\, United States
CATEGORIES:Community Events
ATTACH;FMTTYPE=image/png:https://tcpride.org/wp-content/uploads/2022/06/Play-for-PRide.png
END:VEVENT
BEGIN:VEVENT
DTSTART;TZID=America/New_York:20220623T180000
DTEND;TZID=America/New_York:20220623T200000
DTSTAMP:20260422T161909
CREATED:20220606T184536Z
LAST-MODIFIED:20220606T184536Z
UID:32951-1656007200-1656014400@tcpride.org
SUMMARY:Pride on TV Trivia at Able Seedhouse and Brewery
DESCRIPTION:TRIVIA TOO GOOD NOT TO BE SEEN\nTrivia Mafia is celebrating Pride Month with a trivia night dedicated to LGBTQ television all throughout June! We’re witnessing a golden age of diverse queer representation today\, but it didn’t happen overnight. So in addition to highlighting today’s creators and characters\, we’ll pay tribute to the trailblazers that paved the way. \nSo break out your Pride flag\, pop up some popcorn\, and get ready to binge-answer this slate of questions! Whether you fell in love with Willow and Tara in the ‘90s\, were glued to the screen whenever someone shouted “Omar comin’!” in the 2000s\, or spent the last decade saving the day with the Crystal Gems\, we’ll have something for you to celebrate! \nWE’RE HERE! WE’RE QUEER! WE’D LIKE TO KNOW THE SPECIFICS!\n\n\nTrivia starts promptly on time\, so make sure to get to your location a bit early and discuss which of your favorite show’s characters absolutely should’ve been written as queer were it not for cowardly showrunners. \n\n\nTeams are limited to six — perfect for anyone who’s needed the assistance of a Fab Five! \n\n\nAll of our locations use the Trivia Mafia App for running theme nights\, so bring a fully-charged phone or risk having to sashay away mid-game. \n\n\nThe same questions will run at all locations\, so don’t be disappointed when you try to double dip and discover that we’re “Pose”-ing the same questions. \n\n\nUse your noodle\, not your Google. All cheaters will be asked to take Oscar’s seat next to Angela for the rest of the night.
URL:https://tcpride.org/event/pride-on-tv-trivia-at-able-seedhouse-and-brewery/
LOCATION:Able Seedhouse and Brewery\, 1121 Quincy St NE\, Minneapolis\, MN\, 55413\, United States
CATEGORIES:Community Events
ATTACH;FMTTYPE=image/png:https://tcpride.org/wp-content/uploads/2022/06/pridelogo-6.png
ORGANIZER;CN="Trivia Mafia":MAILTO:info@triviamafia.com
END:VEVENT
BEGIN:VEVENT
DTSTART;TZID=America/New_York:20220623T200000
DTEND;TZID=America/New_York:20220623T230000
DTSTAMP:20260422T161909
CREATED:20220601T212534Z
LAST-MODIFIED:20220601T212626Z
UID:32687-1656014400-1656025200@tcpride.org
SUMMARY:Meghan Murphy: The Big Red Show with special guest Monica West
DESCRIPTION:In partnership with SMA\, songstress\, powerhouse vocalist\, and certified showstopper Meghan Murphy is bringing her Big Red Show – along with special guest Monica West – to The Woman’s Club of Minneapolis on Thursday\, June 23! \nTickets are on sale now! \nReserved seating and VIP tickets are available. The VIP package includes premiere seating\, VIP parking\, pre-concert Rooftop reception with appetizers and a signature cocktail and a post-show Meet & Greet with Big Red. \nAbout Meghan Murphy \nSongstress powerhouse Meghan “Big Red” Murphy has taken the world by storm! Come see what all the fuss is about in an evening of songs\, stories\, sexiness and sass by the diva herself! “A sparkling redhead with a dynamite voice\,” (Chicago Sun Times)\, a razor-sharp wit\, and a stage presence full of Old Hollywood glamour\, Big Red will have you laughing\, crying\, and begging her for more! From pop to jazz\, blues to folk\, soul to showtunes\, she’ll sing ’em all and turn you into her next biggest fan! She’s an old broad with a new twist. So come on down for a brassy\, bawdy\, boozy good time! Big voice. Big laughs. Big Red. \nAbout The Big Red Show \nA fabulous one-woman-show-party starring vocalist Meghan Murphy filled with songs from an impressive range of musical genres\, personal stories of the highs and the lows of life\, and an old school performance style that hits you like a force of nature. Whether it’s a hilarious parody of a red-hot topic\, an unexpected mash-up\, a rap song performed in a gown\, or an old song you’ve never quite heard the same way before\, you can always count on great singing\, truthful storytelling\, and going on a rowdy\, yet intimate ride for the evening. If Lucille Ball\, Bette Midler\, Bonnie Raitt\, Rita Hayworth and Etta James had a baby\, her name would be Big Red. Now who doesn’t want to see THAT?!
URL:https://tcpride.org/event/meghan-murphy-the-big-red-show-with-special-guest-monica-west/
LOCATION:The Woman’s Club Of Minneapolis\, 410 Oak Grove St\, Minneapolis\, MN\, 55403\, United States
CATEGORIES:Community Events
ATTACH;FMTTYPE=image/png:https://tcpride.org/wp-content/uploads/2022/06/MeganMurphy_SQUARE.png
ORGANIZER;CN="Sue McLean &amp%3B Associates":MAILTO:info@suemclean.com
END:VEVENT
END:VCALENDAR