BEGIN:VCALENDAR
VERSION:2.0
PRODID:-//Twin Cities Pride - ECPv6.13.2.1//NONSGML v1.0//EN
CALSCALE:GREGORIAN
METHOD:PUBLISH
X-ORIGINAL-URL:https://tcpride.org
X-WR-CALDESC:Events for Twin Cities Pride
REFRESH-INTERVAL;VALUE=DURATION:PT1H
X-Robots-Tag:noindex
X-PUBLISHED-TTL:PT1H
BEGIN:VTIMEZONE
TZID:America/New_York
BEGIN:DAYLIGHT
TZOFFSETFROM:-0500
TZOFFSETTO:-0400
TZNAME:EDT
DTSTART:20220313T070000
END:DAYLIGHT
BEGIN:STANDARD
TZOFFSETFROM:-0400
TZOFFSETTO:-0500
TZNAME:EST
DTSTART:20221106T060000
END:STANDARD
END:VTIMEZONE
BEGIN:VEVENT
DTSTART;TZID=America/New_York:20220626T120000
DTEND;TZID=America/New_York:20220627T020000
DTSTAMP:20260422T150256
CREATED:20220606T190423Z
LAST-MODIFIED:20220606T190423Z
UID:32987-1656244800-1656295200@tcpride.org
SUMMARY:Saloon Block Party
DESCRIPTION:TICKETS AVAILABLE HERE
URL:https://tcpride.org/event/saloon-block-party-3/
LOCATION:THE SALOON MN\, 830 Hennepin Ave\, Minneapolis\, MN\, 55403\, United States
CATEGORIES:Community Events
ATTACH;FMTTYPE=image/jpeg:https://tcpride.org/wp-content/uploads/2022/06/SALOONBLOCKPARTY_MainStage.jpg
END:VEVENT
BEGIN:VEVENT
DTSTART;TZID=America/New_York:20220626T180000
DTEND;TZID=America/New_York:20220626T210000
DTSTAMP:20260422T150256
CREATED:20220408T145447Z
LAST-MODIFIED:20220408T145447Z
UID:12850-1656266400-1656277200@tcpride.org
SUMMARY:Team Trans Hockey Exhibition Games
DESCRIPTION:Team Trans Hockey Exhibition Games: “How did it start / How It’s going now” \n  \nTeam Trans is an all transgender hockey team. We have players  that are novice to professional that play on Team Trans. We will be showcasing hockey games from two of our divisions/levels. We will be skating against other LGBTQIA+ hockey teams and celebrate and honor the history of LGBTQIA+ Hockey in the Twin Cities.
URL:https://tcpride.org/event/team-trans-hockey-exhibition-games/
LOCATION:Parade Ice Garden\, 600 Kenwood Pkwy\, Minneapolis\, MN\, 55403\, United States
CATEGORIES:Community Events
ATTACH;FMTTYPE=image/png:https://tcpride.org/wp-content/uploads/2022/04/download.png
ORGANIZER;CN="Team Trans Twin Cities":MAILTO:tctnbhc@gmail.com
END:VEVENT
BEGIN:VEVENT
DTSTART;TZID=America/New_York:20220626T190000
DTEND;TZID=America/New_York:20220627T000000
DTSTAMP:20260422T150256
CREATED:20220503T130105Z
LAST-MODIFIED:20220503T130105Z
UID:31742-1656270000-1656288000@tcpride.org
SUMMARY:SAUCY SANTANA & FRIENDS LIVE IN CONCERT
DESCRIPTION:Justin Harris (born October 8\, 1993)\, known professionally as Saucy Santana\, is an American rapper. After beginning his career as a makeup artist for the hip hop duo City Girls\, he started rapping in February 2019\, and released his debut single “Walk Em Like A Dog” that same year. After becoming a recurring guest on the reality television franchise Love & Hip Hop: Miami\, Harris gained further prominence in 2021 when his singles “Material Girl”\, “Walk” and “Here We Go” spawned viral challenges on TikTok. \nEncouraging Leaders & Dolo Presents \nPride Weekend with SAUCY SANTANA & FRIENDS LIVE IN CONCERT \n18+ Events \nDoors Open at 7pm til 12am \nHosted By: Ashli Henderson
URL:https://tcpride.org/event/saucy-santana-friends-live-in-concert/
LOCATION:The Pourhouse\, 10 S 5th St\, Minneapolis\, 55402
CATEGORIES:Community Events
ATTACH;FMTTYPE=image/jpeg:https://tcpride.org/wp-content/uploads/2022/05/phonto.jpg
ORGANIZER;CN="Encouraging Leaders":MAILTO:info@encouragingleadersmn.org
END:VEVENT
END:VCALENDAR