BEGIN:VCALENDAR
VERSION:2.0
PRODID:-//Twin Cities Pride - ECPv6.13.2.1//NONSGML v1.0//EN
CALSCALE:GREGORIAN
METHOD:PUBLISH
X-ORIGINAL-URL:https://tcpride.org
X-WR-CALDESC:Events for Twin Cities Pride
REFRESH-INTERVAL;VALUE=DURATION:PT1H
X-Robots-Tag:noindex
X-PUBLISHED-TTL:PT1H
BEGIN:VTIMEZONE
TZID:America/New_York
BEGIN:DAYLIGHT
TZOFFSETFROM:-0500
TZOFFSETTO:-0400
TZNAME:EDT
DTSTART:20220313T070000
END:DAYLIGHT
BEGIN:STANDARD
TZOFFSETFROM:-0400
TZOFFSETTO:-0500
TZNAME:EST
DTSTART:20221106T060000
END:STANDARD
END:VTIMEZONE
BEGIN:VEVENT
DTSTART;TZID=America/New_York:20220628T160000
DTEND;TZID=America/New_York:20220628T173000
DTSTAMP:20260422T150256
CREATED:20220616T163954Z
LAST-MODIFIED:20220616T163954Z
UID:33487-1656432000-1656437400@tcpride.org
SUMMARY:Pride Outside: Summer Edition
DESCRIPTION:Discover the outdoors at Dodge Nature Center with other Queer youth in an all-welcoming environment! Enjoy hands-on activities and interactions with Dodge’s education animals and wild flora and fauna. \nPride Outside is a program for 5th-12th grade youth\, of any sexual or gender identity\, and LGBTQ+ allies. This summer program is offered the fourth Tuesday of each month from June to August. It will be a safe space—students are encouraged to come as they are. Please come dressed for the weather. \nProgram Dates & Themes\n\nJune 28: Reptiles & Amphibians\nJuly 26: Orienteering\nAugust 23: Natural Dyes
URL:https://tcpride.org/event/pride-outside-summer-edition/
LOCATION:Dodge Nature Center\, 365 Marie Avenue W\, West St. Paul\, MN\, 55118\, United States
CATEGORIES:Community Events
ATTACH;FMTTYPE=image/png:https://tcpride.org/wp-content/uploads/2022/06/WordPress-Featured-Image_Pride-Outside-Summer.png
ORGANIZER;CN="Dodge Nature Center":MAILTO:info@dodgenaturecenter.org
END:VEVENT
BEGIN:VEVENT
DTSTART;TZID=America/New_York:20220628T183000
DTEND;TZID=America/New_York:20220628T200000
DTSTAMP:20260422T150256
CREATED:20220616T163513Z
LAST-MODIFIED:20220616T163513Z
UID:33479-1656441000-1656446400@tcpride.org
SUMMARY:Wild Pride: All About Amphibians (And Reptiles\, Too)
DESCRIPTION:Queer adults and allies are invited to explore the wild world of reptiles and amphibians at Dodge Nature Center. Why did the turtles cross the road and how can you help them get to safety? How do scientists survey frog and toad populations? Bring your questions and curiosity about herpetofauna. Let’s meet some of Dodge’s resident reptiles and amphibians and find out why we should respect—but not fear—them. You’re welcome to stay and sssocialize after the program!
URL:https://tcpride.org/event/wild-pride-all-about-amphibians-and-reptiles-too/
LOCATION:Dodge Nature Center\, 365 Marie Avenue W\, West St. Paul\, MN\, 55118\, United States
CATEGORIES:Community Events
ATTACH;FMTTYPE=image/png:https://tcpride.org/wp-content/uploads/2022/06/WordPress-Featured-Image_Wild-Pride-Amphibians.png
ORGANIZER;CN="Dodge Nature Center":MAILTO:info@dodgenaturecenter.org
END:VEVENT
BEGIN:VEVENT
DTSTART;TZID=America/New_York:20220628T183000
DTEND;TZID=America/New_York:20220628T203000
DTSTAMP:20260422T150256
CREATED:20220606T185546Z
LAST-MODIFIED:20220606T185546Z
UID:32968-1656441000-1656448200@tcpride.org
SUMMARY:Pride on TV Trivia at Wooden Hill Brewing Co.
DESCRIPTION:TRIVIA TOO GOOD NOT TO BE SEEN\nTrivia Mafia is celebrating Pride Month with a trivia night dedicated to LGBTQ television all throughout June! We’re witnessing a golden age of diverse queer representation today\, but it didn’t happen overnight. So in addition to highlighting today’s creators and characters\, we’ll pay tribute to the trailblazers that paved the way. \nSo break out your Pride flag\, pop up some popcorn\, and get ready to binge-answer this slate of questions! Whether you fell in love with Willow and Tara in the ‘90s\, were glued to the screen whenever someone shouted “Omar comin’!” in the 2000s\, or spent the last decade saving the day with the Crystal Gems\, we’ll have something for you to celebrate! \nWE’RE HERE! WE’RE QUEER! WE’D LIKE TO KNOW THE SPECIFICS!\n\n\nTrivia starts promptly on time\, so make sure to get to your location a bit early and discuss which of your favorite show’s characters absolutely should’ve been written as queer were it not for cowardly showrunners. \n\n\nTeams are limited to six — perfect for anyone who’s needed the assistance of a Fab Five! \n\n\nAll of our locations use the Trivia Mafia App for running theme nights\, so bring a fully-charged phone or risk having to sashay away mid-game. \n\n\nThe same questions will run at all locations\, so don’t be disappointed when you try to double dip and discover that we’re “Pose”-ing the same questions. \n\n\nUse your noodle\, not your Google. All cheaters will be asked to take Oscar’s seat next to Angela for the rest of the night.
URL:https://tcpride.org/event/pride-on-tv-trivia-at-wooden-hill-brewing-co/
LOCATION:Wooden Hill Brewing Co.\, 7421 Bush Lake Rd.\, Edina\, MN\, 55439\, United States
CATEGORIES:Community Events
ATTACH;FMTTYPE=image/png:https://tcpride.org/wp-content/uploads/2022/06/pridelogo-8.png
ORGANIZER;CN="Trivia Mafia":MAILTO:info@triviamafia.com
END:VEVENT
END:VCALENDAR