BEGIN:VCALENDAR
VERSION:2.0
PRODID:-//Twin Cities Pride - ECPv6.13.2.1//NONSGML v1.0//EN
CALSCALE:GREGORIAN
METHOD:PUBLISH
X-WR-CALNAME:Twin Cities Pride
X-ORIGINAL-URL:https://tcpride.org
X-WR-CALDESC:Events for Twin Cities Pride
REFRESH-INTERVAL;VALUE=DURATION:PT1H
X-Robots-Tag:noindex
X-PUBLISHED-TTL:PT1H
BEGIN:VTIMEZONE
TZID:America/New_York
BEGIN:DAYLIGHT
TZOFFSETFROM:-0500
TZOFFSETTO:-0400
TZNAME:EDT
DTSTART:20220313T070000
END:DAYLIGHT
BEGIN:STANDARD
TZOFFSETFROM:-0400
TZOFFSETTO:-0500
TZNAME:EST
DTSTART:20221106T060000
END:STANDARD
END:VTIMEZONE
BEGIN:VEVENT
DTSTART;TZID=America/New_York:20220708T163000
DTEND;TZID=America/New_York:20220708T203000
DTSTAMP:20260422T150159
CREATED:20220613T163402Z
LAST-MODIFIED:20220613T163402Z
UID:33271-1657297800-1657312200@tcpride.org
SUMMARY:Pride Social
DESCRIPTION:Join us for a fun\, casual\, and welcoming evening celebrating Pride in our community! \nOpen House Style: Come and go as you please. \nFree to attend. Food and drink will be available to order. \nOpen to all LGBTQ+ and allies. \nSome fun activities and prizes are in the works! Follow our FB page for more details!
URL:https://tcpride.org/event/pride-social/
LOCATION:The Depot Express\, 104 Broadway\, Alexandria\, MN\, 56308\, United States
CATEGORIES:Community Events
ATTACH;FMTTYPE=image/png:https://tcpride.org/wp-content/uploads/2022/06/Purple-Colorful-Modern-Happy-Pride-Month-Instagram-Post-Facebook-Event-Cover.png
END:VEVENT
END:VCALENDAR