BEGIN:VCALENDAR
VERSION:2.0
PRODID:-//Twin Cities Pride - ECPv6.13.2.1//NONSGML v1.0//EN
CALSCALE:GREGORIAN
METHOD:PUBLISH
X-WR-CALNAME:Twin Cities Pride
X-ORIGINAL-URL:https://tcpride.org
X-WR-CALDESC:Events for Twin Cities Pride
REFRESH-INTERVAL;VALUE=DURATION:PT1H
X-Robots-Tag:noindex
X-PUBLISHED-TTL:PT1H
BEGIN:VTIMEZONE
TZID:America/New_York
BEGIN:DAYLIGHT
TZOFFSETFROM:-0500
TZOFFSETTO:-0400
TZNAME:EDT
DTSTART:20230312T070000
END:DAYLIGHT
BEGIN:STANDARD
TZOFFSETFROM:-0400
TZOFFSETTO:-0500
TZNAME:EST
DTSTART:20231105T060000
END:STANDARD
END:VTIMEZONE
BEGIN:VEVENT
DTSTART;TZID=America/New_York:20230115T153000
DTEND;TZID=America/New_York:20230115T173000
DTSTAMP:20260422T070818
CREATED:20221230T151521Z
LAST-MODIFIED:20221230T151521Z
UID:34879-1673796600-1673803800@tcpride.org
SUMMARY:One Voice Mixed Chorus Presents: Generation
DESCRIPTION:One Voice Mixed Chorus presents Generation\, a concert exploring intergenerational relationships across our LGBTQ+ community. With a particular focus on queer youth and elders\, the concert weaves together powerful stories of identity\, change\, and resilience. \nGeneration also marks Jane Ramseyer Miller’s final concert as One Voice’s Artistic Director\, after her legacy of 27 years!
URL:https://tcpride.org/event/one-voice-mixed-chorus-presents-generation-3/
LOCATION:South High School\, 3131 19th Ave S\, Minneapolis\, MN\, 55407\, United States
CATEGORIES:Community Events
ATTACH;FMTTYPE=image/jpeg:https://tcpride.org/wp-content/uploads/2022/11/GEN-POSTCARD_proof-only_Page_1-1.jpg
ORGANIZER;CN="One Voice Mixed Chorus":MAILTO:operations@onevoicemn.org
END:VEVENT
END:VCALENDAR