BEGIN:VCALENDAR
VERSION:2.0
PRODID:-//Twin Cities Pride - ECPv6.13.2.1//NONSGML v1.0//EN
CALSCALE:GREGORIAN
METHOD:PUBLISH
X-WR-CALNAME:Twin Cities Pride
X-ORIGINAL-URL:https://tcpride.org
X-WR-CALDESC:Events for Twin Cities Pride
REFRESH-INTERVAL;VALUE=DURATION:PT1H
X-Robots-Tag:noindex
X-PUBLISHED-TTL:PT1H
BEGIN:VTIMEZONE
TZID:America/Chicago
BEGIN:DAYLIGHT
TZOFFSETFROM:-0600
TZOFFSETTO:-0500
TZNAME:CDT
DTSTART:20230312T080000
END:DAYLIGHT
BEGIN:STANDARD
TZOFFSETFROM:-0500
TZOFFSETTO:-0600
TZNAME:CST
DTSTART:20231105T070000
END:STANDARD
END:VTIMEZONE
BEGIN:VEVENT
DTSTART;TZID=America/Chicago:20230319T140000
DTEND;TZID=America/Chicago:20230319T160000
DTSTAMP:20260422T042336
CREATED:20230214T174448Z
LAST-MODIFIED:20230214T174448Z
UID:35600-1679234400-1679241600@tcpride.org
SUMMARY:Minnesota Freedom Band: Music by Johns!
DESCRIPTION:The Minnesota Freedom Band continues our 40th season with concert spanning a number of musical styles and composers/arrangers who all have one thing in common: their name is John. Or Hans\, or Juan\, or Johann…\n\nEnjoy the music of John Williams\, Hans Zimmer\, Minnesota’s own John Zdechlik\, and more. Our woodwind section will be featured on a piece by J.S. Bach and our trombone section will be featured as well!\n\nWe hope you will join us for an afternoon of diverse music by Johns!
URL:https://tcpride.org/event/minnesota-freedom-band-music-by-johns/
LOCATION:University Baptist Church\, 1219 University Avenue SE\, Minneapolis\, 55414\, United States
CATEGORIES:Community Events
ATTACH;FMTTYPE=image/jpeg:https://tcpride.org/wp-content/uploads/2023/02/anniversary-banner-logo.jpg
ORGANIZER;CN="Minnesota Freedom Band":MAILTO:mnfreedomband@gmail.com
END:VEVENT
END:VCALENDAR