BEGIN:VCALENDAR
VERSION:2.0
PRODID:-//Twin Cities Pride - ECPv6.13.2.1//NONSGML v1.0//EN
CALSCALE:GREGORIAN
METHOD:PUBLISH
X-ORIGINAL-URL:https://tcpride.org
X-WR-CALDESC:Events for Twin Cities Pride
REFRESH-INTERVAL;VALUE=DURATION:PT1H
X-Robots-Tag:noindex
X-PUBLISHED-TTL:PT1H
BEGIN:VTIMEZONE
TZID:America/Chicago
BEGIN:DAYLIGHT
TZOFFSETFROM:-0600
TZOFFSETTO:-0500
TZNAME:CDT
DTSTART:20230312T080000
END:DAYLIGHT
BEGIN:STANDARD
TZOFFSETFROM:-0500
TZOFFSETTO:-0600
TZNAME:CST
DTSTART:20231105T070000
END:STANDARD
END:VTIMEZONE
BEGIN:VEVENT
DTSTART;TZID=America/Chicago:20230331T170000
DTEND;TZID=America/Chicago:20230331T190000
DTSTAMP:20260422T025722
CREATED:20230221T190639Z
LAST-MODIFIED:20230221T191617Z
UID:35661-1680282000-1680289200@tcpride.org
SUMMARY:Trans Day of Visibility in the Northland
DESCRIPTION:Join us for Trans Day of Visibility in the Northland!\nThis year\, we are excited to host this free community event at The Duluth Depot!\n\nCome for connection\, music\, food\, and more as we gather to celebrate our transgender and gender expansive community members.
URL:https://tcpride.org/event/trans-day-of-visibility-in-the-northland-2023/
LOCATION:Duluth Depot\, 506 W Michigan St.\, Duluth\, MN\, United States
CATEGORIES:Community Events
ATTACH;FMTTYPE=image/jpeg:https://tcpride.org/wp-content/uploads/2023/02/TDOV-2023.jpg
ORGANIZER;CN="Trans Northland":MAILTO:info@transnorthland.org
END:VEVENT
END:VCALENDAR