BEGIN:VCALENDAR
VERSION:2.0
PRODID:-//Twin Cities Pride - ECPv6.13.2.1//NONSGML v1.0//EN
CALSCALE:GREGORIAN
METHOD:PUBLISH
X-ORIGINAL-URL:https://tcpride.org
X-WR-CALDESC:Events for Twin Cities Pride
REFRESH-INTERVAL;VALUE=DURATION:PT1H
X-Robots-Tag:noindex
X-PUBLISHED-TTL:PT1H
BEGIN:VTIMEZONE
TZID:America/Chicago
BEGIN:DAYLIGHT
TZOFFSETFROM:-0600
TZOFFSETTO:-0500
TZNAME:CDT
DTSTART:20230312T080000
END:DAYLIGHT
BEGIN:STANDARD
TZOFFSETFROM:-0500
TZOFFSETTO:-0600
TZNAME:CST
DTSTART:20231105T070000
END:STANDARD
END:VTIMEZONE
BEGIN:VEVENT
DTSTART;TZID=America/Chicago:20230413T210000
DTEND;TZID=America/Chicago:20230413T230000
DTSTAMP:20260422T025724
CREATED:20230314T152422Z
LAST-MODIFIED:20230314T152427Z
UID:35885-1681419600-1681426800@tcpride.org
SUMMARY:Can't Hold Us Down: A Benefit for the ACLU's Drag Defense Fund
DESCRIPTION:Drag performers and the LGBTQ+ community are facing threats across the country. In the face of these threats and censorship\, we can fight back with the ACLU for the protection of all our rights.\nHosted by Belle of the Black Hart 2023 Lala Luzious\, the evening will raise money for the American Civil Liberties Union’s Drag Defense Fund. More information about the fund can be found here:\nhttps://action.aclu.org/give/support-drag-defense-fund\nThe evening will feature performances by:\nANDRE 1000\nJAMIE MONROE\nJORGE SANCHEZ\nAZALIA SELENA CRUZ\nMICHELLE CASSADINE\nBETTY BANG\nTARARA BOUVIER\nDINA DELICIOUS\nCHANDRA ARMANI\nWe will also have a silent action (auction items will be announced soon). ALL proceeds from the evening will be donated to the ACLU’s Drag Defense Fund\n21+ Event\, No cover. 9:00PM Showtime.
URL:https://tcpride.org/event/cant-hold-us-down-a-benefit-for-the-aclus-drag-defense-fund/
LOCATION:Black Hart of Saint Paul\, 1415 University Avenue West\, St Paul\, 55104\, United States
CATEGORIES:Community Events,Drag Brunches,Fundraisers
ATTACH;FMTTYPE=image/jpeg:https://tcpride.org/wp-content/uploads/2023/03/charity-sunday-service-2.jpg
END:VEVENT
END:VCALENDAR