BEGIN:VCALENDAR
VERSION:2.0
PRODID:-//Twin Cities Pride - ECPv6.13.2.1//NONSGML v1.0//EN
CALSCALE:GREGORIAN
METHOD:PUBLISH
X-WR-CALNAME:Twin Cities Pride
X-ORIGINAL-URL:https://tcpride.org
X-WR-CALDESC:Events for Twin Cities Pride
REFRESH-INTERVAL;VALUE=DURATION:PT1H
X-Robots-Tag:noindex
X-PUBLISHED-TTL:PT1H
BEGIN:VTIMEZONE
TZID:America/Chicago
BEGIN:DAYLIGHT
TZOFFSETFROM:-0600
TZOFFSETTO:-0500
TZNAME:CDT
DTSTART:20230312T080000
END:DAYLIGHT
BEGIN:STANDARD
TZOFFSETFROM:-0500
TZOFFSETTO:-0600
TZNAME:CST
DTSTART:20231105T070000
END:STANDARD
END:VTIMEZONE
BEGIN:VEVENT
DTSTART;TZID=America/Chicago:20230426T180000
DTEND;TZID=America/Chicago:20230426T210000
DTSTAMP:20260422T025622
CREATED:20230322T200455Z
LAST-MODIFIED:20230322T200455Z
UID:36009-1682532000-1682542800@tcpride.org
SUMMARY:QUEERSPACE collective's 2nd Annual Birthday Bash!
DESCRIPTION:Join us on Wednesday\, April 26 at the Granada Theater for QUEERSPACE collective’s 2nd Annual Birthday Bash! We are looking forward to coming together to celebrate our organization’s second year and the incredible LGBTQ+ youth in our community with live music\, drag performances\, a silent auction\, and a rockin’ good time! All funds raised will support QUEERSPACE collective’s mission to create space for LGBTQ+ youth to feel safe and empowered to be their true selves. Visit our website to learn more and buy tickets!
URL:https://tcpride.org/event/queerspace-collectives-2nd-annual-birthday-bash/
LOCATION:Granada Theater\, 3022 Hennepin Ave\, Minneapolis\, MN\, 55408\, United States
CATEGORIES:Community Events,Fundraisers
ATTACH;FMTTYPE=image/png:https://tcpride.org/wp-content/uploads/2023/03/Bash23_InstagramSquare.png
ORGANIZER;CN="QUEERSPACE collective":MAILTO:info@queerspacecollective.org
END:VEVENT
END:VCALENDAR