BEGIN:VCALENDAR
VERSION:2.0
PRODID:-//Twin Cities Pride - ECPv6.13.2.1//NONSGML v1.0//EN
CALSCALE:GREGORIAN
METHOD:PUBLISH
X-WR-CALNAME:Twin Cities Pride
X-ORIGINAL-URL:https://tcpride.org
X-WR-CALDESC:Events for Twin Cities Pride
REFRESH-INTERVAL;VALUE=DURATION:PT1H
X-Robots-Tag:noindex
X-PUBLISHED-TTL:PT1H
BEGIN:VTIMEZONE
TZID:America/Chicago
BEGIN:DAYLIGHT
TZOFFSETFROM:-0600
TZOFFSETTO:-0500
TZNAME:CDT
DTSTART:20230312T080000
END:DAYLIGHT
BEGIN:STANDARD
TZOFFSETFROM:-0500
TZOFFSETTO:-0600
TZNAME:CST
DTSTART:20231105T070000
END:STANDARD
END:VTIMEZONE
BEGIN:VEVENT
DTSTART;TZID=America/Chicago:20230512T193000
DTEND;TZID=America/Chicago:20230512T210000
DTSTAMP:20260422T012414
CREATED:20230503T202656Z
LAST-MODIFIED:20230503T203433Z
UID:36591-1683919800-1683925200@tcpride.org
SUMMARY:Our Stories Chapter 2 - The LGBTQIA+ and Non-Binary Experience
DESCRIPTION:Join us for an evening of original dance storytelling centered on the non-binary and LGBTQIA experience that seeks to inform\, educate\, and entertain audiences of all ages. Enjoy dance theater in an intimate setting with cabaret-style seating. \nThe production\, directed by Jarod Boltjes\, will be emceed by local cabaret diva Mistress Ginger. Our Stories Chapter 2 features Grace Kidder\, Javan Mngrezzo\, Michael Mossucco\, Ben Siglin\, and Connor Simone. \nFor tickets visit https://www.collidetheatrical.org/our-stories-chapter-2 or call 651-395-7903\, ext. 701. \n  \nLocation: \nMay 7 \nLandmark Center  —  75 W 5th St\, St Paul\, MN 55102 \n  \nMay 12-14 \nCollide Theatrical  —  755 Prior Ave N\, Suite 235H\, St Paul\, MN 55104
URL:https://tcpride.org/event/our-stories-chapter-2-the-lgbtqia-and-non-binary-experience-2/
LOCATION:Collide Theatrical\, 755 Prior Ave N\, St Paul\, MN\, 55104\, United States
CATEGORIES:Community Events
ATTACH;FMTTYPE=image/png:https://tcpride.org/wp-content/uploads/2023/05/Our-Stories-Chapter-2-1.png
ORGANIZER;CN="Collide Theatrical Dance Company":MAILTO:admin@collidetheatrical.org
END:VEVENT
BEGIN:VEVENT
DTSTART;TZID=America/Chicago:20230512T210000
DTEND;TZID=America/Chicago:20230513T010000
DTSTAMP:20260422T012414
CREATED:20230313T141402Z
LAST-MODIFIED:20230313T141402Z
UID:35868-1683925200-1683939600@tcpride.org
SUMMARY:Now That's What I Call Queer Presents: Land of 10\,000 Queers [an unapologetically queer dance party]
DESCRIPTION:NOW THAT’S WHAT I CALL QUEER PRESENTS: Land of 10\,000 Queers at LUSH Lounge & Theater \nThis sassy\, sweaty unapologetically queer New Orleans-based dance party is coming to Minneapolis for one night only. Now That’s What I Call Queer’s resident DJ warm advice will be taking requests & spinning your favorite tracks all night long! \n21+\n$10 in advance\n$15 at the door
URL:https://tcpride.org/event/now-thats-what-i-call-queer-presents-land-of-10000-queers-an-unapologetically-queer-dance-party/
LOCATION:Lush Lounge and Theater\, 990 NE Central Ave\, Minneapolis\, MN\, 55413\, United States
CATEGORIES:Community Events
ATTACH;FMTTYPE=image/png:https://tcpride.org/wp-content/uploads/2023/03/LAND-OF-10000-QUEERS.png
ORGANIZER;CN="Now That's What I Call Queer":MAILTO:hello@nowthatswhaticallqueer.com
END:VEVENT
END:VCALENDAR