BEGIN:VCALENDAR
VERSION:2.0
PRODID:-//Twin Cities Pride - ECPv6.13.2.1//NONSGML v1.0//EN
CALSCALE:GREGORIAN
METHOD:PUBLISH
X-ORIGINAL-URL:https://tcpride.org
X-WR-CALDESC:Events for Twin Cities Pride
REFRESH-INTERVAL;VALUE=DURATION:PT1H
X-Robots-Tag:noindex
X-PUBLISHED-TTL:PT1H
BEGIN:VTIMEZONE
TZID:America/Chicago
BEGIN:DAYLIGHT
TZOFFSETFROM:-0600
TZOFFSETTO:-0500
TZNAME:CDT
DTSTART:20230312T080000
END:DAYLIGHT
BEGIN:STANDARD
TZOFFSETFROM:-0500
TZOFFSETTO:-0600
TZNAME:CST
DTSTART:20231105T070000
END:STANDARD
END:VTIMEZONE
BEGIN:VEVENT
DTSTART;TZID=America/Chicago:20230513T100000
DTEND;TZID=America/Chicago:20230513T140000
DTSTAMP:20260422T012937
CREATED:20230403T192748Z
LAST-MODIFIED:20230403T192748Z
UID:36127-1683972000-1683986400@tcpride.org
SUMMARY:MN Walk to End HIV
DESCRIPTION:Join Rainbow Health as we commemorate 40 years of working to end HIV in Minnesota\nOn May 13th\, the annual MN Walk to End HIV will be held at Como Midway Picnic Pavilion from 10 a.m. – 2 p.m. Through the years\, the Walk has raised more than $15 million to provide HIV testing and prevention\, access to health care resources\, emergency assistance\, advocacy and so much more to people living with HIV. \nBy participating in the Walk to End HIV\, you will be making a difference in the lives of over 2\,500 Minnesotans that Rainbow Health serves each year. Our work could not have been done without you and the power of our community. \nThis event will feature special speakers and performances\, food trucks\, sponsors\, exhibitors\, and more!  \nSo rally your family\, friends\, neighbors\, and colleagues to help us continue taking strides to end HIV.
URL:https://tcpride.org/event/mn-walk-to-end-hiv-2023/
LOCATION:Como Midway Picnic Pavilion\, 1199 Midway Parkway\, St Paul\, MN\, 55103\, United States
CATEGORIES:Community Events,Fundraisers
ATTACH;FMTTYPE=image/png:https://tcpride.org/wp-content/uploads/2023/04/Walk-to-End-HIV-Banner-copy.png
ORGANIZER;CN="Rainbow Health":MAILTO:communications@rainbowhealth.org
END:VEVENT
BEGIN:VEVENT
DTSTART;TZID=America/Chicago:20230513T193000
DTEND;TZID=America/Chicago:20230513T210000
DTSTAMP:20260422T012937
CREATED:20230503T203001Z
LAST-MODIFIED:20230503T203451Z
UID:36598-1684006200-1684011600@tcpride.org
SUMMARY:Our Stories Chapter 2 - The LGBTQIA+ and Non-Binary Experience
DESCRIPTION:Join us for an evening of original dance storytelling centered on the non-binary and LGBTQIA experience that seeks to inform\, educate\, and entertain audiences of all ages. Enjoy dance theater in an intimate setting with cabaret-style seating. \nThe production\, directed by Jarod Boltjes\, will be emceed by local cabaret diva Mistress Ginger. Our Stories Chapter 2 features Grace Kidder\, Javan Mngrezzo\, Michael Mossucco\, Ben Siglin\, and Connor Simone. \nFor tickets visit https://www.collidetheatrical.org/our-stories-chapter-2 or call 651-395-7903\, ext. 701. \n  \nLocation: \nMay 7 \nLandmark Center  —  75 W 5th St\, St Paul\, MN 55102 \n  \nMay 12-14 \nCollide Theatrical  —  755 Prior Ave N\, Suite 235H\, St Paul\, MN 55104
URL:https://tcpride.org/event/our-stories-chapter-2-the-lgbtqia-and-non-binary-experience-3/
LOCATION:Collide Theatrical\, 755 Prior Ave N\, St Paul\, MN\, 55104\, United States
CATEGORIES:Community Events
ATTACH;FMTTYPE=image/png:https://tcpride.org/wp-content/uploads/2023/05/Our-Stories-Chapter-2-2.png
ORGANIZER;CN="Collide Theatrical Dance Company":MAILTO:admin@collidetheatrical.org
END:VEVENT
END:VCALENDAR