BEGIN:VCALENDAR
VERSION:2.0
PRODID:-//Twin Cities Pride - ECPv6.13.2.1//NONSGML v1.0//EN
CALSCALE:GREGORIAN
METHOD:PUBLISH
X-ORIGINAL-URL:https://tcpride.org
X-WR-CALDESC:Events for Twin Cities Pride
REFRESH-INTERVAL;VALUE=DURATION:PT1H
X-Robots-Tag:noindex
X-PUBLISHED-TTL:PT1H
BEGIN:VTIMEZONE
TZID:America/Chicago
BEGIN:DAYLIGHT
TZOFFSETFROM:-0600
TZOFFSETTO:-0500
TZNAME:CDT
DTSTART:20230312T080000
END:DAYLIGHT
BEGIN:STANDARD
TZOFFSETFROM:-0500
TZOFFSETTO:-0600
TZNAME:CST
DTSTART:20231105T070000
END:STANDARD
END:VTIMEZONE
BEGIN:VEVENT
DTSTART;TZID=America/Chicago:20230610T120000
DTEND;TZID=America/Chicago:20230610T160000
DTSTAMP:20260422T000211
CREATED:20230322T171907Z
LAST-MODIFIED:20230322T172141Z
UID:35977-1686398400-1686412800@tcpride.org
SUMMARY:PRIDE Market Series with Lakes & Legends Brewing Co
DESCRIPTION:Lakes & Legends Brewing Co. is ecstatic to announce their collaboration with local\, LGBTQIA and BIPOC-owned businesses during the month of JUNE! 🫶 \nStop by the taproom from 12-4pm to shop from local makers that are a part of\, love\, and/or support the LGBTQIA and BIPOC communities. 🌈💗 \nDates: \n\nJUNE 10\, 12-4pm ***FOOD TRUCK: Xtreme Philly Xpress 1-6pm\nJUNE 11\, 12-4pm\nJUNE 17\, 12-4pm\nJUNE 18\, 12-4pm ***FOOD TRUCK: Xtreme Philly Xpress 1-6pm\n\nPlease RSVP to the DATE(S) of the market you plan to come to! 🤩 \nPRIDE will be happening at the end of June just a block over from us\, and we’d love to formally invite any and all of you back to the taproom for that weekend as well. We can’t wait to celebrate LOVE with you! 🖤 \n  \n***Lakes & Legends has a NO TOLERANCE policy when it comes to discrimination of any kind\, including but not limited to: harassment\, sexism\, ableism\, homophobia\, transphobia\, racism\, or general hate of any kind. If you are showing even the “smallest” sign of these things\, or attempt to make anyone in the taproom uncomfortable\, you will be asked to leave and be 86’d from our business effective immediately. Please be your most loving\, kind self when you enter our space. Thank you.***
URL:https://tcpride.org/event/pride-market-series-with-lakes-legends-brewing-co/
LOCATION:Lakes & Legends Brewing\, 1368 Lasalle Ave\, Minneapolis\, MN\, 55403\, United States
CATEGORIES:Community Events
ATTACH;FMTTYPE=image/jpeg:https://tcpride.org/wp-content/uploads/2023/03/FB-Event-Background-6.jpg
ORGANIZER;CN="Lakes &amp%3B Legends Brewing Co":MAILTO:madison@lakesandlegends.com
END:VEVENT
BEGIN:VEVENT
DTSTART;TZID=America/Chicago:20230610T120000
DTEND;TZID=America/Chicago:20230610T180000
DTSTAMP:20260422T000211
CREATED:20230220T180946Z
LAST-MODIFIED:20230221T190733Z
UID:35653-1686398400-1686420000@tcpride.org
SUMMARY:Golden Valley Pride Festival
DESCRIPTION:The Golden Valley Pride Festival is an annual celebration of LGBTQIA+ and allied individuals\, families\, and friends. The event takes place at Brookview Park in Golden Valley\, but represents people from surrounding communities and throughout the Twin Cities. The event features music and performers\, food trucks\, an adult beverage area\, vendors and organizations\, and activities for families. And more exciting things are in the works! All are welcome!
URL:https://tcpride.org/event/golden-valley-pride-festival-2023/
LOCATION:Brookview Park\, 300 Brookview Pkwy N\, Golden Valley\, MN\, 55426\, United States
CATEGORIES:Community Events,Pride Festivals
ATTACH;FMTTYPE=image/jpeg:https://tcpride.org/wp-content/uploads/2023/02/GV-Pride_5th-Anniversary-Logo_LG-Hi-Res-scaled.jpg
ORGANIZER;CN="Golden Valley Pride":MAILTO:info@goldenvalleypride.com
END:VEVENT
BEGIN:VEVENT
DTSTART;TZID=America/Chicago:20230610T190000
DTEND;TZID=America/Chicago:20230610T203000
DTSTAMP:20260422T000211
CREATED:20230414T180730Z
LAST-MODIFIED:20230414T180730Z
UID:36282-1686423600-1686429000@tcpride.org
SUMMARY:One Voice Mixed Chorus Presents: ONEarth
DESCRIPTION:Join us this June for ONEarth\, a concert experience like no other! We’re taking this one out of the concert hall and into the great outdoors. ONEarth will celebrate our connections to each other and the earth\, and what better place to do it than on Raspberry Island in the heart of the Mississippi River. Exciting visual elements\, such as life-sized puppets\, will help bring the eclectic set of music to life. So\, grab your lawn chair or blanket (and maybe a few friends) and meet us at ONEarth for a communal experience that will stay with you long after the last note has been sung!
URL:https://tcpride.org/event/one-voice-mixed-chorus-presents-onearth/
LOCATION:Raspberry Island\, Saint Paul\, MN\, United States
CATEGORIES:Community Events
ATTACH;FMTTYPE=image/png:https://tcpride.org/wp-content/uploads/2023/04/OV_ONEarth_600x600.png
ORGANIZER;CN="One Voice Mixed Chorus":MAILTO:operations@onevoicemn.org
END:VEVENT
END:VCALENDAR