BEGIN:VCALENDAR
VERSION:2.0
PRODID:-//Twin Cities Pride - ECPv6.13.2.1//NONSGML v1.0//EN
CALSCALE:GREGORIAN
METHOD:PUBLISH
X-ORIGINAL-URL:https://tcpride.org
X-WR-CALDESC:Events for Twin Cities Pride
REFRESH-INTERVAL;VALUE=DURATION:PT1H
X-Robots-Tag:noindex
X-PUBLISHED-TTL:PT1H
BEGIN:VTIMEZONE
TZID:America/Chicago
BEGIN:DAYLIGHT
TZOFFSETFROM:-0600
TZOFFSETTO:-0500
TZNAME:CDT
DTSTART:20230312T080000
END:DAYLIGHT
BEGIN:STANDARD
TZOFFSETFROM:-0500
TZOFFSETTO:-0600
TZNAME:CST
DTSTART:20231105T070000
END:STANDARD
END:VTIMEZONE
BEGIN:VEVENT
DTSTART;TZID=America/Chicago:20230612T120000
DTEND;TZID=America/Chicago:20230616T150000
DTSTAMP:20260422T000211
CREATED:20230322T171716Z
LAST-MODIFIED:20230322T171716Z
UID:35907-1686571200-1686927600@tcpride.org
SUMMARY:Rainbows\, Dreams and Prom Scenes PRIDE Camp!
DESCRIPTION:Spring Dance and Theatre Academy is so excited to present our Pride Musical Theatre Summer Camp! \nSayer Keeley\, Rachel Doran\, Averie Mitchell-Brown\, Amber Keeley\, Noelle Erling and the rest of our epic Spring staff wave the flag all year and we are anxiously waiting for you to get here so we can bring this June Summer Camp to LIFE! \nOlder students will go to the Prom! In the musical’s story\, the town’s parents want to keep the dance on the straight and narrow -but when one student just wants to bring her girlfriend to prom\, the entire town has a date with destiny. We will visit this story\, share our own\, and create a Prom for ALL at Spring – It’s Time to Dance! \nYounger students will create our own piece inspired by fish-out-of-water Luca’s dream of riding Vespas in the sky with Alberto. Do you ever feel like a fish-out-of-water? Who are you and what are your dreams? \nPreschool will find our ‘True Colors’ and celebrate who we are and the happiness coming from within us through the Trolls movie! \nJune 12-16 \nAges 7-18: Mon-Fri 12-3pm; $160 \nAges 3-6: Mon-Fri 12-2pm; $145 \nWe are a Dance and Theatre Academy in St. Anthony Village/Northeast Minneapolis providing exquisite training in an inclusive and vibrant environment allowing youth to grow as artists and people. Ages 3+ Beginner-Advanced Musical Theatre Workshops\, Hip Hop\, Ballet\, Jazz\, Contemporary\, Acting\, Voice\, Performance Company and more. We Lead with LOVE!
URL:https://tcpride.org/event/rainbows-dreams-and-prom-scenes-pride-camp/
LOCATION:Kennedy Building\, 2303 Kennedy St NE #100\, Minneapolis\, MN\, 55413\, United States
CATEGORIES:Community Events
ATTACH;FMTTYPE=image/png:https://tcpride.org/wp-content/uploads/2023/03/www.SpringInspires.com-5.png
ORGANIZER;CN="Spring Dance and Theatre Academy":MAILTO:amber@springinspires.com
END:VEVENT
BEGIN:VEVENT
DTSTART;TZID=America/Chicago:20230616T193000
DTEND;TZID=America/Chicago:20230617T210000
DTSTAMP:20260422T000211
CREATED:20230304T182513Z
LAST-MODIFIED:20230612T185914Z
UID:35811-1686943800-1687035600@tcpride.org
SUMMARY:Twin Cities Gay Men's Chorus: "and IIIIIIII..."
DESCRIPTION:Returning to Ted Mann Concert Hall June 16th-17th for our 3rd concert of the 42nd season: ALL CAPS! This series expresses our excitement for the season\, but also shouts out our message of equality and justice to a nation standing in the face of dramatic political changes. This summer’s pride concert will feature the music of Whitney Houston! Need we say more? To purchase tickets\, please visit tcgmc.org.  \nAbout TCGMC:\nFounded in 1981\, Twin Cities Gay Men’s Chorus (TCGMC) is an award-winning chorus that has built a solid reputation for musical excellence and dynamic programming. TCGMC is a non-profit 501(c)(3) voluntary community chorus\, formed to build community through music while pursuing musical excellence in performance. The Chorus seeks to create community and diversity\, using music to transform\, educate\, and heal. 
URL:https://tcpride.org/event/tcgmc-and-iiiiiiii-2023/
LOCATION:Ted Mann Concert Hall – UMN Campus\, 2128 S 4th St\, Minneapolis\, MN\, 55455\, United States
CATEGORIES:Community Events
ATTACH;FMTTYPE=image/png:https://tcpride.org/wp-content/uploads/2023/03/and-IIIIIIIIII....-SQUARE-No-Text.png
END:VEVENT
END:VCALENDAR