BEGIN:VCALENDAR
VERSION:2.0
PRODID:-//Twin Cities Pride - ECPv6.13.2.1//NONSGML v1.0//EN
CALSCALE:GREGORIAN
METHOD:PUBLISH
X-WR-CALNAME:Twin Cities Pride
X-ORIGINAL-URL:https://tcpride.org
X-WR-CALDESC:Events for Twin Cities Pride
REFRESH-INTERVAL;VALUE=DURATION:PT1H
X-Robots-Tag:noindex
X-PUBLISHED-TTL:PT1H
BEGIN:VTIMEZONE
TZID:America/Chicago
BEGIN:DAYLIGHT
TZOFFSETFROM:-0600
TZOFFSETTO:-0500
TZNAME:CDT
DTSTART:20230312T080000
END:DAYLIGHT
BEGIN:STANDARD
TZOFFSETFROM:-0500
TZOFFSETTO:-0600
TZNAME:CST
DTSTART:20231105T070000
END:STANDARD
END:VTIMEZONE
BEGIN:VEVENT
DTSTART;TZID=America/Chicago:20230616T193000
DTEND;TZID=America/Chicago:20230617T210000
DTSTAMP:20260421T235945
CREATED:20230304T182513Z
LAST-MODIFIED:20230612T185914Z
UID:35811-1686943800-1687035600@tcpride.org
SUMMARY:Twin Cities Gay Men's Chorus: "and IIIIIIII..."
DESCRIPTION:Returning to Ted Mann Concert Hall June 16th-17th for our 3rd concert of the 42nd season: ALL CAPS! This series expresses our excitement for the season\, but also shouts out our message of equality and justice to a nation standing in the face of dramatic political changes. This summer’s pride concert will feature the music of Whitney Houston! Need we say more? To purchase tickets\, please visit tcgmc.org.  \nAbout TCGMC:\nFounded in 1981\, Twin Cities Gay Men’s Chorus (TCGMC) is an award-winning chorus that has built a solid reputation for musical excellence and dynamic programming. TCGMC is a non-profit 501(c)(3) voluntary community chorus\, formed to build community through music while pursuing musical excellence in performance. The Chorus seeks to create community and diversity\, using music to transform\, educate\, and heal. 
URL:https://tcpride.org/event/tcgmc-and-iiiiiiii-2023/
LOCATION:Ted Mann Concert Hall – UMN Campus\, 2128 S 4th St\, Minneapolis\, MN\, 55455\, United States
CATEGORIES:Community Events
ATTACH;FMTTYPE=image/png:https://tcpride.org/wp-content/uploads/2023/03/and-IIIIIIIIII....-SQUARE-No-Text.png
END:VEVENT
BEGIN:VEVENT
DTSTART;TZID=America/Chicago:20230617T100000
DTEND;TZID=America/Chicago:20230618T170000
DTSTAMP:20260421T235945
CREATED:20230526T185430Z
LAST-MODIFIED:20230526T185445Z
UID:37495-1686996000-1687107600@tcpride.org
SUMMARY:Hidden MN -- Pride Art & Crafts Fair
DESCRIPTION:Welcome back to our 2nd Annual Pride Month Art & Crafts Fair! \nFeaturing over 20 vendors all with their wonderful services & items to sell\, the Hidden MN Pride Month Craft Fair is a welcoming & wonderful space for LGBTQIA+ vendors & customers. Stop by and see everything from chainmail and resin flowers to crocheted vests and teacup earrings. We’ve got it all! \nJoin us on the 3rd weekend of June! \nSaturday\, June 17th (10 AM – 6 PM)\nSunday\, June 18th (11 AM – 5 PM) \nBe sure to follow along for any food truck options\, vendor highlights\, and other activities going on that day.\nWe are currently full for vendors\, but any new applications will be added to a waitlist in case a vendor can no longer make it. \nVendor Applications:\nhttps://forms.gle/xvfsXvsZAcEyzK77A \nSee you soon!
URL:https://tcpride.org/event/hidden-mn-pride-art-crafts-fair-2023/
LOCATION:Hidden MN\, 1975 Oakcrest Ave.\, Suite 1\, Roseville\, MN\, 55113\, United States
CATEGORIES:Community Events
ATTACH;FMTTYPE=image/jpeg:https://tcpride.org/wp-content/uploads/2023/05/Teal-Yellow-Retro-Aesthetic-Personal-Pride-Banner-scaled.jpg
END:VEVENT
BEGIN:VEVENT
DTSTART;TZID=America/Chicago:20230617T120000
DTEND;TZID=America/Chicago:20230617T160000
DTSTAMP:20260421T235945
CREATED:20230322T172035Z
LAST-MODIFIED:20230322T172035Z
UID:35987-1687003200-1687017600@tcpride.org
SUMMARY:PRIDE Market Series with Lakes & Legends Brewing Co
DESCRIPTION:Lakes & Legends Brewing Company is ecstatic to announce our collaboration with local\, LGBTQIA and BIPOC-owned businesses during the month of JUNE! 🫶 \nStop by the taproom from 12-4pm to shop from local makers that are a part of\, love\, and/or support the LGBTQIA and BIPOC communities. 🌈💗 \nDates: \n\nJUNE 10\, 12-4pm ***FOOD TRUCK: Xtreme Philly Xpress 1-6pm\nJUNE 11\, 12-4pm\nJUNE 17\, 12-4pm\nJUNE 18\, 12-4pm ***FOOD TRUCK: Xtreme Philly Xpress 1-6pm\n\nPlease RSVP to the DATE(S) of the market you plan to come to! 🤩 \nPRIDE will be happening at the end of June just a block over from us\, and we’d love to formally invite any and all of you back to the taproom for that weekend as well. We can’t wait to celebrate LOVE with you! 🖤 \n  \n***Lakes & Legends has a NO TOLERANCE policy when it comes to discrimination of any kind\, including but not limited to: harassment\, sexism\, ableism\, homophobia\, transphobia\, racism\, or general hate of any kind. If you are showing even the “smallest” sign of these things\, or attempt to make anyone in the taproom uncomfortable\, you will be asked to leave and be 86’d from our business effective immediately. Please be your most loving\, kind self when you enter our space. Thank you.***
URL:https://tcpride.org/event/pride-market-series-with-lakes-legends-brewing-co-3/
LOCATION:Lakes & Legends Brewing\, 1368 Lasalle Ave\, Minneapolis\, MN\, 55403\, United States
CATEGORIES:Community Events
ATTACH;FMTTYPE=image/jpeg:https://tcpride.org/wp-content/uploads/2023/03/FB-Event-Background-6-2.jpg
ORGANIZER;CN="Lakes &amp%3B Legends Brewing Co":MAILTO:madison@lakesandlegends.com
END:VEVENT
END:VCALENDAR