BEGIN:VCALENDAR
VERSION:2.0
PRODID:-//Twin Cities Pride - ECPv6.13.2.1//NONSGML v1.0//EN
CALSCALE:GREGORIAN
METHOD:PUBLISH
X-WR-CALNAME:Twin Cities Pride
X-ORIGINAL-URL:https://tcpride.org
X-WR-CALDESC:Events for Twin Cities Pride
REFRESH-INTERVAL;VALUE=DURATION:PT1H
X-Robots-Tag:noindex
X-PUBLISHED-TTL:PT1H
BEGIN:VTIMEZONE
TZID:America/Chicago
BEGIN:DAYLIGHT
TZOFFSETFROM:-0600
TZOFFSETTO:-0500
TZNAME:CDT
DTSTART:20230312T080000
END:DAYLIGHT
BEGIN:STANDARD
TZOFFSETFROM:-0500
TZOFFSETTO:-0600
TZNAME:CST
DTSTART:20231105T070000
END:STANDARD
END:VTIMEZONE
BEGIN:VEVENT
DTSTART;VALUE=DATE:20230618
DTEND;VALUE=DATE:20230625
DTSTAMP:20260422T000043
CREATED:20230428T192105Z
LAST-MODIFIED:20230502T133007Z
UID:36440-1687057200-1687575599@tcpride.org
SUMMARY:Camp True Colors - All LGBTQ+ youth - Ages 11-17
DESCRIPTION:Camp True Colors is a place designed just for LGBTQ+ youth\, where you can have fun and enjoy summer camp activities in a welcoming environment\, while building community with peers and adults with similar shared experiences.
URL:https://tcpride.org/event/camp-true-colors-all-lgbtq-youth-ages-11-17/
LOCATION:MN
CATEGORIES:Community Events
ATTACH;FMTTYPE=image/png:https://tcpride.org/wp-content/uploads/2023/04/CAMP-TRUE-COLORS-FINAL-FULL-COLOR.png
END:VEVENT
BEGIN:VEVENT
DTSTART;TZID=America/Chicago:20230619T183000
DTEND;TZID=America/Chicago:20230619T203000
DTSTAMP:20260422T000043
CREATED:20230606T164425Z
LAST-MODIFIED:20230606T164425Z
UID:37773-1687199400-1687206600@tcpride.org
SUMMARY:Pride Rides on the Streetcar
DESCRIPTION:The Como-Harriet Streetcar Line offers 15-20 minute nostalgic rides between scenic Lakes Harriet and Bde Maka Ska.  Step back in time when streetcars were Queens of the city — when Twin Citians went to work\, to school\, and to play by trolley! After your trip back in time\, enjoy the beauty of Lake Harriet\, part of Minneapolis’ famed Chain of Lakes. You’ll find lakeside refreshments\, picnic grounds\, ducks to feed\, and a concert by the Minnesota Freedom Band.  This ride is operated by and for our family.
URL:https://tcpride.org/event/pride-rides-on-the-streetcar-2023/
LOCATION:MN Streetcar Museum\, 4200 Queen Ave.\, Minneapolis\, MN\, 55410\, United States
CATEGORIES:Community Events
ATTACH;FMTTYPE=image/jpeg:https://tcpride.org/wp-content/uploads/2023/06/IMG_6465-scaled.jpeg
ORGANIZER;CN="MN Streetcar Museum":MAILTO:gbweasels@gmail.com
END:VEVENT
BEGIN:VEVENT
DTSTART;TZID=America/Chicago:20230619T193000
DTEND;TZID=America/Chicago:20230619T210000
DTSTAMP:20260422T000043
CREATED:20230531T125121Z
LAST-MODIFIED:20230531T125121Z
UID:37556-1687203000-1687208400@tcpride.org
SUMMARY:FREE Outdoor Concert featuring the MN Freedom Concert & Jazz Bands!
DESCRIPTION:Kick-off your PRIDE week with a FREE outdoor concert featuring the MN Freedom Concert & Jazz Bands! This delightful evening of music will be held OUTDOORS at the beautiful Lake Harriet Bandshell\, weather permitting. For your comfort\, you may want to bring a lawn chair or blanket to sit on\, water\, bug spray\, and sun screen. The 40+ piece Freedom Concert Band will lead off the program\, followed by the 20+ piece Freedom Jazz Band\, for an enjoyable evening of toe-tapping fun! \nNow wrapping up its 40th season\, the Minnesota Freedom Band is a Twin Cities-based non-profit community band comprised of Gay\, Lesbian\, Bisexual\, Transgender\, and Allied (GLBTA) volunteers. We are committed to presenting quality performances\, providing opportunities for our members to improve musicianship\, and gathering to build relationships with each other and with our community. Please visit our website at www.mnfreedomband.org for more info on upcoming performances\, and how YOU can be a part of the MN Freedom Band’s Concert\, Jazz\, and Marching ensembles!
URL:https://tcpride.org/event/free-outdoor-concert-featuring-the-mn-freedom-concert-jazz-bands-2023/
LOCATION:Lake Harriet Bandshell\, E Lake Harriet Parkway\, Minneapolis\, MN\, 55408\, United States
CATEGORIES:Community Events
ATTACH;FMTTYPE=image/png:https://tcpride.org/wp-content/uploads/2023/05/MFB-40th-Anniversary-Logo-Color.png
ORGANIZER;CN="Minnesota Freedom Band":MAILTO:mnfreedomband@gmail.com
END:VEVENT
END:VCALENDAR