BEGIN:VCALENDAR
VERSION:2.0
PRODID:-//Twin Cities Pride - ECPv6.13.2.1//NONSGML v1.0//EN
CALSCALE:GREGORIAN
METHOD:PUBLISH
X-WR-CALNAME:Twin Cities Pride
X-ORIGINAL-URL:https://tcpride.org
X-WR-CALDESC:Events for Twin Cities Pride
REFRESH-INTERVAL;VALUE=DURATION:PT1H
X-Robots-Tag:noindex
X-PUBLISHED-TTL:PT1H
BEGIN:VTIMEZONE
TZID:America/Chicago
BEGIN:DAYLIGHT
TZOFFSETFROM:-0600
TZOFFSETTO:-0500
TZNAME:CDT
DTSTART:20230312T080000
END:DAYLIGHT
BEGIN:STANDARD
TZOFFSETFROM:-0500
TZOFFSETTO:-0600
TZNAME:CST
DTSTART:20231105T070000
END:STANDARD
END:VTIMEZONE
BEGIN:VEVENT
DTSTART;VALUE=DATE:20230618
DTEND;VALUE=DATE:20230625
DTSTAMP:20260421T235945
CREATED:20230428T192105Z
LAST-MODIFIED:20230502T133007Z
UID:36440-1687057200-1687575599@tcpride.org
SUMMARY:Camp True Colors - All LGBTQ+ youth - Ages 11-17
DESCRIPTION:Camp True Colors is a place designed just for LGBTQ+ youth\, where you can have fun and enjoy summer camp activities in a welcoming environment\, while building community with peers and adults with similar shared experiences.
URL:https://tcpride.org/event/camp-true-colors-all-lgbtq-youth-ages-11-17/
LOCATION:MN
CATEGORIES:Community Events
ATTACH;FMTTYPE=image/png:https://tcpride.org/wp-content/uploads/2023/04/CAMP-TRUE-COLORS-FINAL-FULL-COLOR.png
END:VEVENT
BEGIN:VEVENT
DTSTART;TZID=America/Chicago:20230620T170000
DTEND;TZID=America/Chicago:20230620T203000
DTSTAMP:20260421T235945
CREATED:20230613T174311Z
LAST-MODIFIED:20230613T174311Z
UID:38082-1687280400-1687293000@tcpride.org
SUMMARY:Queer Me Out: Take a Stance
DESCRIPTION:On Tuesday\, June 20th\, W Hotels is bringing the next installment of Queer Me Out to W Minneapolis – The Foshay. Queer Me Out is a global speaker series that engages influential members of the community to raise the volume on expanding support of equality and acceptance. \nThis installment\, Take a Stance\, will celebrate how individuality cultivates a connected community while providing a platform for the exchange of ideas\, causes\, and conversations. Join us for a night of cocktails\, conversation\, and inspiration to celebrate the voices in our city. \nOur panel will feature five leaders from our community in a guided discussion around tangible steps to enact change in your professional and personal life that will push our city to continue growing in a positive direction. \nSasha Cassadine\, local drag artist\, hostess\, MC\, and show director of Flip Phone Drag Brunches\, will guide the discussion with our panelists: \n  \nBobby Palmer – General Manager of The Saloon \nNicki Hangsleben – Executive Director and Founder of QUEERSPACE Collective \nRebecca Waggoner – Executive Director of Quorum \nChad Kampe – Founder and CEO of Flip Phone Events \n  \nHERE’S WHAT’S HAPPENING\n5:00PM – 6:00PM: Mix and Mingle \n6:00PM – 7:30PM: Panel Discussion \n7:00PM – 8:30PM: Cocktail and Connections \n  \nAll tickets will include a complimentary signature cocktail\, and light appetizers. 50% of proceeds will be dedicated to Drag Defense Fund and QUEERSPACE Collective. \nComplimentary coat check and valet parking at $10 daily rate available upon arrival.
URL:https://tcpride.org/event/queer-me-out-take-a-stance-2023/
LOCATION:W Minneapolis – The Foshay\, 821 Marquette Avenue\, Minneapolis\, MN\, 55402\, United States
CATEGORIES:Community Events,Fundraisers
ATTACH;FMTTYPE=image/png:https://tcpride.org/wp-content/uploads/2023/06/Eventbrite-Cover.png
ORGANIZER;CN="W Minneapolis - The Foshay":MAILTO:grace.giblin@whotels.com
END:VEVENT
BEGIN:VEVENT
DTSTART;TZID=America/Chicago:20230620T190000
DTEND;TZID=America/Chicago:20230620T210000
DTSTAMP:20260421T235945
CREATED:20230524T191706Z
LAST-MODIFIED:20230524T191706Z
UID:37351-1687287600-1687294800@tcpride.org
SUMMARY:Drag Bingo @ Roxy's Cabaret
DESCRIPTION:Come to Roxy’s Cabaret! \nPlay Bingo with GREAT food\, drinks\, FABULOUS PRIZES\, and all for a GREAT cause! \nHosted by Minneapolis’ very own celebrity drag queens\, Nina DiAngelo & Monica West!! Proceeds will benefit our community partner\, Pink Cloud Foundation.  Pink Cloud Foundation is a Minneapolis-based Nonprofit Organization that provides housing assistance\, support services\, and other critical resources for those seeking recovery from Substance Use Disorder and addiction of any kind. \nMake Your Reservations Online Today HERE!! \nSEE YOU THERE!! \nAdditional Information about Pink Cloud Foundation: www.pinkcloudfoundation.org
URL:https://tcpride.org/event/drag-bingo-roxys-cabaret/
LOCATION:Roxy’s Cabaret\, 1333 Nicollet Mall\, Minneapolis
CATEGORIES:Community Events,Fundraisers
ATTACH;FMTTYPE=image/jpeg:https://tcpride.org/wp-content/uploads/2023/05/Roxys-Cabaret-PRIDE-WEEK-2023-Drag-Bingo.jpg
END:VEVENT
END:VCALENDAR