BEGIN:VCALENDAR
VERSION:2.0
PRODID:-//Twin Cities Pride - ECPv6.13.2.1//NONSGML v1.0//EN
CALSCALE:GREGORIAN
METHOD:PUBLISH
X-ORIGINAL-URL:https://tcpride.org
X-WR-CALDESC:Events for Twin Cities Pride
REFRESH-INTERVAL;VALUE=DURATION:PT1H
X-Robots-Tag:noindex
X-PUBLISHED-TTL:PT1H
BEGIN:VTIMEZONE
TZID:America/Chicago
BEGIN:DAYLIGHT
TZOFFSETFROM:-0600
TZOFFSETTO:-0500
TZNAME:CDT
DTSTART:20230312T080000
END:DAYLIGHT
BEGIN:STANDARD
TZOFFSETFROM:-0500
TZOFFSETTO:-0600
TZNAME:CST
DTSTART:20231105T070000
END:STANDARD
END:VTIMEZONE
BEGIN:VEVENT
DTSTART;VALUE=DATE:20230618
DTEND;VALUE=DATE:20230625
DTSTAMP:20260422T012932
CREATED:20230428T192105Z
LAST-MODIFIED:20230502T133007Z
UID:36440-1687057200-1687575599@tcpride.org
SUMMARY:Camp True Colors - All LGBTQ+ youth - Ages 11-17
DESCRIPTION:Camp True Colors is a place designed just for LGBTQ+ youth\, where you can have fun and enjoy summer camp activities in a welcoming environment\, while building community with peers and adults with similar shared experiences.
URL:https://tcpride.org/event/camp-true-colors-all-lgbtq-youth-ages-11-17/
LOCATION:MN
CATEGORIES:Community Events
ATTACH;FMTTYPE=image/png:https://tcpride.org/wp-content/uploads/2023/04/CAMP-TRUE-COLORS-FINAL-FULL-COLOR.png
END:VEVENT
BEGIN:VEVENT
DTSTART;TZID=America/Chicago:20230622T163000
DTEND;TZID=America/Chicago:20230622T200000
DTSTAMP:20260422T012932
CREATED:20230611T211438Z
LAST-MODIFIED:20230611T211438Z
UID:37956-1687451400-1687464000@tcpride.org
SUMMARY:2023 Minnesota Lavender Bar Association Pride Social
DESCRIPTION:Please join the Minnesota Lavender Bar Association (MLBA) for our annual pride social event on June 22nd from 4:30 p.m. to 8:00 p.m. on the rooftop patio at The Hennepin. \nThe MLBA is an association of lawyers\, law students\, judicial officers\, and other legal professionals striving to promote fairness and equality for the LGBTQ+ community within the legal industry and within Minnesota at large. \nIn the spirit of pride\, we are welcoming all of the legal community to attend.  No MLBA membership required\, but please be sure to RSVP in advance:  https://mnlavbar.org/event-list/#!event/2023/6/22/mlba-2023-pride-event
URL:https://tcpride.org/event/2023-minnesota-lavender-bar-association-pride-social/
LOCATION:Hennepin Theatre Trust Building\, 900 Hennepin Ave\, Minneapolis\, MN\, 55403\, United States
CATEGORIES:Community Events
ATTACH;FMTTYPE=image/png:https://tcpride.org/wp-content/uploads/2023/06/2023-MLBA-Pride-Event.png
ORGANIZER;CN="Minnesota Lavender Bar Association":MAILTO:info@mnlavbar.org
END:VEVENT
BEGIN:VEVENT
DTSTART;TZID=America/Chicago:20230622T180000
DTEND;TZID=America/Chicago:20230622T210000
DTSTAMP:20260422T012932
CREATED:20230606T164131Z
LAST-MODIFIED:20230606T164131Z
UID:37758-1687456800-1687467600@tcpride.org
SUMMARY:Sober Experiences Awesome Business Launch Partayy!
DESCRIPTION:Sober Experiences Awesome is COMING OUT Pride weekend! And we are hosting a FREE event to bring the sober and queer community together to try all the best NA beverages\, tap into their support network before the alcohol-infused weekend\, and to show you what being sexy AND sober is all about!  \nSober-curious? In recovery? Just not drinking tonight? AWESOME!  \nWe will have bougie NA beverages galore to sample and sip\, apps\, snacks\, give-aways\, SWAG BAGS\, a super gay DJ aka dance party\, activities\, and MORE!   \nThe best part.. We want to know what YOU want Sober Experiences Awesome to become and which NA beverages are the best solution to helping you feel included\, stay sober\, and feel AWESOME.  Sober Experiences Awesome will be built for the community – by the community.  \nAnd we can’t wait to tell you about the next couple of events that we have in the works! \nSo\, what is Sober Experiences Awesome?! \n​Sober Experiences Awesome is the community and connection for long-term recovery.  Our mission is to create the space and product where queer\, sober adults can foster strong relationships\, explore their identities\, and enjoy alcohol-free beverages and experiences. \nSober cheer and NA beer are our thing.  We believe one of the easiest ways to shift behavioral patterns around drinking is by\, well\, drinking. Drinking alcohol-free drinks that is. And\, that’s why we have beverage solutions (0.0 ABV) that are celebratory at all our events. \nWhile having a beverage solution can help with an immediate recovery need\, community and connection is the icing on the cake. We will host events that are centered around the unique needs of the recovery community and celebrate those who are struggling with feeling awesome. We create a one-of-a-kind experience\, one that you won’t forget. The type of experience that makes you actually want to stay sober. Sober Experiences Awesome welcomes everyone in LGBTQIA+ community\, recovery\, and anyone who’s awesome.
URL:https://tcpride.org/event/sober-experiences-awesome-business-launch-partayy-2023/
LOCATION:Uptown Collab Rooftop\, 3001 Hennepin Ave S\, Minneapolis\, MN\, 55408
CATEGORIES:Community Events
ATTACH;FMTTYPE=image/png:https://tcpride.org/wp-content/uploads/2023/06/Untitled-design.png
END:VEVENT
BEGIN:VEVENT
DTSTART;TZID=America/Chicago:20230622T183000
DTEND;TZID=America/Chicago:20230622T210000
DTSTAMP:20260422T012932
CREATED:20230608T201353Z
LAST-MODIFIED:20230608T201353Z
UID:37890-1687458600-1687467600@tcpride.org
SUMMARY:Pride Panel: Cultivating Connections Through Queer Art and Performance
DESCRIPTION:Join us for a Pride panel discussion and artist activations! Local queer artists will come together for a conversation around their unique artistic practices and how they intertwine with their LGBTQIA+ and other identities. The discussion will be followed by activations from the artists. \nFeatured panelists: Kehayr Brown-Ransaw\, Trista Marie McGovern\, Julia Starr\nEvent moderated by: Juleana Enright
URL:https://tcpride.org/event/pride-panel-cultivating-connections-through-queer-art-and-performance/
LOCATION:Minneapolis Institute of Art\, 2400 3rd Avenue South\, Minneapolis\, MN\, 55404\, United States
CATEGORIES:Community Events
ATTACH;FMTTYPE=image/jpeg:https://tcpride.org/wp-content/uploads/2023/06/Panel-6.22-photo-scaled-1.jpg
ORGANIZER;CN="Minneapolis Institute of Art":MAILTO:visit@artsmia.org
END:VEVENT
BEGIN:VEVENT
DTSTART;TZID=America/Chicago:20230622T183000
DTEND;TZID=America/Chicago:20230622T210000
DTSTAMP:20260422T012932
CREATED:20230608T201644Z
LAST-MODIFIED:20230608T201644Z
UID:37885-1687458600-1687467600@tcpride.org
SUMMARY:TCQHA Pride Family and Friends Skate & Pride Game
DESCRIPTION:This is a free public event for our water LGBTQIA+ community all are welcome! \nHi Y’all! \nWe are excited to announce our first ever Pride Family and Friends Skate followed by our first Pride Game on Thursday\, June 22\, 2023. \nPlease bring your whole crew including kids! Harvey (aka Stormé) the Narwal will make an appearance for pictures and Shenanigans! \nPride shirts\, stickers\, water bottles\, hats and other TCQHA apparel will be available for purchase. We will provide free stickers\, juice boxes and rainbow cupcakes for the kids AND adults. \nWhen: Thursday\, June 22\, 2023 from 6:30 to 7:30 PM. Please join us after to cheer on our players in a head to head match from 7:45 PM to 8:45 PM. Pop and beer will be served in the parking lot after the game! \nWhere: New Hope Ice Arena\, South Rink\n4949 Louisiana Ave N\nNew Hope\, MN 55428 \nCost: This event is FREE! If you are so inclined in-kind donations are always welcome\, but absolutely not required. All donations help replenish our scholarship fund for LGBTQIA skaters who cannot afford ice time or gear. No amount is too small! \nRentals: Both hockey and figure skates are available in sizes Youth 8 to Adult 13. $3 per pair. \nPlease have the little ones wear a bike helmet to protect their head! \nIf you have any questions feel free to text Dani at 612-554-2365! \nThanks\,\nDani
URL:https://tcpride.org/event/tcqha-pride-family-and-friends-skate-pride-game-2023/
LOCATION:New Hope Ice Arena\, 4949 Louisiana Ave N\, New Hope\, MN\, 55428
CATEGORIES:Community Events
ATTACH;FMTTYPE=image/png:https://tcpride.org/wp-content/uploads/2023/06/9521AC4F-B4C9-4B06-910E-EAC90346D4DF.png
ORGANIZER;CN="TCQHA Twin Cities Queer Hockey Association":MAILTO:TCQHA.info@gmail.com
END:VEVENT
END:VCALENDAR