BEGIN:VCALENDAR
VERSION:2.0
PRODID:-//Twin Cities Pride - ECPv6.13.2.1//NONSGML v1.0//EN
CALSCALE:GREGORIAN
METHOD:PUBLISH
X-WR-CALNAME:Twin Cities Pride
X-ORIGINAL-URL:https://tcpride.org
X-WR-CALDESC:Events for Twin Cities Pride
REFRESH-INTERVAL;VALUE=DURATION:PT1H
X-Robots-Tag:noindex
X-PUBLISHED-TTL:PT1H
BEGIN:VTIMEZONE
TZID:America/Chicago
BEGIN:DAYLIGHT
TZOFFSETFROM:-0600
TZOFFSETTO:-0500
TZNAME:CDT
DTSTART:20230312T080000
END:DAYLIGHT
BEGIN:STANDARD
TZOFFSETFROM:-0500
TZOFFSETTO:-0600
TZNAME:CST
DTSTART:20231105T070000
END:STANDARD
END:VTIMEZONE
BEGIN:VEVENT
DTSTART;VALUE=DATE:20230618
DTEND;VALUE=DATE:20230625
DTSTAMP:20260422T000043
CREATED:20230428T192105Z
LAST-MODIFIED:20230502T133007Z
UID:36440-1687057200-1687575599@tcpride.org
SUMMARY:Camp True Colors - All LGBTQ+ youth - Ages 11-17
DESCRIPTION:Camp True Colors is a place designed just for LGBTQ+ youth\, where you can have fun and enjoy summer camp activities in a welcoming environment\, while building community with peers and adults with similar shared experiences.
URL:https://tcpride.org/event/camp-true-colors-all-lgbtq-youth-ages-11-17/
LOCATION:MN
CATEGORIES:Community Events
ATTACH;FMTTYPE=image/png:https://tcpride.org/wp-content/uploads/2023/04/CAMP-TRUE-COLORS-FINAL-FULL-COLOR.png
END:VEVENT
BEGIN:VEVENT
DTSTART;TZID=America/Chicago:20230623T160000
DTEND;TZID=America/Chicago:20230623T220000
DTSTAMP:20260422T000043
CREATED:20230525T164709Z
LAST-MODIFIED:20230525T164709Z
UID:37448-1687536000-1687557600@tcpride.org
SUMMARY:HOT FRUIT PRIDE LAUNCH PARTY
DESCRIPTION:HOT FRUIT PRIDE LAUNCH \n“AN AL FRESCO DAY DISCO FOR QUEERS AND THEIR LOVERS” \nPut your Out of Office and freakum dress on and join us to kickoff Pride Weekend at our inaugural fruity dance party in The Backyard at Indeed Brewing. \nFEATURING DJs: \nMommy Long Legs \nMamasauce \nPALMBUTTA \n EVENT DETAILS: \n– 21+\, Rain or Shine \n–  Beer\, seltzer\, and THC bevs\, plus tequila and bites from Centro  \n– Enter our ticket raffle for a pair of Beyonce Renaissance Tour Tickets to benefit Trans Justice Funding Project!  *must be present to win* 
URL:https://tcpride.org/event/hot-fruit-pride-launch-party-2023/
LOCATION:Indeed Brewing Company\, 711 NE 15th Ave\, Minneapolis\, MN\, 55413\, United States
CATEGORIES:Community Events
END:VEVENT
BEGIN:VEVENT
DTSTART;TZID=America/Chicago:20230623T183000
DTEND;TZID=America/Chicago:20230623T213000
DTSTAMP:20260422T000043
CREATED:20230504T203834Z
LAST-MODIFIED:20230519T210538Z
UID:36710-1687545000-1687555800@tcpride.org
SUMMARY:Sober Pride Minnesota
DESCRIPTION:Sober Pride Minnesota 2023 \nThis is an open event! \nSupported by Twin Cities Pride. \nJoin us for The 3rd Annual Sober Pride Minnesota! \nJune 23rd\, June 24th & June 25th! \nFriday\, June 23rd join us at Hennepin United Methodist Church\nFrom 6:30pm – 9:30pm \n7pm: Minnesota Recovery Connection presents\n1. Different Paths of Recovery\n2. New vs Old recovery language.\n3. Overdose and Suicide\n4. A Narcan Education/Training \n7:45: Break & Pizza! (Provided by Mother Clucker’s) \n8 to 8:45pm: A Call-Up meeting for attendees to share their experience around the night’s presentation. \n8:45 – 9 pm: Guided Meditation-\nChanin Zellner will lead our guided meditation. Chanin is from the Twin Cities\, she is a quantum healer and a mindfulness coach\, who has a passion for helping people overcome trauma. Learn more about Chanin Zellner @ The Light Vessel: www.thelightvessel.com \n9 – 9:15pm: Clean Up! \nThoughout the night\, we will be asking for donations. All donations will be invested into the current and the next Sober Pride Minnesota event.\nThis is an Adult Appropriate night. \nSaturday\, June 24 & Sunday\, June 25th \n11am – 5pm\, Sat & Sun. \nWe will be grilling in Loring Park.\nBoth Sat & Sun there will be 3 – Two hour shifts (Between 11am to 5pm) at the Sober Pride Minnesota tent/booth\, in Loring Park.\nWe will need grillers and servers for the Hotdogs & Pre-packed Chips for each of those 2 hour shifts. \nThoughout each day\, we will ask for donations. All donations will be invested into the current and the next Sober Pride Minnesota event. \nThe tent is a safe space for people in recovery\, for fellowship with one another and a resource hub for recovery.\nSat & Sun is open to Children. \nQuestions\, contact us: SoberPrideMinnesota@gmail.con \nPlease look and like the new ‘Sober Pride Minnesota’ Facebook page\nhttps://www.facebook.com/profile.php?id=100091587072517&mibextid=ZbWKwL
URL:https://tcpride.org/event/sober-pride-minnesota-2023/
LOCATION:Hennepin Avenue United Methodist Church\, 511 Groveland Ave\, Minneapolis\, MN\, 55403\, United States
CATEGORIES:Community Events,zzTCPride 2023 Events
ATTACH;FMTTYPE=image/png:https://tcpride.org/wp-content/uploads/2023/05/poster_2023-04-18-012514.png
ORGANIZER;CN="Sober Pride Minnesota":MAILTO:SoberPrideMinnesota@gmail.com
END:VEVENT
BEGIN:VEVENT
DTSTART;TZID=America/Chicago:20230623T190000
DTEND;TZID=America/Chicago:20230624T010000
DTSTAMP:20260422T000043
CREATED:20230602T142633Z
LAST-MODIFIED:20230602T142633Z
UID:37641-1687546800-1687568400@tcpride.org
SUMMARY:GRRRL SCOUT: PRIDE SUMMER CAMP
DESCRIPTION:CALLING ALL QUEER CAMPERS!! \n\nJoin us for GRRRL SCOUT’s 10th Annual Summer Camp Pride Party at the Hook and Ladder!! We’re bringing back the block-party vibes with lots of delicious food\, vendors\, games and amazing entertainment! Late nights not your thing?! Get a jump start on PRIDE WEEKEND by enjoying sunset sips and tasty snacks on the patio. We’ll have music and entertainment running all night long.\n\n\nMusic:\nDJ Rosheen (Patio)\nAriAtari (Main Room Theater)\nMommy Long Legs (Mission Room)\n\nBands/Live Music:\nPatio: REYNA (https://reynatheband.myshopify.com/)\nMain Room: Destiny Spike (https://www.youtube.com/watch?v=9S5kHBcxxI4)\n\nPerformances by:\nCoco Dupre (Burlesque)\nPricilla Es Yuicy (Drag)\n\nHosted by:\nQueenie Von Curves\nFeatures:\nExtended Outdoor Patio\nVendors\nOutdoor Games\n(2) Dance Floors\nMultiple Bars\nGender-Neutral Restrooms\nSequeerity Team Mediators \nFood Trucks\n• Bushman Cultural Catering\n• Loncheria Los Amigos\n• The World’s Finest Corndog \nSupporting Sponsors:\nThe Aliveness Project\nSmitten Kitten\nCedar Hill Therapy\nThe Coven\n\nCONSENT IS MANDATORY! Please remember to be considerate and respect others’ personal boundaries. We will not tolerate any racist\, sexist\, ableist\, transphobic or homophobic language during any of our events and reserve the right to remove anyone that is causing harm.
URL:https://tcpride.org/event/grrrl-scout-pride-summer-camp-2023/
LOCATION:Hook and Ladder Theater & Lounge\, 3010 Minnehaha Ave\, Minneapolis\, MN\, 55406\, United States
CATEGORIES:Community Events
ATTACH;FMTTYPE=image/jpeg:https://tcpride.org/wp-content/uploads/2023/06/GRRRL-SCOUT-SUMMER-CAMP-2023.jpg
ORGANIZER;CN="GRRRL SCOUT":MAILTO:grrrlscoutmpls@gmail.com
END:VEVENT
BEGIN:VEVENT
DTSTART;TZID=America/Chicago:20230623T213000
DTEND;TZID=America/Chicago:20230624T000000
DTSTAMP:20260422T000043
CREATED:20230615T040254Z
LAST-MODIFIED:20230615T040254Z
UID:38124-1687555800-1687564800@tcpride.org
SUMMARY:Pride Skate Party
DESCRIPTION:Pride Skate Party at Cheap Skate is an 18+ alcohol free event.\nHosted by Bdot Croc and Hazmat Circus\, this roller skating dance party will feature DJ Neeka SoDope\, Photo Booth by Anne Fry Photography\, “drive thru” style 360 Photo Booth\, plus food/beverages will be available as well as the rink video games to fuel that nostalgia!\nFree Parking\, A/C\, non gendered bathrooms\, and wheelchair friendly/accessible rink floor.
URL:https://tcpride.org/event/pride-skate-party-2023/
LOCATION:Cheap Skate Roller Center\, 3075 Coon Rapids Boulevard\, Coon Rapids\, MN\, 55433\, United States
CATEGORIES:Community Events
ATTACH;FMTTYPE=image/jpeg:https://tcpride.org/wp-content/uploads/2023/06/98423BB7-EB76-46D1-A613-DC9824862D4B.jpeg
ORGANIZER;CN="Bdot Croc and Hazmat Circus":MAILTO:hazmat.circus@gmail.com
END:VEVENT
BEGIN:VEVENT
DTSTART;TZID=America/Chicago:20230623T220000
DTEND;TZID=America/Chicago:20230624T020000
DTSTAMP:20260422T000043
CREATED:20230526T140102Z
LAST-MODIFIED:20230526T140102Z
UID:37475-1687557600-1687572000@tcpride.org
SUMMARY:DecaDance: Pride
DESCRIPTION:DecaDance is a multi-disciplinary music and dance event hosted at the James Ballentine Uptown VFW. Hosted by a collective of dancers and DJ’s.\nThis time we’re glad to share the night with DJ MAMASAUCE & drag performances by Brotein Shake & more💪🏾
URL:https://tcpride.org/event/decadance-pride-2/
LOCATION:James Ballentine “Uptown” VFW\, 2916 Lyndale Ave S\, 55408\, Minneapolis\, MN\, 55408\, United States
CATEGORIES:Community Events
ATTACH;FMTTYPE=image/jpeg:https://tcpride.org/wp-content/uploads/2023/05/348356062_3654685828154092_4153498238660140194_n.jpg
END:VEVENT
END:VCALENDAR