BEGIN:VCALENDAR
VERSION:2.0
PRODID:-//Twin Cities Pride - ECPv6.13.2.1//NONSGML v1.0//EN
CALSCALE:GREGORIAN
METHOD:PUBLISH
X-WR-CALNAME:Twin Cities Pride
X-ORIGINAL-URL:https://tcpride.org
X-WR-CALDESC:Events for Twin Cities Pride
REFRESH-INTERVAL;VALUE=DURATION:PT1H
X-Robots-Tag:noindex
X-PUBLISHED-TTL:PT1H
BEGIN:VTIMEZONE
TZID:America/Chicago
BEGIN:DAYLIGHT
TZOFFSETFROM:-0600
TZOFFSETTO:-0500
TZNAME:CDT
DTSTART:20230312T080000
END:DAYLIGHT
BEGIN:STANDARD
TZOFFSETFROM:-0500
TZOFFSETTO:-0600
TZNAME:CST
DTSTART:20231105T070000
END:STANDARD
END:VTIMEZONE
BEGIN:VEVENT
DTSTART;TZID=America/Chicago:20230624T170000
DTEND;TZID=America/Chicago:20230724T220000
DTSTAMP:20260421T222928
CREATED:20230608T201447Z
LAST-MODIFIED:20230608T201447Z
UID:37857-1687626000-1690236000@tcpride.org
SUMMARY:Palmer's Pride Party
DESCRIPTION:Minniaux presents our first pride event live from that patio of Palmer’s Bar in Minneapolis. Please join us for a party of love\, beautiful vibes and live music. DJ Nanobyte will provide the sounds and spins\, as we are joined by seven amazing artists of all different backgrounds. They will rock out live!
URL:https://tcpride.org/event/palmers-pride-party-2023/
LOCATION:Palmer’s Bar\, 500 Cedar Ave\, Minneapolis\, MN\, 55454\, United States
CATEGORIES:Community Events
ATTACH;FMTTYPE=image/jpeg:https://tcpride.org/wp-content/uploads/2023/06/palmers.jpeg
ORGANIZER;CN="Minniaux":MAILTO:minniaux@gmail.com
END:VEVENT
END:VCALENDAR