BEGIN:VCALENDAR
VERSION:2.0
PRODID:-//Twin Cities Pride - ECPv6.13.2.1//NONSGML v1.0//EN
CALSCALE:GREGORIAN
METHOD:PUBLISH
X-WR-CALNAME:Twin Cities Pride
X-ORIGINAL-URL:https://tcpride.org
X-WR-CALDESC:Events for Twin Cities Pride
REFRESH-INTERVAL;VALUE=DURATION:PT1H
X-Robots-Tag:noindex
X-PUBLISHED-TTL:PT1H
BEGIN:VTIMEZONE
TZID:America/Chicago
BEGIN:DAYLIGHT
TZOFFSETFROM:-0600
TZOFFSETTO:-0500
TZNAME:CDT
DTSTART:20230312T080000
END:DAYLIGHT
BEGIN:STANDARD
TZOFFSETFROM:-0500
TZOFFSETTO:-0600
TZNAME:CST
DTSTART:20231105T070000
END:STANDARD
END:VTIMEZONE
BEGIN:VEVENT
DTSTART;VALUE=DATE:20230723
DTEND;VALUE=DATE:20230806
DTSTAMP:20260421T222018
CREATED:20230428T195856Z
LAST-MODIFIED:20230502T133052Z
UID:36458-1690081200-1691204399@tcpride.org
SUMMARY:Camp True Colors - All LGBTQ+ youth - Ages 12-17
DESCRIPTION:Camp True Colors is a place designed just for LGBTQ+ youth\, where you can have fun and enjoy summer camp activities in a welcoming environment\, while building community with peers and adults with similar shared experiences. \noneheartland.org \n 
URL:https://tcpride.org/event/camp-true-colors-all-lgbtq-youth-ages-12-17/
LOCATION:MN
CATEGORIES:Community Events
ATTACH;FMTTYPE=image/png:https://tcpride.org/wp-content/uploads/2023/04/CAMP-TRUE-COLORS-FINAL-FULL-COLOR-3.png
END:VEVENT
BEGIN:VEVENT
DTSTART;TZID=America/Chicago:20230729T130000
DTEND;TZID=America/Chicago:20230729T143000
DTSTAMP:20260421T222018
CREATED:20230703T192022Z
LAST-MODIFIED:20230703T192022Z
UID:38564-1690635600-1690641000@tcpride.org
SUMMARY:POWER: All Ages Drag Show
DESCRIPTION:Luzious Entertainment is proud to present the POWER’s All Ages Show at Can Can Wonderland in St. Paul. This show will be fun for all ages and feature performances by local queer youth. Hosted by media personality Lala Luzious (Jay Leno’s You Bet Your Life)\, don’t miss fun performances by Kylieee with 3 E’s\, Kiki Galore\, Dick VonDyke\, Michelle Cassadine\, and Spectrum St. Variety. $12 cover per person which includes full entry to the arcade Can Can Wonderland!
URL:https://tcpride.org/event/power-all-ages-drag-show-2/
LOCATION:Can Can Wonderland\, 755 Prior Ave N\, St. Paul\, MN\, 55104\, United States
CATEGORIES:Community Events
ATTACH;FMTTYPE=image/jpeg:https://tcpride.org/wp-content/uploads/2023/06/Untitled-Facebook-Cover-1-scaled.jpg
ORGANIZER;CN="POWER%3A Drag Revue":MAILTO:info@luziousentertainment.com
END:VEVENT
END:VCALENDAR