BEGIN:VCALENDAR
VERSION:2.0
PRODID:-//Twin Cities Pride - ECPv6.13.2.1//NONSGML v1.0//EN
CALSCALE:GREGORIAN
METHOD:PUBLISH
X-ORIGINAL-URL:https://tcpride.org
X-WR-CALDESC:Events for Twin Cities Pride
REFRESH-INTERVAL;VALUE=DURATION:PT1H
X-Robots-Tag:noindex
X-PUBLISHED-TTL:PT1H
BEGIN:VTIMEZONE
TZID:America/Chicago
BEGIN:DAYLIGHT
TZOFFSETFROM:-0600
TZOFFSETTO:-0500
TZNAME:CDT
DTSTART:20230312T080000
END:DAYLIGHT
BEGIN:STANDARD
TZOFFSETFROM:-0500
TZOFFSETTO:-0600
TZNAME:CST
DTSTART:20231105T070000
END:STANDARD
END:VTIMEZONE
BEGIN:VEVENT
DTSTART;VALUE=DATE:20230930
DTEND;VALUE=DATE:20231004
DTSTAMP:20260421T182834
CREATED:20230214T174515Z
LAST-MODIFIED:20230214T174525Z
UID:35592-1696042800-1696301999@tcpride.org
SUMMARY:BECAUSE
DESCRIPTION:BECAUSE (“Bi+ Empowerment Conference: A Uniting\, Supportive Experience”) is the annual conference of the Bisexual Organizing Project (BOP)\, dedicated to building empowered bi\, pan\, fluid\, queer\, unlabeled (bi+)\, and allied communities. The conference was founded in 1992 by a handful of bi+ activists and has grown into the largest conference centered around non-monosexual identities in the United States. BECAUSE strives to be welcoming and inclusive – embracing the many intersectionalities of the bi+ communities and encouraging people of all backgrounds and experiences to join us for this weekend full of networking\, community building\, education\, and organizing to create a more welcoming\, inclusive\, and equitable LGBTQIA community.
URL:https://tcpride.org/event/because-2023/
LOCATION:Wellstone Center\, St Paul\, MN\, United States
CATEGORIES:Community Events
ATTACH;FMTTYPE=image/jpeg:https://tcpride.org/wp-content/uploads/2023/02/Copy-of-BECAUSEHeaders_640x360.jpg
ORGANIZER;CN="Bisexual Organizing Project":MAILTO:because@bisexualorganizingconference.org
END:VEVENT
END:VCALENDAR