BEGIN:VCALENDAR
VERSION:2.0
PRODID:-//Twin Cities Pride - ECPv6.13.2.1//NONSGML v1.0//EN
CALSCALE:GREGORIAN
METHOD:PUBLISH
X-WR-CALNAME:Twin Cities Pride
X-ORIGINAL-URL:https://tcpride.org
X-WR-CALDESC:Events for Twin Cities Pride
REFRESH-INTERVAL;VALUE=DURATION:PT1H
X-Robots-Tag:noindex
X-PUBLISHED-TTL:PT1H
BEGIN:VTIMEZONE
TZID:America/Chicago
BEGIN:DAYLIGHT
TZOFFSETFROM:-0600
TZOFFSETTO:-0500
TZNAME:CDT
DTSTART:20230312T080000
END:DAYLIGHT
BEGIN:STANDARD
TZOFFSETFROM:-0500
TZOFFSETTO:-0600
TZNAME:CST
DTSTART:20231105T070000
END:STANDARD
END:VTIMEZONE
BEGIN:VEVENT
DTSTART;TZID=America/Chicago:20231015T130000
DTEND;TZID=America/Chicago:20231015T160000
DTSTAMP:20260421T182736
CREATED:20230929T194443Z
LAST-MODIFIED:20230929T194443Z
UID:39233-1697374800-1697385600@tcpride.org
SUMMARY:3rd Annual LGBTQ+ Youth and Families Spirit Day
DESCRIPTION:Spirit Day is a free-to-attend celebration event for LGBTQ+ youth. This unique event brings together creativity\, art\, music\, and food in a space where LGBTQ+ youth can feel safe and empowered to be their true selves. Open to all LGBTQ+ folx – families\, adults\, elders\, youth\, and anyone who loves them. \nNow more than ever\, it’s important for the LGBTQ+ community to invest in joy. As we watch legislation work against us\, with 496 proposed anti-LGBTQIA+ proposed bills nationwide\, hear political pundits call for the erasure of our identities\, and experience targeted hate at an all time high\, we must take time out of our schedules to celebrate. Celebrate ourselves\, our families\, our successes\, our losses\, and everything that makes us ourselves.With local entertainers and activities\, all members of your family will find something enjoyable to do.
URL:https://tcpride.org/event/3rd-annual-lgbtq-youth-and-families-spirit-day/
LOCATION:Victory Park\, 4414 Upton Ave North\, Minneapolis\, MN\, 55412\, United States
CATEGORIES:Community Events
ATTACH;FMTTYPE=image/png:https://tcpride.org/wp-content/uploads/2023/09/InstagramSquare.png
ORGANIZER;CN="QUEERSPACE collective":MAILTO:info@queerspacecollective.org
END:VEVENT
END:VCALENDAR