BEGIN:VCALENDAR
VERSION:2.0
PRODID:-//Twin Cities Pride - ECPv6.13.2.1//NONSGML v1.0//EN
CALSCALE:GREGORIAN
METHOD:PUBLISH
X-WR-CALNAME:Twin Cities Pride
X-ORIGINAL-URL:https://tcpride.org
X-WR-CALDESC:Events for Twin Cities Pride
REFRESH-INTERVAL;VALUE=DURATION:PT1H
X-Robots-Tag:noindex
X-PUBLISHED-TTL:PT1H
BEGIN:VTIMEZONE
TZID:America/Chicago
BEGIN:DAYLIGHT
TZOFFSETFROM:-0600
TZOFFSETTO:-0500
TZNAME:CDT
DTSTART:20240310T080000
END:DAYLIGHT
BEGIN:STANDARD
TZOFFSETFROM:-0500
TZOFFSETTO:-0600
TZNAME:CST
DTSTART:20241103T070000
END:STANDARD
END:VTIMEZONE
BEGIN:VEVENT
DTSTART;TZID=America/Chicago:20240302T140000
DTEND;TZID=America/Chicago:20240302T170000
DTSTAMP:20260421T110601
CREATED:20240223T011534Z
LAST-MODIFIED:20240223T011534Z
UID:42318-1709388000-1709398800@tcpride.org
SUMMARY:MPLS Stitch Shop Presents: TCQHA’s Winter Wonderland
DESCRIPTION:Hello~ \n\nPlease join us for MPLS Stitch Shop Presents: Twin Cities Queer Hockey Association’s Winter Wonderland on Saturday March 2nd\, 2024 from 2pm – 5pm. Everyone is welcome! \nEvent Details: \nBeginner/Intermediate Game 2pm \nCome play a lower level outdoor game with 2 periods and referees\, this game is great for players who are new to the game. \nTCQHA Family Skate at 3pm \nBring your loved ones\, family\, and friends to come skate with us outdoors for laughs and fun. \nIntermediate/Advanced Game at 4pm \nCome play a upper level outdoor game with 2 periods and referees\, this game is great for players who know the game forward and backwards.
URL:https://tcpride.org/event/mpls-stitch-shop-presents-tcqhas-winter-wonderland/
LOCATION:MN
CATEGORIES:Community Events
ATTACH;FMTTYPE=image/jpeg:https://tcpride.org/wp-content/uploads/2024/02/IMG_7023.jpeg
ORGANIZER;CN="TCQHA Twin Cities Queer Hockey Association":MAILTO:TCQHA.info@gmail.com
END:VEVENT
END:VCALENDAR