BEGIN:VCALENDAR
VERSION:2.0
PRODID:-//Twin Cities Pride - ECPv6.13.2.1//NONSGML v1.0//EN
CALSCALE:GREGORIAN
METHOD:PUBLISH
X-WR-CALNAME:Twin Cities Pride
X-ORIGINAL-URL:https://tcpride.org
X-WR-CALDESC:Events for Twin Cities Pride
REFRESH-INTERVAL;VALUE=DURATION:PT1H
X-Robots-Tag:noindex
X-PUBLISHED-TTL:PT1H
BEGIN:VTIMEZONE
TZID:America/Chicago
BEGIN:DAYLIGHT
TZOFFSETFROM:-0600
TZOFFSETTO:-0500
TZNAME:CDT
DTSTART:20240310T080000
END:DAYLIGHT
BEGIN:STANDARD
TZOFFSETFROM:-0500
TZOFFSETTO:-0600
TZNAME:CST
DTSTART:20241103T070000
END:STANDARD
END:VTIMEZONE
BEGIN:VEVENT
DTSTART;TZID=America/Chicago:20240309T090000
DTEND;TZID=America/Chicago:20240309T150000
DTSTAMP:20260421T110648
CREATED:20240206T005154Z
LAST-MODIFIED:20240206T005155Z
UID:41666-1709974800-1709996400@tcpride.org
SUMMARY:Rainbow Wardrobe Open House
DESCRIPTION:Come check out our Rainbow Wardrobe Open House this Saturday and Sunday from 9:00am-3:00pm at the Twin Cities Pride Office! We’re bringing the wardrobe upstairs to be as accessible as possible! Rainbow Wardrobe is a zero cost\, gender affirming wardrobe. We’re fully stocked with shoes\, winter wear\, accessories\, casual wear\, professional wear\, and more!
URL:https://tcpride.org/event/rainbow-wardrobe-open-house-2/
LOCATION:Twin Cities Pride Office\, 1618 Harmon Place\, Minneapolis\, MN\, 55403\, United States
CATEGORIES:Community Events,zzTCPride 2024 Events
ATTACH;FMTTYPE=image/png:https://tcpride.org/wp-content/uploads/2024/02/Screen-Shot-2024-02-05-at-3.42.34-PM.png
END:VEVENT
END:VCALENDAR