BEGIN:VCALENDAR
VERSION:2.0
PRODID:-//Twin Cities Pride - ECPv6.13.2.1//NONSGML v1.0//EN
CALSCALE:GREGORIAN
METHOD:PUBLISH
X-ORIGINAL-URL:https://tcpride.org
X-WR-CALDESC:Events for Twin Cities Pride
REFRESH-INTERVAL;VALUE=DURATION:PT1H
X-Robots-Tag:noindex
X-PUBLISHED-TTL:PT1H
BEGIN:VTIMEZONE
TZID:America/Chicago
BEGIN:DAYLIGHT
TZOFFSETFROM:-0600
TZOFFSETTO:-0500
TZNAME:CDT
DTSTART:20240310T080000
END:DAYLIGHT
BEGIN:STANDARD
TZOFFSETFROM:-0500
TZOFFSETTO:-0600
TZNAME:CST
DTSTART:20241103T070000
END:STANDARD
END:VTIMEZONE
BEGIN:VEVENT
DTSTART;VALUE=DATE:20240328
DTEND;VALUE=DATE:20241015
DTSTAMP:20260421T093920
CREATED:20240328T212546Z
LAST-MODIFIED:20240328T212546Z
UID:43317-1711594800-1728874799@tcpride.org
SUMMARY:TOGETHER
DESCRIPTION:Together is a mixed media art exhibition featuring artwork from ten Minnesota artist families of diverse ages and family structures who have created individual and communal work for the exhibition. Artists Emmett and Kit Ramstad conceived this project to elevate children’s artwork and provide a space for parent artists to support each other as they fulfill the roles of parents and artists while raising a new generation of makers. Together uplifts mixed generational creativity by showcasing artists who have contributed hugely to Minnesota’s artistic community and their children who are integral influences to their practice. \n\n\n\n\nPARTICIPATING ARTISTS: \nSayge Carroll\, Morgan Laramy; Preston Drum\, Elvis and Leroy Drum; Isa Gagarin\, Rae Gordon; Pao Her\, Vince and Kailee Yang; Amanda Lovelee\, Walden Waites; Avigail Manneberg\, Kaiah and Micah Manneberg-Tompkins; Emmett Ramstad\, Kit Aizura Ramstad; Anna Marie Shogren\, Wally Glenn-Shogren; Aki Shibata\, Atom Shibata Pliner and Yukiko Shibata Colburn; Jonathan Thunder\,  Mino Hart Thunder
URL:https://tcpride.org/event/together/
LOCATION:the M (Minnesota Museum of American Art)\, 350 Robert Street North\, St Paul\, MN\, 55101\, United States
CATEGORIES:Community Events
ATTACH;FMTTYPE=image/png:https://tcpride.org/wp-content/uploads/2024/03/Asset-2.png
ORGANIZER;CN="the M (Minneosta Museum of American Art)":MAILTO:info@mmaa.org
END:VEVENT
BEGIN:VEVENT
DTSTART;TZID=America/Chicago:20240427T110000
DTEND;TZID=America/Chicago:20240427T140000
DTSTAMP:20260421T093920
CREATED:20240310T003201Z
LAST-MODIFIED:20240310T003201Z
UID:42683-1714215600-1714226400@tcpride.org
SUMMARY:Queer Career Job Fair
DESCRIPTION:The Queer Career Job Fair is an event where individuals can utilize the skills they acquired during the Queer Career Resource Fair. Our goal is to create space where individuals can network and communicate with safe and accepting organizations and businesses who are looking to fill employment rolls with hard working and passionate individuals.
URL:https://tcpride.org/event/queer-career-job-fair/
LOCATION:Twin Cities Pride Office\, 1618 Harmon Place\, Minneapolis\, MN\, 55403\, United States
CATEGORIES:Community Events,zzTCPride 2024 Events
ATTACH;FMTTYPE=image/png:https://tcpride.org/wp-content/uploads/2024/03/QUEER-CAREERJOB-FAIR-2.png
END:VEVENT
BEGIN:VEVENT
DTSTART;TZID=America/Chicago:20240427T110000
DTEND;TZID=America/Chicago:20240427T160000
DTSTAMP:20260421T093920
CREATED:20240416T161738Z
LAST-MODIFIED:20240416T161738Z
UID:44059-1714215600-1714233600@tcpride.org
SUMMARY:WILD VNTG MRKT | April Edition
DESCRIPTION:Wild Things Antiques a gayly owned and operated vintage shop and their 40+ dealer vintage mall the Wild Vintage Collective host their monthly WILD VNTG MRKT with many LGBTQIA local makers and bakers. There will be a food truck and sales throughout Wild Things and the Wild Vintage Collective.
URL:https://tcpride.org/event/wild-vntg-mrkt-april-edition/
LOCATION:wild things antiques\, 7270 Commerce Circle East\, Fridley\, MN\, 55432\, United States
CATEGORIES:Community Events
ATTACH;FMTTYPE=image/png:https://tcpride.org/wp-content/uploads/2024/04/April-2024@2x.png
ORGANIZER;CN="Wild Things Antiques":MAILTO:contact@wildthingsantiques.com
END:VEVENT
BEGIN:VEVENT
DTSTART;TZID=America/Chicago:20240427T200000
DTEND;TZID=America/Chicago:20240427T230000
DTSTAMP:20260421T093920
CREATED:20240425T153325Z
LAST-MODIFIED:20240425T153325Z
UID:44634-1714248000-1714258800@tcpride.org
SUMMARY:Pancakes & Booze Pop-up!
DESCRIPTION:International Pop-Up event. FREE PANCAKES\, DJs\, Body Painting\, 100+ emerging artists.
URL:https://tcpride.org/event/pancakes-booze-pop-up/
LOCATION:Granada Theater\, 3022 Hennepin Ave\, Minneapolis\, MN\, 55408\, United States
CATEGORIES:Artist in Residence,Community Events
ATTACH;FMTTYPE=image/png:https://tcpride.org/wp-content/uploads/2024/04/pancakes.png
END:VEVENT
END:VCALENDAR