BEGIN:VCALENDAR
VERSION:2.0
PRODID:-//Twin Cities Pride - ECPv6.13.2.1//NONSGML v1.0//EN
CALSCALE:GREGORIAN
METHOD:PUBLISH
X-WR-CALNAME:Twin Cities Pride
X-ORIGINAL-URL:https://tcpride.org
X-WR-CALDESC:Events for Twin Cities Pride
REFRESH-INTERVAL;VALUE=DURATION:PT1H
X-Robots-Tag:noindex
X-PUBLISHED-TTL:PT1H
BEGIN:VTIMEZONE
TZID:America/Chicago
BEGIN:DAYLIGHT
TZOFFSETFROM:-0600
TZOFFSETTO:-0500
TZNAME:CDT
DTSTART:20240310T080000
END:DAYLIGHT
BEGIN:STANDARD
TZOFFSETFROM:-0500
TZOFFSETTO:-0600
TZNAME:CST
DTSTART:20241103T070000
END:STANDARD
END:VTIMEZONE
BEGIN:VEVENT
DTSTART;VALUE=DATE:20240328
DTEND;VALUE=DATE:20241015
DTSTAMP:20260421T213027
CREATED:20240328T212546Z
LAST-MODIFIED:20240328T212546Z
UID:43317-1711594800-1728874799@tcpride.org
SUMMARY:TOGETHER
DESCRIPTION:Together is a mixed media art exhibition featuring artwork from ten Minnesota artist families of diverse ages and family structures who have created individual and communal work for the exhibition. Artists Emmett and Kit Ramstad conceived this project to elevate children’s artwork and provide a space for parent artists to support each other as they fulfill the roles of parents and artists while raising a new generation of makers. Together uplifts mixed generational creativity by showcasing artists who have contributed hugely to Minnesota’s artistic community and their children who are integral influences to their practice. \n\n\n\n\nPARTICIPATING ARTISTS: \nSayge Carroll\, Morgan Laramy; Preston Drum\, Elvis and Leroy Drum; Isa Gagarin\, Rae Gordon; Pao Her\, Vince and Kailee Yang; Amanda Lovelee\, Walden Waites; Avigail Manneberg\, Kaiah and Micah Manneberg-Tompkins; Emmett Ramstad\, Kit Aizura Ramstad; Anna Marie Shogren\, Wally Glenn-Shogren; Aki Shibata\, Atom Shibata Pliner and Yukiko Shibata Colburn; Jonathan Thunder\,  Mino Hart Thunder
URL:https://tcpride.org/event/together/
LOCATION:the M (Minnesota Museum of American Art)\, 350 Robert Street North\, St Paul\, MN\, 55101\, United States
CATEGORIES:Community Events
ATTACH;FMTTYPE=image/png:https://tcpride.org/wp-content/uploads/2024/03/Asset-2.png
ORGANIZER;CN="the M (Minneosta Museum of American Art)":MAILTO:info@mmaa.org
END:VEVENT
BEGIN:VEVENT
DTSTART;TZID=America/Chicago:20240614T213000
DTEND;TZID=America/Chicago:20240615T000000
DTSTAMP:20260421T213027
CREATED:20240507T011525Z
LAST-MODIFIED:20240507T011525Z
UID:45282-1718400600-1718409600@tcpride.org
SUMMARY:Pride Skate Party
DESCRIPTION:It’s time for the THIRD annual official Pride Skate at Cheap Skate!Looking for something fun and different to celebrate Pride this June?Come check out the coolest of all retro parties- roller skating! With music by local legend DJ Shannon Blowtorch\, our tireless and colorful hosts Hazmat Circus and Chelsea Glitz Grenade\, and a really excellent upgraded sound and lighting system\, this party is sure to go off!\nFun Details:-Local LGBTQIA+ and BIPOC creative vendors (TBA in event posts)-Photo booth by Anne Fry Photography-Big Gay Rainbow cake by Laurie’s Sweet Sensations!-Substance-free party so everyone can feel welcome and safe-More cool stuff TBA!\nBoring details:-Ticket link will be posted in the event page and Pinned to the top-18+ so please bring your ID or ya can’t get in!-Please no alcohol brought into the establishment-Admission is $15 if you buy presale and $20 at the door-We have rentals! Both Inline and Quad skates. Rentals are $5-Yes the entire building is wheelchair/mobility aid accessible INCLUDING the skate floor! We welcome all types of wheels! Contact Angela Higgins with any questions.-Snack bar/Stuff Shop/Skate sales/games will all be open during this event
URL:https://tcpride.org/event/pride-skate-party/
LOCATION:Cheap Skate Roller Center\, 3075 Coon Rapids Boulevard\, Coon Rapids\, MN\, 55433\, United States
CATEGORIES:Community Events,zzTCPride 2024 Events
ATTACH;FMTTYPE=image/jpeg:https://tcpride.org/wp-content/uploads/2024/05/440864326_983250459361763_8787077763655797607_n.jpg
ORGANIZER;CN="Hazmat Circus LLC":MAILTO:hazmat.circus@gmail.com
END:VEVENT
END:VCALENDAR